| Back to Build/check report for BioC 3.22 experimental data |
|
This page was generated on 2025-10-23 15:41 -0400 (Thu, 23 Oct 2025).
| Hostname | OS | Arch (*) | R version | Installed pkgs |
|---|---|---|---|---|
| nebbiolo2 | Linux (Ubuntu 24.04.3 LTS) | x86_64 | 4.5.1 Patched (2025-08-23 r88802) -- "Great Square Root" | 4894 |
| Click on any hostname to see more info about the system (e.g. compilers) (*) as reported by 'uname -p', except on Windows and Mac OS X | ||||
| Package 383/435 | Hostname | OS / Arch | INSTALL | BUILD | CHECK | ||||||||
| spatialLIBD 1.21.6 (landing page) Leonardo Collado-Torres
| nebbiolo2 | Linux (Ubuntu 24.04.3 LTS) / x86_64 | OK | OK | OK | ||||||||
|
To the developers/maintainers of the spatialLIBD package: - Use the following Renviron settings to reproduce errors and warnings. - If 'R CMD check' started to fail recently on the Linux builder(s) over a missing dependency, add the missing dependency to 'Suggests:' in your DESCRIPTION file. See Renviron.bioc for more information. |
| Package: spatialLIBD |
| Version: 1.21.6 |
| Command: /home/biocbuild/bbs-3.22-bioc/R/bin/R CMD check --install=check:spatialLIBD.install-out.txt --library=/home/biocbuild/bbs-3.22-bioc/R/site-library --timings spatialLIBD_1.21.6.tar.gz |
| StartedAt: 2025-10-23 13:05:32 -0400 (Thu, 23 Oct 2025) |
| EndedAt: 2025-10-23 13:24:46 -0400 (Thu, 23 Oct 2025) |
| EllapsedTime: 1154.4 seconds |
| RetCode: 0 |
| Status: OK |
| CheckDir: spatialLIBD.Rcheck |
| Warnings: 0 |
##############################################################################
##############################################################################
###
### Running command:
###
### /home/biocbuild/bbs-3.22-bioc/R/bin/R CMD check --install=check:spatialLIBD.install-out.txt --library=/home/biocbuild/bbs-3.22-bioc/R/site-library --timings spatialLIBD_1.21.6.tar.gz
###
##############################################################################
##############################################################################
* using log directory ‘/home/biocbuild/bbs-3.22-data-experiment/meat/spatialLIBD.Rcheck’
* using R version 4.5.1 Patched (2025-08-23 r88802)
* using platform: x86_64-pc-linux-gnu
* R was compiled by
gcc (Ubuntu 13.3.0-6ubuntu2~24.04) 13.3.0
GNU Fortran (Ubuntu 13.3.0-6ubuntu2~24.04) 13.3.0
* running under: Ubuntu 24.04.3 LTS
* using session charset: UTF-8
* checking for file ‘spatialLIBD/DESCRIPTION’ ... OK
* this is package ‘spatialLIBD’ version ‘1.21.6’
* package encoding: UTF-8
* checking package namespace information ... OK
* checking package dependencies ... INFO
Imports includes 36 non-default packages.
Importing from so many packages makes the package vulnerable to any of
them becoming unavailable. Move as many as possible to Suggests and
use conditionally.
* checking if this is a source package ... OK
* checking if there is a namespace ... OK
* checking for hidden files and directories ... OK
* checking for portable file names ... OK
* checking for sufficient/correct file permissions ... OK
* checking whether package ‘spatialLIBD’ can be installed ... OK
* checking installed package size ... OK
* checking package directory ... OK
* checking ‘build’ directory ... OK
* checking DESCRIPTION meta-information ... OK
* checking top-level files ... OK
* checking for left-over files ... OK
* checking index information ... OK
* checking package subdirectories ... OK
* checking code files for non-ASCII characters ... OK
* checking R files for syntax errors ... OK
* checking whether the package can be loaded ... OK
* checking whether the package can be loaded with stated dependencies ... OK
* checking whether the package can be unloaded cleanly ... OK
* checking whether the namespace can be loaded with stated dependencies ... OK
* checking whether the namespace can be unloaded cleanly ... OK
* checking loading without being on the library search path ... OK
* checking dependencies in R code ... OK
* checking S3 generic/method consistency ... OK
* checking replacement functions ... OK
* checking foreign function calls ... OK
* checking R code for possible problems ... OK
* checking Rd files ... OK
* checking Rd metadata ... OK
* checking Rd cross-references ... NOTE
Found the following Rd file(s) with Rd \link{} targets missing package
anchors:
check_sce.Rd: SingleCellExperiment-class
check_sce_layer.Rd: SingleCellExperiment-class
fetch_data.Rd: SingleCellExperiment-class
layer_boxplot.Rd: SingleCellExperiment-class
run_app.Rd: SingleCellExperiment-class
sce_to_spe.Rd: SingleCellExperiment-class
sig_genes_extract.Rd: SingleCellExperiment-class
sig_genes_extract_all.Rd: SingleCellExperiment-class
Please provide package anchors for all Rd \link{} targets not in the
package itself and the base packages.
* checking for missing documentation entries ... OK
* checking for code/documentation mismatches ... OK
* checking Rd \usage sections ... OK
* checking Rd contents ... OK
* checking for unstated dependencies in examples ... OK
* checking contents of ‘data’ directory ... OK
* checking data for non-ASCII characters ... OK
* checking LazyData ... OK
* checking data for ASCII and uncompressed saves ... OK
* checking files in ‘vignettes’ ... OK
* checking examples ... OK
Examples with CPU (user + system) or elapsed time > 5s
user system elapsed
vis_gene 27.172 2.257 30.652
vis_clus 22.876 1.917 25.688
add_images 21.201 3.135 26.507
img_update_all 19.013 1.779 21.137
add_key 17.062 2.008 19.889
add_qc_metrics 17.023 1.473 18.762
vis_grid_gene 16.356 1.719 18.907
vis_grid_clus 16.045 1.814 18.585
vis_image 15.840 1.720 18.280
cluster_import 16.092 1.296 18.168
cluster_export 15.772 1.456 17.964
vis_clus_p 14.961 1.407 17.093
vis_gene_p 14.942 1.299 16.960
frame_limits 14.367 1.467 16.516
check_spe 14.242 1.535 17.059
img_update 14.395 1.374 16.459
geom_spatial 14.579 1.151 16.500
img_edit 14.346 1.312 16.403
sce_to_spe 14.038 1.267 16.022
gene_set_enrichment_plot 7.823 0.288 8.509
* checking for unstated dependencies in ‘tests’ ... OK
* checking tests ...
Running ‘testthat.R’
OK
* checking for unstated dependencies in vignettes ... OK
* checking package vignettes ... OK
* checking re-building of vignette outputs ... OK
* checking PDF version of manual ... OK
* DONE
Status: 1 NOTE
See
‘/home/biocbuild/bbs-3.22-data-experiment/meat/spatialLIBD.Rcheck/00check.log’
for details.
spatialLIBD.Rcheck/00install.out
############################################################################## ############################################################################## ### ### Running command: ### ### /home/biocbuild/bbs-3.22-bioc/R/bin/R CMD INSTALL spatialLIBD ### ############################################################################## ############################################################################## * installing to library ‘/home/biocbuild/bbs-3.22-bioc/R/site-library’ * installing *source* package ‘spatialLIBD’ ... ** this is package ‘spatialLIBD’ version ‘1.21.6’ ** using staged installation ** R ** data *** moving datasets to lazyload DB ** inst ** byte-compile and prepare package for lazy loading ** help *** installing help indices *** copying figures ** building package indices ** installing vignettes ** testing if installed package can be loaded from temporary location ** testing if installed package can be loaded from final location ** testing if installed package keeps a record of temporary installation path * DONE (spatialLIBD)
spatialLIBD.Rcheck/tests/testthat.Rout
R version 4.5.1 Patched (2025-08-23 r88802) -- "Great Square Root"
Copyright (C) 2025 The R Foundation for Statistical Computing
Platform: x86_64-pc-linux-gnu
R is free software and comes with ABSOLUTELY NO WARRANTY.
You are welcome to redistribute it under certain conditions.
Type 'license()' or 'licence()' for distribution details.
R is a collaborative project with many contributors.
Type 'contributors()' for more information and
'citation()' on how to cite R or R packages in publications.
Type 'demo()' for some demos, 'help()' for on-line help, or
'help.start()' for an HTML browser interface to help.
Type 'q()' to quit R.
> library(testthat)
> library(spatialLIBD)
Loading required package: SpatialExperiment
Loading required package: SingleCellExperiment
Loading required package: SummarizedExperiment
Loading required package: MatrixGenerics
Loading required package: matrixStats
Attaching package: 'MatrixGenerics'
The following objects are masked from 'package:matrixStats':
colAlls, colAnyNAs, colAnys, colAvgsPerRowSet, colCollapse,
colCounts, colCummaxs, colCummins, colCumprods, colCumsums,
colDiffs, colIQRDiffs, colIQRs, colLogSumExps, colMadDiffs,
colMads, colMaxs, colMeans2, colMedians, colMins, colOrderStats,
colProds, colQuantiles, colRanges, colRanks, colSdDiffs, colSds,
colSums2, colTabulates, colVarDiffs, colVars, colWeightedMads,
colWeightedMeans, colWeightedMedians, colWeightedSds,
colWeightedVars, rowAlls, rowAnyNAs, rowAnys, rowAvgsPerColSet,
rowCollapse, rowCounts, rowCummaxs, rowCummins, rowCumprods,
rowCumsums, rowDiffs, rowIQRDiffs, rowIQRs, rowLogSumExps,
rowMadDiffs, rowMads, rowMaxs, rowMeans2, rowMedians, rowMins,
rowOrderStats, rowProds, rowQuantiles, rowRanges, rowRanks,
rowSdDiffs, rowSds, rowSums2, rowTabulates, rowVarDiffs, rowVars,
rowWeightedMads, rowWeightedMeans, rowWeightedMedians,
rowWeightedSds, rowWeightedVars
Loading required package: GenomicRanges
Loading required package: stats4
Loading required package: BiocGenerics
Loading required package: generics
Attaching package: 'generics'
The following objects are masked from 'package:base':
as.difftime, as.factor, as.ordered, intersect, is.element, setdiff,
setequal, union
Attaching package: 'BiocGenerics'
The following objects are masked from 'package:stats':
IQR, mad, sd, var, xtabs
The following objects are masked from 'package:base':
Filter, Find, Map, Position, Reduce, anyDuplicated, aperm, append,
as.data.frame, basename, cbind, colnames, dirname, do.call,
duplicated, eval, evalq, get, grep, grepl, is.unsorted, lapply,
mapply, match, mget, order, paste, pmax, pmax.int, pmin, pmin.int,
rank, rbind, rownames, sapply, saveRDS, table, tapply, unique,
unsplit, which.max, which.min
Loading required package: S4Vectors
Attaching package: 'S4Vectors'
The following object is masked from 'package:utils':
findMatches
The following objects are masked from 'package:base':
I, expand.grid, unname
Loading required package: IRanges
Loading required package: Seqinfo
Loading required package: Biobase
Welcome to Bioconductor
Vignettes contain introductory material; view with
'browseVignettes()'. To cite Bioconductor, see
'citation("Biobase")', and for packages 'citation("pkgname")'.
Attaching package: 'Biobase'
The following object is masked from 'package:MatrixGenerics':
rowMedians
The following objects are masked from 'package:matrixStats':
anyMissing, rowMedians
>
> test_check("spatialLIBD")
rgstr_> ## Ensure reproducibility of example data
rgstr_> set.seed(20220907)
rgstr_> ## Generate example data
rgstr_> sce <- scuttle::mockSCE()
rgstr_> ## Add some sample IDs
rgstr_> sce$sample_id <- sample(LETTERS[1:5], ncol(sce), replace = TRUE)
rgstr_> ## Add a sample-level covariate: age
rgstr_> ages <- rnorm(5, mean = 20, sd = 4)
rgstr_> names(ages) <- LETTERS[1:5]
rgstr_> sce$age <- ages[sce$sample_id]
rgstr_> ## Add gene-level information
rgstr_> rowData(sce)$gene_id <- paste0("ENSG", seq_len(nrow(sce)))
rgstr_> rowData(sce)$gene_name <- paste0("gene", seq_len(nrow(sce)))
rgstr_> ## Pseudo-bulk by Cell Cycle
rgstr_> sce_pseudo <- registration_pseudobulk(
rgstr_+ sce,
rgstr_+ var_registration = "Cell_Cycle",
rgstr_+ var_sample_id = "sample_id",
rgstr_+ covars = c("age"),
rgstr_+ min_ncells = NULL
rgstr_+ )
rgstr_> colData(sce_pseudo)
DataFrame with 20 rows and 9 columns
Mutation_Status Cell_Cycle Treatment sample_id age
<character> <character> <character> <character> <numeric>
A_G0 NA G0 NA A 19.1872
B_G0 NA G0 NA B 25.3496
C_G0 NA G0 NA C 24.1802
D_G0 NA G0 NA D 15.5211
E_G0 NA G0 NA E 20.9701
... ... ... ... ... ...
A_S NA S NA A 19.1872
B_S NA S NA B 25.3496
C_S NA S NA C 24.1802
D_S NA S NA D 15.5211
E_S NA S NA E 20.9701
registration_variable registration_sample_id ncells pseudo_sum_umi
<character> <character> <integer> <numeric>
A_G0 G0 A 8 2946915
B_G0 G0 B 13 4922867
C_G0 G0 C 9 3398888
D_G0 G0 D 7 2630651
E_G0 G0 E 10 3761710
... ... ... ... ...
A_S S A 12 4516334
B_S S B 8 2960685
C_S S C 7 2595774
D_S S D 14 5233560
E_S S E 11 4151818
rgstr_> rowData(sce_pseudo)
DataFrame with 2000 rows and 3 columns
gene_id gene_name gene_search
<character> <character> <character>
Gene_0001 ENSG1 gene1 gene1; ENSG1
Gene_0002 ENSG2 gene2 gene2; ENSG2
Gene_0003 ENSG3 gene3 gene3; ENSG3
Gene_0004 ENSG4 gene4 gene4; ENSG4
Gene_0005 ENSG5 gene5 gene5; ENSG5
... ... ... ...
Gene_1996 ENSG1996 gene1996 gene1996; ENSG1996
Gene_1997 ENSG1997 gene1997 gene1997; ENSG1997
Gene_1998 ENSG1998 gene1998 gene1998; ENSG1998
Gene_1999 ENSG1999 gene1999 gene1999; ENSG1999
Gene_2000 ENSG2000 gene2000 gene2000; ENSG2000
rgstr_> ## Ensure reproducibility of example data
rgstr_> set.seed(20220907)
rgstr_> ## Generate example data
rgstr_> sce <- scuttle::mockSCE()
rgstr_> ## Add some sample IDs
rgstr_> sce$sample_id <- sample(LETTERS[1:5], ncol(sce), replace = TRUE)
rgstr_> ## Add a sample-level covariate: age
rgstr_> ages <- rnorm(5, mean = 20, sd = 4)
rgstr_> names(ages) <- LETTERS[1:5]
rgstr_> sce$age <- ages[sce$sample_id]
rgstr_> ## Add gene-level information
rgstr_> rowData(sce)$gene_id <- paste0("ENSG", seq_len(nrow(sce)))
rgstr_> rowData(sce)$gene_name <- paste0("gene", seq_len(nrow(sce)))
rgstr_> ## Pseudo-bulk by Cell Cycle
rgstr_> sce_pseudo <- registration_pseudobulk(
rgstr_+ sce,
rgstr_+ var_registration = "Cell_Cycle",
rgstr_+ var_sample_id = "sample_id",
rgstr_+ covars = c("age"),
rgstr_+ min_ncells = NULL
rgstr_+ )
rgstr_> colData(sce_pseudo)
DataFrame with 20 rows and 9 columns
Mutation_Status Cell_Cycle Treatment sample_id age
<character> <character> <character> <character> <numeric>
A_G0 NA G0 NA A 19.1872
B_G0 NA G0 NA B 25.3496
C_G0 NA G0 NA C 24.1802
D_G0 NA G0 NA D 15.5211
E_G0 NA G0 NA E 20.9701
... ... ... ... ... ...
A_S NA S NA A 19.1872
B_S NA S NA B 25.3496
C_S NA S NA C 24.1802
D_S NA S NA D 15.5211
E_S NA S NA E 20.9701
registration_variable registration_sample_id ncells pseudo_sum_umi
<character> <character> <integer> <numeric>
A_G0 G0 A 8 2946915
B_G0 G0 B 13 4922867
C_G0 G0 C 9 3398888
D_G0 G0 D 7 2630651
E_G0 G0 E 10 3761710
... ... ... ... ...
A_S S A 12 4516334
B_S S B 8 2960685
C_S S C 7 2595774
D_S S D 14 5233560
E_S S E 11 4151818
rgstr_> rowData(sce_pseudo)
DataFrame with 2000 rows and 3 columns
gene_id gene_name gene_search
<character> <character> <character>
Gene_0001 ENSG1 gene1 gene1; ENSG1
Gene_0002 ENSG2 gene2 gene2; ENSG2
Gene_0003 ENSG3 gene3 gene3; ENSG3
Gene_0004 ENSG4 gene4 gene4; ENSG4
Gene_0005 ENSG5 gene5 gene5; ENSG5
... ... ... ...
Gene_1996 ENSG1996 gene1996 gene1996; ENSG1996
Gene_1997 ENSG1997 gene1997 gene1997; ENSG1997
Gene_1998 ENSG1998 gene1998 gene1998; ENSG1998
Gene_1999 ENSG1999 gene1999 gene1999; ENSG1999
Gene_2000 ENSG2000 gene2000 gene2000; ENSG2000
rgst__> example("registration_model", package = "spatialLIBD")
rgstr_> example("registration_pseudobulk", package = "spatialLIBD")
rgstr_> ## Ensure reproducibility of example data
rgstr_> set.seed(20220907)
rgstr_> ## Generate example data
rgstr_> sce <- scuttle::mockSCE()
rgstr_> ## Add some sample IDs
rgstr_> sce$sample_id <- sample(LETTERS[1:5], ncol(sce), replace = TRUE)
rgstr_> ## Add a sample-level covariate: age
rgstr_> ages <- rnorm(5, mean = 20, sd = 4)
rgstr_> names(ages) <- LETTERS[1:5]
rgstr_> sce$age <- ages[sce$sample_id]
rgstr_> ## Add gene-level information
rgstr_> rowData(sce)$gene_id <- paste0("ENSG", seq_len(nrow(sce)))
rgstr_> rowData(sce)$gene_name <- paste0("gene", seq_len(nrow(sce)))
rgstr_> ## Pseudo-bulk by Cell Cycle
rgstr_> sce_pseudo <- registration_pseudobulk(
rgstr_+ sce,
rgstr_+ var_registration = "Cell_Cycle",
rgstr_+ var_sample_id = "sample_id",
rgstr_+ covars = c("age"),
rgstr_+ min_ncells = NULL
rgstr_+ )
rgstr_> colData(sce_pseudo)
DataFrame with 20 rows and 9 columns
Mutation_Status Cell_Cycle Treatment sample_id age
<character> <character> <character> <character> <numeric>
A_G0 NA G0 NA A 19.1872
B_G0 NA G0 NA B 25.3496
C_G0 NA G0 NA C 24.1802
D_G0 NA G0 NA D 15.5211
E_G0 NA G0 NA E 20.9701
... ... ... ... ... ...
A_S NA S NA A 19.1872
B_S NA S NA B 25.3496
C_S NA S NA C 24.1802
D_S NA S NA D 15.5211
E_S NA S NA E 20.9701
registration_variable registration_sample_id ncells pseudo_sum_umi
<character> <character> <integer> <numeric>
A_G0 G0 A 8 2946915
B_G0 G0 B 13 4922867
C_G0 G0 C 9 3398888
D_G0 G0 D 7 2630651
E_G0 G0 E 10 3761710
... ... ... ... ...
A_S S A 12 4516334
B_S S B 8 2960685
C_S S C 7 2595774
D_S S D 14 5233560
E_S S E 11 4151818
rgstr_> rowData(sce_pseudo)
DataFrame with 2000 rows and 3 columns
gene_id gene_name gene_search
<character> <character> <character>
Gene_0001 ENSG1 gene1 gene1; ENSG1
Gene_0002 ENSG2 gene2 gene2; ENSG2
Gene_0003 ENSG3 gene3 gene3; ENSG3
Gene_0004 ENSG4 gene4 gene4; ENSG4
Gene_0005 ENSG5 gene5 gene5; ENSG5
... ... ... ...
Gene_1996 ENSG1996 gene1996 gene1996; ENSG1996
Gene_1997 ENSG1997 gene1997 gene1997; ENSG1997
Gene_1998 ENSG1998 gene1998 gene1998; ENSG1998
Gene_1999 ENSG1999 gene1999 gene1999; ENSG1999
Gene_2000 ENSG2000 gene2000 gene2000; ENSG2000
rgstr_> registration_mod <- registration_model(sce_pseudo, "age")
rgstr_> head(registration_mod)
registration_variableG0 registration_variableG1 registration_variableG2M
A_G0 1 0 0
B_G0 1 0 0
C_G0 1 0 0
D_G0 1 0 0
E_G0 1 0 0
A_G1 0 1 0
registration_variableS age
A_G0 0 19.18719
B_G0 0 25.34965
C_G0 0 24.18019
D_G0 0 15.52107
E_G0 0 20.97006
A_G1 0 19.18719
rgst__> block_cor <- registration_block_cor(sce_pseudo, registration_mod)
[ FAIL 0 | WARN 0 | SKIP 0 | PASS 47 ]
>
> proc.time()
user system elapsed
112.187 7.463 124.368
spatialLIBD.Rcheck/spatialLIBD-Ex.timings
| name | user | system | elapsed | |
| add10xVisiumAnalysis | 0 | 0 | 0 | |
| add_images | 21.201 | 3.135 | 26.507 | |
| add_key | 17.062 | 2.008 | 19.889 | |
| add_qc_metrics | 17.023 | 1.473 | 18.762 | |
| annotate_registered_clusters | 1.211 | 0.052 | 1.483 | |
| check_modeling_results | 1.094 | 0.033 | 1.760 | |
| check_sce | 3.253 | 0.140 | 3.568 | |
| check_sce_layer | 1.366 | 0.078 | 1.664 | |
| check_spe | 14.242 | 1.535 | 17.059 | |
| cluster_export | 15.772 | 1.456 | 17.964 | |
| cluster_import | 16.092 | 1.296 | 18.168 | |
| enough_ram | 0.005 | 0.005 | 0.009 | |
| fetch_data | 1.255 | 0.071 | 1.718 | |
| frame_limits | 14.367 | 1.467 | 16.516 | |
| gene_set_enrichment | 1.227 | 0.070 | 1.514 | |
| gene_set_enrichment_plot | 7.823 | 0.288 | 8.509 | |
| geom_spatial | 14.579 | 1.151 | 16.500 | |
| get_colors | 1.232 | 0.038 | 1.530 | |
| img_edit | 14.346 | 1.312 | 16.403 | |
| img_update | 14.395 | 1.374 | 16.459 | |
| img_update_all | 19.013 | 1.779 | 21.137 | |
| layer_boxplot | 3.113 | 0.115 | 3.625 | |
| layer_stat_cor | 1.201 | 0.026 | 1.489 | |
| layer_stat_cor_plot | 4.266 | 0.340 | 4.960 | |
| locate_images | 0.000 | 0.000 | 0.001 | |
| read10xVisiumAnalysis | 0 | 0 | 0 | |
| read10xVisiumWrapper | 0 | 0 | 0 | |
| registration_block_cor | 2.755 | 0.026 | 2.782 | |
| registration_model | 0.726 | 0.004 | 0.730 | |
| registration_pseudobulk | 0.625 | 0.002 | 0.627 | |
| registration_stats_anova | 2.850 | 0.036 | 2.888 | |
| registration_stats_enrichment | 2.980 | 0.014 | 2.996 | |
| registration_stats_pairwise | 2.864 | 0.033 | 2.898 | |
| registration_wrapper | 4.344 | 0.038 | 4.383 | |
| run_app | 0.000 | 0.001 | 0.000 | |
| sce_to_spe | 14.038 | 1.267 | 16.022 | |
| sig_genes_extract | 2.620 | 0.118 | 3.173 | |
| sig_genes_extract_all | 3.283 | 0.080 | 3.740 | |
| sort_clusters | 0.005 | 0.003 | 0.008 | |
| vis_clus | 22.876 | 1.917 | 25.688 | |
| vis_clus_p | 14.961 | 1.407 | 17.093 | |
| vis_gene | 27.172 | 2.257 | 30.652 | |
| vis_gene_p | 14.942 | 1.299 | 16.960 | |
| vis_grid_clus | 16.045 | 1.814 | 18.585 | |
| vis_grid_gene | 16.356 | 1.719 | 18.907 | |
| vis_image | 15.84 | 1.72 | 18.28 | |