Back to Build/check report for BioC 3.23 experimental data
ABCDEF[G]HIJKLMNOPQRSTUVWXYZ

This page was generated on 2025-11-06 15:01 -0500 (Thu, 06 Nov 2025).

HostnameOSArch (*)R versionInstalled pkgs
nebbiolo1Linux (Ubuntu 24.04.3 LTS)x86_64R Under development (unstable) (2025-10-20 r88955) -- "Unsuffered Consequences" 4818
Click on any hostname to see more info about the system (e.g. compilers)      (*) as reported by 'uname -p', except on Windows and Mac OS X

Package 148/431HostnameOS / ArchINSTALLBUILDCHECK
geneLenDataBase 1.47.0  (landing page)
Federico Marini
Snapshot Date: 2025-11-06 07:00 -0500 (Thu, 06 Nov 2025)
git_url: https://git.bioconductor.org/packages/geneLenDataBase
git_branch: devel
git_last_commit: 8b3da6c
git_last_commit_date: 2025-10-29 09:31:54 -0500 (Wed, 29 Oct 2025)
nebbiolo1Linux (Ubuntu 24.04.3 LTS) / x86_64  OK    OK    OK  YES


CHECK results for geneLenDataBase on nebbiolo1

To the developers/maintainers of the geneLenDataBase package:
- Use the following Renviron settings to reproduce errors and warnings.
- If 'R CMD check' started to fail recently on the Linux builder(s) over a missing dependency, add the missing dependency to 'Suggests:' in your DESCRIPTION file. See Renviron.bioc for more information.

raw results


Summary

Package: geneLenDataBase
Version: 1.47.0
Command: /home/biocbuild/bbs-3.23-bioc/R/bin/R CMD check --install=check:geneLenDataBase.install-out.txt --library=/home/biocbuild/bbs-3.23-bioc/R/site-library --timings geneLenDataBase_1.47.0.tar.gz
StartedAt: 2025-11-06 12:22:28 -0500 (Thu, 06 Nov 2025)
EndedAt: 2025-11-06 12:31:36 -0500 (Thu, 06 Nov 2025)
EllapsedTime: 547.7 seconds
RetCode: 0
Status:   OK  
CheckDir: geneLenDataBase.Rcheck
Warnings: 0

Command output

##############################################################################
##############################################################################
###
### Running command:
###
###   /home/biocbuild/bbs-3.23-bioc/R/bin/R CMD check --install=check:geneLenDataBase.install-out.txt --library=/home/biocbuild/bbs-3.23-bioc/R/site-library --timings geneLenDataBase_1.47.0.tar.gz
###
##############################################################################
##############################################################################


* using log directory ‘/home/biocbuild/bbs-3.23-data-experiment/meat/geneLenDataBase.Rcheck’
* using R Under development (unstable) (2025-10-20 r88955)
* using platform: x86_64-pc-linux-gnu
* R was compiled by
    gcc (Ubuntu 13.3.0-6ubuntu2~24.04) 13.3.0
    GNU Fortran (Ubuntu 13.3.0-6ubuntu2~24.04) 13.3.0
* running under: Ubuntu 24.04.3 LTS
* using session charset: UTF-8
* checking for file ‘geneLenDataBase/DESCRIPTION’ ... OK
* this is package ‘geneLenDataBase’ version ‘1.47.0’
* package encoding: UTF-8
* checking package namespace information ... OK
* checking package dependencies ... OK
* checking if this is a source package ... OK
* checking if there is a namespace ... OK
* checking for hidden files and directories ... OK
* checking for portable file names ... OK
* checking for sufficient/correct file permissions ... OK
* checking whether package ‘geneLenDataBase’ can be installed ... OK
* checking installed package size ... INFO
  installed size is 100.0Mb
  sub-directories of 1Mb or more:
    data  99.5Mb
* checking package directory ... OK
* checking DESCRIPTION meta-information ... OK
* checking top-level files ... OK
* checking for left-over files ... OK
* checking index information ... OK
* checking package subdirectories ... OK
* checking code files for non-ASCII characters ... OK
* checking R files for syntax errors ... OK
* checking whether the package can be loaded ... OK
* checking whether the package can be loaded with stated dependencies ... OK
* checking whether the package can be unloaded cleanly ... OK
* checking whether the namespace can be loaded with stated dependencies ... OK
* checking whether the namespace can be unloaded cleanly ... OK
* checking loading without being on the library search path ... OK
* checking dependencies in R code ... NOTE
Unexported object imported by a ':::' call: ‘txdbmaker:::.UCSC_TXNAME2GENEID_MAPDEFS’
  See the note in ?`:::` about the use of this operator.
* checking S3 generic/method consistency ... OK
* checking replacement functions ... OK
* checking foreign function calls ... OK
* checking R code for possible problems ... OK
* checking Rd files ... OK
* checking Rd metadata ... OK
* checking Rd cross-references ... OK
* checking for missing documentation entries ... OK
* checking for code/documentation mismatches ... OK
* checking Rd \usage sections ... OK
* checking Rd contents ... OK
* checking for unstated dependencies in examples ... OK
* checking contents of ‘data’ directory ... OK
* checking data for non-ASCII characters ... OK
* checking data for ASCII and uncompressed saves ... OK
* checking examples ... OK
Examples with CPU (user + system) or elapsed time > 5s
                  user system elapsed
supportedGeneIDs 2.753  0.591   5.454
* checking PDF version of manual ... OK
* DONE

Status: 1 NOTE
See
  ‘/home/biocbuild/bbs-3.23-data-experiment/meat/geneLenDataBase.Rcheck/00check.log’
for details.


Installation output

geneLenDataBase.Rcheck/00install.out

##############################################################################
##############################################################################
###
### Running command:
###
###   /home/biocbuild/bbs-3.23-bioc/R/bin/R CMD INSTALL geneLenDataBase
###
##############################################################################
##############################################################################


* installing to library ‘/home/biocbuild/bbs-3.23-bioc/R/site-library’
* installing *source* package ‘geneLenDataBase’ ...
** this is package ‘geneLenDataBase’ version ‘1.47.0’
** using staged installation
** R
** data
** byte-compile and prepare package for lazy loading
** help
*** installing help indices
** building package indices
** testing if installed package can be loaded from temporary location
** testing if installed package can be loaded from final location
** testing if installed package keeps a record of temporary installation path
* DONE (geneLenDataBase)

Tests output


Example timings

geneLenDataBase.Rcheck/geneLenDataBase-Ex.timings

nameusersystemelapsed
anoCar1.ensGene.LENGTH0.0650.0090.074
anoCar1.genscan.LENGTH0.0460.0020.047
anoCar1.xenoRefGene.LENGTH0.7940.0070.802
anoGam1.ensGene.LENGTH0.0590.0000.059
anoGam1.geneid.LENGTH0.0440.0080.053
anoGam1.genscan.LENGTH0.0370.0020.041
apiMel1.genscan.LENGTH0.0340.0010.036
apiMel2.ensGene.LENGTH0.0810.0030.085
apiMel2.geneid.LENGTH0.0430.0020.045
apiMel2.genscan.LENGTH0.1030.0050.109
aplCal1.xenoRefGene.LENGTH0.3930.0030.396
bosTau2.geneSymbol.LENGTH0.0400.0000.041
bosTau2.geneid.LENGTH0.2390.0050.245
bosTau2.genscan.LENGTH0.0870.0020.090
bosTau2.refGene.LENGTH0.0400.0030.043
bosTau2.sgpGene.LENGTH0.1050.0010.106
bosTau3.ensGene.LENGTH0.1060.0010.107
bosTau3.geneSymbol.LENGTH0.0370.0010.038
bosTau3.geneid.LENGTH0.1290.0000.129
bosTau3.genscan.LENGTH0.1250.0090.134
bosTau3.refGene.LENGTH0.0330.0000.034
bosTau3.sgpGene.LENGTH0.0920.0020.094
bosTau4.ensGene.LENGTH0.0960.0010.097
bosTau4.geneSymbol.LENGTH0.0330.0000.034
bosTau4.genscan.LENGTH0.0630.0020.065
bosTau4.nscanGene.LENGTH0.0280.0000.028
bosTau4.refGene.LENGTH0.0320.0000.031
braFlo1.xenoRefGene.LENGTH0.3650.0020.366
caeJap1.xenoRefGene.LENGTH0.3350.0040.339
caePb1.xenoRefGene.LENGTH0.4440.0080.453
caePb2.xenoRefGene.LENGTH0.4190.0040.423
caeRem2.xenoRefGene.LENGTH0.3880.0030.391
caeRem3.xenoRefGene.LENGTH0.3380.0020.339
calJac1.genscan.LENGTH0.2220.0060.229
calJac1.nscanGene.LENGTH0.0990.0010.101
calJac1.xenoRefGene.LENGTH0.6290.0010.631
canFam1.ensGene.LENGTH0.1050.0010.106
canFam1.geneSymbol.LENGTH0.0040.0020.005
canFam1.genscan.LENGTH0.0590.0020.061
canFam1.nscanGene.LENGTH0.0620.0000.062
canFam1.refGene.LENGTH0.0050.0010.005
canFam1.xenoRefGene.LENGTH0.5290.0010.530
canFam2.ensGene.LENGTH0.0870.0010.089
canFam2.geneSymbol.LENGTH0.0050.0000.006
canFam2.genscan.LENGTH0.0540.0020.056
canFam2.nscanGene.LENGTH0.0560.0020.058
canFam2.refGene.LENGTH0.0050.0000.005
canFam2.xenoRefGene.LENGTH0.5370.0030.539
cavPor3.ensGene.LENGTH0.0850.0000.086
cavPor3.genscan.LENGTH0.0970.0020.099
cavPor3.nscanGene.LENGTH0.0640.0010.065
cavPor3.xenoRefGene.LENGTH0.6460.0020.649
cb1.xenoRefGene.LENGTH0.3730.0020.376
cb3.xenoRefGene.LENGTH0.3140.0000.314
ce2.geneSymbol.LENGTH0.0680.0010.070
ce2.geneid.LENGTH0.0630.0000.063
ce2.refGene.LENGTH0.0630.0010.064
ce4.geneSymbol.LENGTH0.0640.0010.066
ce4.refGene.LENGTH0.0590.0000.059
ce4.xenoRefGene.LENGTH0.0780.0010.078
ce6.ensGene.LENGTH0.0900.0010.092
ce6.geneSymbol.LENGTH0.0660.0000.066
ce6.refGene.LENGTH0.0620.0000.061
ce6.xenoRefGene.LENGTH0.0800.0010.081
ci1.geneSymbol.LENGTH0.0050.0000.006
ci1.refGene.LENGTH0.0050.0000.005
ci1.xenoRefGene.LENGTH0.1580.0020.159
ci2.ensGene.LENGTH0.0620.0020.065
ci2.geneSymbol.LENGTH0.0050.0000.005
ci2.refGene.LENGTH0.0030.0010.004
ci2.xenoRefGene.LENGTH0.2590.0030.261
danRer3.ensGene.LENGTH0.3290.0060.334
danRer3.geneSymbol.LENGTH0.0540.0000.053
danRer3.refGene.LENGTH0.0500.0000.049
danRer4.ensGene.LENGTH0.1120.0010.113
danRer4.geneSymbol.LENGTH0.0490.0010.051
danRer4.genscan.LENGTH0.0600.0000.061
danRer4.nscanGene.LENGTH0.0890.0000.090
danRer4.refGene.LENGTH0.0480.0000.048
danRer5.ensGene.LENGTH0.1140.0010.115
danRer5.geneSymbol.LENGTH0.0480.0010.048
danRer5.refGene.LENGTH0.0440.0010.044
danRer5.vegaGene.LENGTH0.0460.0010.046
danRer5.vegaPseudoGene.LENGTH0.0020.0010.002
danRer6.ensGene.LENGTH0.1030.0030.107
danRer6.geneSymbol.LENGTH0.0490.0010.049
danRer6.refGene.LENGTH0.0430.0020.044
danRer6.xenoRefGene.LENGTH0.4840.0040.488
dm1.geneSymbol.LENGTH0.0640.0020.065
dm1.genscan.LENGTH0.0240.0000.024
dm1.refGene.LENGTH0.0560.0010.058
dm2.geneSymbol.LENGTH0.0630.0000.062
dm2.geneid.LENGTH0.0340.0020.036
dm2.genscan.LENGTH0.8700.0960.967
dm2.nscanGene.LENGTH0.0420.0000.043
dm2.refGene.LENGTH0.0550.0000.055
dm3.geneSymbol.LENGTH0.0640.0000.064
dm3.nscanPasaGene.LENGTH0.0430.0000.045
dm3.refGene.LENGTH0.0600.0010.060
downloadLengthFromUCSC000
dp2.genscan.LENGTH0.0270.0000.029
dp2.xenoRefGene.LENGTH0.1710.0010.172
dp3.geneid.LENGTH0.0330.0010.033
dp3.genscan.LENGTH0.0220.0010.023
dp3.xenoRefGene.LENGTH0.0950.0000.096
droAna1.geneid.LENGTH0.0590.0010.060
droAna1.genscan.LENGTH0.0220.0000.022
droAna1.xenoRefGene.LENGTH0.1760.0010.177
droAna2.genscan.LENGTH0.0430.0000.044
droAna2.xenoRefGene.LENGTH0.2250.0040.228
droEre1.genscan.LENGTH0.0260.0000.026
droEre1.xenoRefGene.LENGTH0.2230.0000.224
droGri1.genscan.LENGTH0.0340.0010.035
droGri1.xenoRefGene.LENGTH0.2390.0080.247
droMoj1.geneid.LENGTH0.1120.0000.113
droMoj1.genscan.LENGTH0.0510.0000.053
droMoj1.xenoRefGene.LENGTH0.1880.0000.189
droMoj2.genscan.LENGTH0.0330.0010.033
droMoj2.xenoRefGene.LENGTH0.2350.0000.234
droPer1.genscan.LENGTH0.0360.0010.036
droPer1.xenoRefGene.LENGTH0.2580.0010.258
droSec1.genscan.LENGTH0.0260.0000.027
droSec1.xenoRefGene.LENGTH0.2410.0020.242
droSim1.geneid.LENGTH0.0340.0010.035
droSim1.genscan.LENGTH0.0220.0010.023
droSim1.xenoRefGene.LENGTH0.2030.0000.204
droVir1.geneid.LENGTH0.0910.0020.094
droVir1.genscan.LENGTH0.0370.0010.039
droVir1.xenoRefGene.LENGTH0.2110.0000.213
droVir2.genscan.LENGTH0.0320.0010.033
droVir2.xenoRefGene.LENGTH0.2400.0020.242
droYak1.geneid.LENGTH0.0370.0010.038
droYak1.genscan.LENGTH0.0260.0010.027
droYak1.xenoRefGene.LENGTH0.1990.0000.199
droYak2.genscan.LENGTH0.0250.0000.025
droYak2.xenoRefGene.LENGTH0.2390.0010.240
equCab1.geneSymbol.LENGTH0.0050.0000.005
equCab1.geneid.LENGTH0.0770.0020.080
equCab1.nscanGene.LENGTH0.0370.0010.038
equCab1.refGene.LENGTH0.0050.0000.005
equCab1.sgpGene.LENGTH0.0620.0010.063
equCab2.ensGene.LENGTH0.090.000.09
equCab2.geneSymbol.LENGTH0.0050.0000.007
equCab2.nscanGene.LENGTH0.0470.0000.048
equCab2.refGene.LENGTH0.0060.0000.007
equCab2.xenoRefGene.LENGTH0.6160.0150.630
felCat3.ensGene.LENGTH0.0930.0020.095
felCat3.geneSymbol.LENGTH0.0020.0020.003
felCat3.geneid.LENGTH0.4720.0060.477
felCat3.genscan.LENGTH0.1130.0000.112
felCat3.nscanGene.LENGTH0.0890.0010.090
felCat3.refGene.LENGTH0.0030.0010.004
felCat3.sgpGene.LENGTH0.1340.0030.136
felCat3.xenoRefGene.LENGTH1.0040.0041.008
fr1.ensGene.LENGTH0.0710.0000.071
fr1.genscan.LENGTH0.0540.0000.054
fr2.ensGene.LENGTH0.1210.0010.122
galGal2.ensGene.LENGTH0.0530.0010.053
galGal2.geneSymbol.LENGTH0.0210.0010.023
galGal2.geneid.LENGTH0.0380.0010.038
galGal2.genscan.LENGTH0.0500.0010.051
galGal2.refGene.LENGTH0.0150.0000.016
galGal2.sgpGene.LENGTH0.0400.0040.043
galGal3.ensGene.LENGTH0.0730.0010.074
galGal3.geneSymbol.LENGTH0.0150.0010.017
galGal3.genscan.LENGTH0.0460.0010.048
galGal3.nscanGene.LENGTH0.0700.0020.072
galGal3.refGene.LENGTH0.0140.0000.015
galGal3.xenoRefGene.LENGTH0.4420.0010.445
gasAcu1.ensGene.LENGTH0.2770.0020.280
gasAcu1.nscanGene.LENGTH0.0960.0010.097
hg16.acembly.LENGTH0.5510.0500.602
hg16.ensGene.LENGTH0.0650.0040.068
hg16.exoniphy.LENGTH0.2260.0040.230
hg16.geneSymbol.LENGTH0.0960.0030.099
hg16.geneid.LENGTH0.0450.0010.046
hg16.genscan.LENGTH0.0590.0000.058
hg16.knownGene.LENGTH0.1090.0010.110
hg16.refGene.LENGTH0.0890.0020.092
hg16.sgpGene.LENGTH0.0520.0020.054
hg17.acembly.LENGTH0.3600.0050.365
hg17.acescan.LENGTH0.010.000.01
hg17.ccdsGene.LENGTH0.0190.0010.021
hg17.ensGene.LENGTH0.0970.0010.099
hg17.exoniphy.LENGTH0.3960.0010.397
hg17.geneSymbol.LENGTH0.0930.0020.095
hg17.geneid.LENGTH0.0710.0000.071
hg17.genscan.LENGTH0.0590.0010.060
hg17.knownGene.LENGTH0.1050.0010.107
hg17.refGene.LENGTH0.0930.0010.094
hg17.sgpGene.LENGTH0.0710.0010.071
hg17.vegaGene.LENGTH0.0380.0010.039
hg17.vegaPseudoGene.LENGTH0.0160.0000.017
hg17.xenoRefGene.LENGTH0.1740.0030.177
hg18.acembly.LENGTH0.4120.0020.413
hg18.acescan.LENGTH0.0110.0000.010
hg18.ccdsGene.LENGTH0.0300.0030.033
hg18.ensGene.LENGTH0.1880.0000.188
hg18.exoniphy.LENGTH0.4380.0060.444
hg18.geneSymbol.LENGTH0.0990.0010.100
hg18.geneid.LENGTH0.0710.0020.073
hg18.genscan.LENGTH0.0610.0010.061
hg18.knownGene.LENGTH0.1440.0010.146
hg18.knownGeneOld3.LENGTH0.0630.0020.066
hg18.refGene.LENGTH0.0960.0050.102
hg18.sgpGene.LENGTH0.3440.0010.346
hg18.sibGene.LENGTH0.3260.0030.329
hg18.xenoRefGene.LENGTH0.3150.0040.320
hg19.ccdsGene.LENGTH0.0390.0000.040
hg19.ensGene.LENGTH0.2830.0000.284
hg19.exoniphy.LENGTH0.4190.0010.421
hg19.geneSymbol.LENGTH0.1020.0010.103
hg19.knownGene.LENGTH0.1690.0030.172
hg19.nscanGene.LENGTH0.1430.0000.144
hg19.refGene.LENGTH0.0990.0000.100
hg19.xenoRefGene.LENGTH0.3340.0000.334
loxAfr3.xenoRefGene.LENGTH0.7080.0060.714
mm7.ensGene.LENGTH0.5380.0060.544
mm7.geneSymbol.LENGTH0.0810.0020.083
mm7.geneid.LENGTH0.0720.0020.074
mm7.genscan.LENGTH0.0580.0030.061
mm7.knownGene.LENGTH0.0860.0020.088
mm7.refGene.LENGTH0.0760.0030.078
mm7.sgpGene.LENGTH0.0730.0020.075
mm7.xenoRefGene.LENGTH0.2680.0010.270
mm8.ccdsGene.LENGTH0.0190.0010.021
mm8.ensGene.LENGTH0.0690.0010.071
mm8.geneSymbol.LENGTH0.0840.0000.083
mm8.geneid.LENGTH0.0770.0000.077
mm8.genscan.LENGTH0.0560.0020.057
mm8.knownGene.LENGTH0.0870.0010.087
mm8.nscanGene.LENGTH0.0540.0030.056
mm8.refGene.LENGTH0.0790.0020.081
mm8.sgpGene.LENGTH0.0730.0000.073
mm8.sibGene.LENGTH0.2300.0010.232
mm8.xenoRefGene.LENGTH0.3200.0000.321
mm9.acembly.LENGTH0.2760.0010.276
mm9.ccdsGene.LENGTH0.0270.0010.027
mm9.ensGene.LENGTH0.1370.0000.137
mm9.exoniphy.LENGTH0.3880.0010.389
mm9.geneSymbol.LENGTH0.0870.0000.087
mm9.geneid.LENGTH0.0820.0020.085
mm9.genscan.LENGTH0.0620.0010.062
mm9.knownGene.LENGTH0.0990.0020.101
mm9.nscanGene.LENGTH0.0570.0010.058
mm9.refGene.LENGTH0.0860.0000.087
mm9.sgpGene.LENGTH0.0840.0000.084
mm9.xenoRefGene.LENGTH0.3490.0010.350
monDom1.genscan.LENGTH0.0610.0010.062
monDom4.ensGene.LENGTH0.0670.0000.068
monDom4.geneSymbol.LENGTH0.0010.0030.003
monDom4.genscan.LENGTH0.2700.0010.271
monDom4.nscanGene.LENGTH0.0500.0010.051
monDom4.refGene.LENGTH0.0030.0000.004
monDom4.xenoRefGene.LENGTH0.3160.0010.317
monDom5.ensGene.LENGTH0.1040.0010.105
monDom5.geneSymbol.LENGTH0.0010.0020.003
monDom5.genscan.LENGTH0.0520.0010.053
monDom5.nscanGene.LENGTH0.1030.0000.104
monDom5.refGene.LENGTH0.0040.0000.004
monDom5.xenoRefGene.LENGTH0.5630.0000.563
ornAna1.ensGene.LENGTH0.0900.0020.092
ornAna1.geneSymbol.LENGTH0.0020.0000.003
ornAna1.refGene.LENGTH0.0030.0000.003
ornAna1.xenoRefGene.LENGTH0.5460.0000.547
oryLat2.ensGene.LENGTH0.0770.0000.077
oryLat2.geneSymbol.LENGTH0.0040.0000.004
oryLat2.refGene.LENGTH0.0040.0000.004
oryLat2.xenoRefGene.LENGTH0.4830.0050.489
panTro1.ensGene.LENGTH0.0930.0020.095
panTro1.geneid.LENGTH0.050.000.05
panTro1.genscan.LENGTH0.0580.0000.059
panTro1.xenoRefGene.LENGTH0.1130.0010.114
panTro2.ensGene.LENGTH0.1070.0010.108
panTro2.geneSymbol.LENGTH0.1020.0000.102
panTro2.genscan.LENGTH0.060.000.06
panTro2.nscanGene.LENGTH1.1700.0821.253
panTro2.refGene.LENGTH0.0920.0010.093
panTro2.xenoRefGene.LENGTH0.4230.0020.425
petMar1.xenoRefGene.LENGTH0.2310.0040.235
ponAbe2.ensGene.LENGTH0.0760.0010.077
ponAbe2.geneSymbol.LENGTH0.0120.0000.011
ponAbe2.genscan.LENGTH0.0550.0010.056
ponAbe2.nscanGene.LENGTH0.0540.0010.055
ponAbe2.refGene.LENGTH0.010.000.01
ponAbe2.xenoRefGene.LENGTH0.5390.0020.541
priPac1.xenoRefGene.LENGTH0.3090.0030.312
rheMac2.ensGene.LENGTH0.1080.0000.108
rheMac2.geneSymbol.LENGTH0.0050.0000.005
rheMac2.geneid.LENGTH0.0630.0020.065
rheMac2.nscanGene.LENGTH0.0560.0000.056
rheMac2.refGene.LENGTH0.0040.0010.005
rheMac2.sgpGene.LENGTH0.0630.0010.064
rheMac2.xenoRefGene.LENGTH0.4010.0030.403
rn3.ensGene.LENGTH0.0860.0020.087
rn3.geneSymbol.LENGTH0.0480.0010.049
rn3.geneid.LENGTH0.0460.0010.047
rn3.genscan.LENGTH0.0580.0000.059
rn3.knownGene.LENGTH0.0200.0000.022
rn3.nscanGene.LENGTH0.0530.0010.054
rn3.refGene.LENGTH0.0460.0010.046
rn3.sgpGene.LENGTH0.0530.0000.052
rn3.xenoRefGene.LENGTH0.4500.0020.451
rn4.ensGene.LENGTH0.1090.0020.110
rn4.geneSymbol.LENGTH0.0460.0020.047
rn4.geneid.LENGTH0.0740.0000.074
rn4.genscan.LENGTH0.0530.0010.054
rn4.knownGene.LENGTH0.0230.0000.023
rn4.nscanGene.LENGTH0.0450.0020.047
rn4.refGene.LENGTH0.0440.0010.045
rn4.sgpGene.LENGTH0.0720.0010.073
rn4.xenoRefGene.LENGTH0.2750.0010.276
sacCer1.ensGene.LENGTH0.0160.0010.017
sacCer2.ensGene.LENGTH0.0130.0020.015
strPur1.geneSymbol.LENGTH0.0030.0010.004
strPur1.genscan.LENGTH0.0580.0020.060
strPur1.refGene.LENGTH0.0040.0000.004
strPur1.xenoRefGene.LENGTH0.3870.0000.388
strPur2.geneSymbol.LENGTH0.0030.0000.004
strPur2.genscan.LENGTH0.0920.0010.093
strPur2.refGene.LENGTH0.0030.0010.004
strPur2.xenoRefGene.LENGTH0.5590.0030.562
supportedGeneIDs2.7530.5915.454
supportedGenomes1.3840.4802.734
taeGut1.ensGene.LENGTH0.0560.0060.063
taeGut1.geneSymbol.LENGTH0.0020.0000.003
taeGut1.genscan.LENGTH0.0300.0010.031
taeGut1.nscanGene.LENGTH0.0250.0050.031
taeGut1.refGene.LENGTH0.0000.0020.002
taeGut1.xenoRefGene.LENGTH0.4290.0060.435
tetNig1.ensGene.LENGTH0.0840.0010.084
tetNig1.geneid.LENGTH0.0620.0130.074
tetNig1.genscan.LENGTH0.0510.0000.051
tetNig1.nscanGene.LENGTH0.0640.0030.067
tetNig2.ensGene.LENGTH0.0660.0030.069
unfactor0.0050.0020.007
xenTro1.genscan.LENGTH0.0840.0000.085
xenTro2.ensGene.LENGTH0.0870.0020.090
xenTro2.geneSymbol.LENGTH0.0280.0020.030
xenTro2.genscan.LENGTH0.0670.0040.072
xenTro2.refGene.LENGTH0.0280.0000.029