| Back to Multiple platform build/check report for BioC 3.6 experimental data |
This page was generated on 2018-04-12 12:50:10 -0400 (Thu, 12 Apr 2018).
| Package 70/326 | Hostname | OS / Arch | INSTALL | BUILD | CHECK | BUILD BIN | ||||||
| DAPARdata 1.8.0 Samuel Wieczorek
| malbec1 | Linux (Ubuntu 16.04.1 LTS) / x86_64 | [ OK ] | OK | WARNINGS |
| Package: DAPARdata |
| Version: 1.8.0 |
| Command: /home/biocbuild/bbs-3.6-bioc/R/bin/R CMD INSTALL DAPARdata |
| StartedAt: 2018-04-12 08:56:07 -0400 (Thu, 12 Apr 2018) |
| EndedAt: 2018-04-12 08:56:35 -0400 (Thu, 12 Apr 2018) |
| EllapsedTime: 28.2 seconds |
| RetCode: 0 |
| Status: OK |
############################################################################## ############################################################################## ### ### Running command: ### ### /home/biocbuild/bbs-3.6-bioc/R/bin/R CMD INSTALL DAPARdata ### ############################################################################## ############################################################################## * installing to library ‘/home/biocbuild/bbs-3.6-bioc/R/library’ * installing *source* package ‘DAPARdata’ ... ** R ** data ** inst ** preparing package for lazy loading ** help *** installing help indices ** building package indices ** testing if installed package can be loaded * DONE (DAPARdata)