| Back to Multiple platform build/check report for BioC 3.6 experimental data |
This page was generated on 2018-04-12 12:49:12 -0400 (Thu, 12 Apr 2018).
| Package 256/326 | Hostname | OS / Arch | INSTALL | BUILD | CHECK | BUILD BIN | ||||||
| RNAinteractMAPK 1.16.0 Bernd Fischer
| malbec1 | Linux (Ubuntu 16.04.1 LTS) / x86_64 | [ OK ] | OK | OK |
| Package: RNAinteractMAPK |
| Version: 1.16.0 |
| Command: /home/biocbuild/bbs-3.6-bioc/R/bin/R CMD INSTALL RNAinteractMAPK |
| StartedAt: 2018-04-12 08:56:25 -0400 (Thu, 12 Apr 2018) |
| EndedAt: 2018-04-12 08:56:47 -0400 (Thu, 12 Apr 2018) |
| EllapsedTime: 22.3 seconds |
| RetCode: 0 |
| Status: OK |
############################################################################## ############################################################################## ### ### Running command: ### ### /home/biocbuild/bbs-3.6-bioc/R/bin/R CMD INSTALL RNAinteractMAPK ### ############################################################################## ############################################################################## * installing to library ‘/home/biocbuild/bbs-3.6-bioc/R/library’ * installing *source* package ‘RNAinteractMAPK’ ... ** R ** data ** inst ** preparing package for lazy loading ** help *** installing help indices ** building package indices ** installing vignettes ** testing if installed package can be loaded * DONE (RNAinteractMAPK)