| Back to Multiple platform build/check report for BioC 3.6 experimental data |
This page was generated on 2018-04-12 12:49:52 -0400 (Thu, 12 Apr 2018).
| Package 121/326 | Hostname | OS / Arch | INSTALL | BUILD | CHECK | BUILD BIN | ||||||
| geuvPack 1.10.0 VJ Carey
| malbec1 | Linux (Ubuntu 16.04.1 LTS) / x86_64 | OK | OK | [ OK ] |
| Package: geuvPack |
| Version: 1.10.0 |
| Command: /home/biocbuild/bbs-3.6-bioc/R/bin/R CMD check --no-vignettes --timings geuvPack_1.10.0.tar.gz |
| StartedAt: 2018-04-12 10:03:42 -0400 (Thu, 12 Apr 2018) |
| EndedAt: 2018-04-12 10:05:57 -0400 (Thu, 12 Apr 2018) |
| EllapsedTime: 134.2 seconds |
| RetCode: 0 |
| Status: OK |
| CheckDir: geuvPack.Rcheck |
| Warnings: 0 |
##############################################################################
##############################################################################
###
### Running command:
###
### /home/biocbuild/bbs-3.6-bioc/R/bin/R CMD check --no-vignettes --timings geuvPack_1.10.0.tar.gz
###
##############################################################################
##############################################################################
* using log directory ‘/home/biocbuild/bbs-3.6-data-experiment/meat/geuvPack.Rcheck’
* using R version 3.4.4 (2018-03-15)
* using platform: x86_64-pc-linux-gnu (64-bit)
* using session charset: UTF-8
* using option ‘--no-vignettes’
* checking for file ‘geuvPack/DESCRIPTION’ ... OK
* this is package ‘geuvPack’ version ‘1.10.0’
* checking package namespace information ... OK
* checking package dependencies ... OK
* checking if this is a source package ... OK
* checking if there is a namespace ... OK
* checking for hidden files and directories ... OK
* checking for portable file names ... OK
* checking for sufficient/correct file permissions ... OK
* checking whether package ‘geuvPack’ can be installed ... OK
* checking installed package size ... NOTE
installed size is 93.1Mb
sub-directories of 1Mb or more:
data 93.0Mb
* checking package directory ... OK
* checking DESCRIPTION meta-information ... NOTE
Malformed Description field: should contain one or more complete sentences.
* checking top-level files ... OK
* checking for left-over files ... OK
* checking index information ... OK
* checking package subdirectories ... OK
* checking R files for non-ASCII characters ... OK
* checking R files for syntax errors ... OK
* checking whether the package can be loaded ... OK
* checking whether the package can be loaded with stated dependencies ... OK
* checking whether the package can be unloaded cleanly ... OK
* checking whether the namespace can be loaded with stated dependencies ... OK
* checking whether the namespace can be unloaded cleanly ... OK
* checking dependencies in R code ... OK
* checking S3 generic/method consistency ... OK
* checking replacement functions ... OK
* checking foreign function calls ... OK
* checking R code for possible problems ... NOTE
gtpath: no visible global function definition for ‘is’
Undefined global functions or variables:
is
Consider adding
importFrom("methods", "is")
to your NAMESPACE file (and ensure that your DESCRIPTION Imports field
contains 'methods').
* checking Rd files ... OK
* checking Rd metadata ... OK
* checking Rd cross-references ... OK
* checking for missing documentation entries ... OK
* checking for code/documentation mismatches ... OK
* checking Rd \usage sections ... OK
* checking Rd contents ... OK
* checking for unstated dependencies in examples ... OK
* checking contents of ‘data’ directory ... OK
* checking data for non-ASCII characters ... OK
* checking data for ASCII and uncompressed saves ... OK
* checking examples ... OK
Examples with CPU or elapsed time > 5s
user system elapsed
geuFPKM 7.872 0.108 7.987
gsvs 7.804 0.136 7.946
* checking PDF version of manual ... OK
* DONE
Status: 3 NOTEs
See
‘/home/biocbuild/bbs-3.6-data-experiment/meat/geuvPack.Rcheck/00check.log’
for details.
geuvPack.Rcheck/00install.out
* installing *source* package ‘geuvPack’ ... ** R ** data ** preparing package for lazy loading ** help *** installing help indices ** building package indices ** testing if installed package can be loaded * DONE (geuvPack)
geuvPack.Rcheck/geuvPack-Ex.timings
| name | user | system | elapsed | |
| geuFPKM | 7.872 | 0.108 | 7.987 | |
| gsvs | 7.804 | 0.136 | 7.946 | |
| gtpath | 0.000 | 0.000 | 0.001 | |