| Back to Multiple platform build/check report for BioC 3.6 experimental data |
This page was generated on 2018-04-12 12:48:59 -0400 (Thu, 12 Apr 2018).
| Package 231/326 | Hostname | OS / Arch | INSTALL | BUILD | CHECK | BUILD BIN | ||||||
| ppiData 0.16.0 Bioconductor Package Maintainer
| malbec1 | Linux (Ubuntu 16.04.1 LTS) / x86_64 | OK | [ OK ] | WARNINGS |
| Package: ppiData |
| Version: 0.16.0 |
| Command: /home/biocbuild/bbs-3.6-bioc/R/bin/R CMD build --keep-empty-dirs --no-resave-data ppiData |
| StartedAt: 2018-04-12 08:58:52 -0400 (Thu, 12 Apr 2018) |
| EndedAt: 2018-04-12 08:59:14 -0400 (Thu, 12 Apr 2018) |
| EllapsedTime: 21.7 seconds |
| RetCode: 0 |
| Status: OK |
| PackageFile: ppiData_0.16.0.tar.gz |
| PackageFileSize: 2.905 MiB |
############################################################################## ############################################################################## ### ### Running command: ### ### /home/biocbuild/bbs-3.6-bioc/R/bin/R CMD build --keep-empty-dirs --no-resave-data ppiData ### ############################################################################## ############################################################################## * checking for file ‘ppiData/DESCRIPTION’ ... OK * preparing ‘ppiData’: * checking DESCRIPTION meta-information ... OK * installing the package to build vignettes * creating vignettes ... OK * checking for LF line-endings in source and make files and shell scripts * checking for empty or unneeded directories * looking to see if a ‘data/datalist’ file should be added * building ‘ppiData_0.16.0.tar.gz’