| Back to Multiple platform build/check report for BioC 3.7 experimental data | 
This page was generated on 2018-10-16 14:18:39 -0400 (Tue, 16 Oct 2018).
| Package 8/342 | Hostname | OS / Arch | INSTALL | BUILD | CHECK | BUILD BIN | ||||||
| Affymoe4302Expr 1.18.0 Zhicheng Ji 
 | malbec2 | Linux (Ubuntu 16.04.1 LTS) / x86_64 | OK | [ OK ] | OK |  | 
| Package: Affymoe4302Expr | 
| Version: 1.18.0 | 
| Command: /home/biocbuild/bbs-3.7-bioc/R/bin/R CMD build --keep-empty-dirs --no-resave-data Affymoe4302Expr | 
| StartedAt: 2018-10-16 09:43:09 -0400 (Tue, 16 Oct 2018) | 
| EndedAt: 2018-10-16 09:43:45 -0400 (Tue, 16 Oct 2018) | 
| EllapsedTime: 36.1 seconds | 
| RetCode: 0 | 
| Status: OK | 
| PackageFile: Affymoe4302Expr_1.18.0.tar.gz | 
| PackageFileSize: 417.6 MiB | 
############################################################################## ############################################################################## ### ### Running command: ### ### /home/biocbuild/bbs-3.7-bioc/R/bin/R CMD build --keep-empty-dirs --no-resave-data Affymoe4302Expr ### ############################################################################## ############################################################################## * checking for file ‘Affymoe4302Expr/DESCRIPTION’ ... OK * preparing ‘Affymoe4302Expr’: * checking DESCRIPTION meta-information ... OK * checking for LF line-endings in source and make files and shell scripts * checking for empty or unneeded directories * looking to see if a ‘data/datalist’ file should be added * building ‘Affymoe4302Expr_1.18.0.tar.gz’