| Back to Multiple platform build/check report for BioC 3.7 experimental data | 
This page was generated on 2018-10-16 14:19:51 -0400 (Tue, 16 Oct 2018).
| Package 27/342 | Hostname | OS / Arch | INSTALL | BUILD | CHECK | BUILD BIN | ||||||
| BloodCancerMultiOmics2017 1.0.2 Malgorzata Oles 
 | malbec2 | Linux (Ubuntu 16.04.1 LTS) / x86_64 | [ OK ] | OK | OK |  | 
| Package: BloodCancerMultiOmics2017 | 
| Version: 1.0.2 | 
| Command: /home/biocbuild/bbs-3.7-bioc/R/bin/R CMD INSTALL BloodCancerMultiOmics2017 | 
| StartedAt: 2018-10-16 09:10:16 -0400 (Tue, 16 Oct 2018) | 
| EndedAt: 2018-10-16 09:11:05 -0400 (Tue, 16 Oct 2018) | 
| EllapsedTime: 49.3 seconds | 
| RetCode: 0 | 
| Status: OK | 
############################################################################## ############################################################################## ### ### Running command: ### ### /home/biocbuild/bbs-3.7-bioc/R/bin/R CMD INSTALL BloodCancerMultiOmics2017 ### ############################################################################## ############################################################################## * installing to library ‘/home/biocbuild/bbs-3.7-bioc/R/library’ * installing *source* package ‘BloodCancerMultiOmics2017’ ... ** R ** data *** moving datasets to lazyload DB ** inst ** byte-compile and prepare package for lazy loading ** help *** installing help indices ** building package indices ** installing vignettes ** testing if installed package can be loaded * DONE (BloodCancerMultiOmics2017)