| Back to Multiple platform build/check report for BioC 3.7 experimental data | 
This page was generated on 2018-10-16 14:19:51 -0400 (Tue, 16 Oct 2018).
| Package 57/342 | Hostname | OS / Arch | INSTALL | BUILD | CHECK | BUILD BIN | ||||||
| CLLmethylation 1.0.0 Malgorzata Oles 
 | malbec2 | Linux (Ubuntu 16.04.1 LTS) / x86_64 | [ OK ] | OK | OK |  | 
| Package: CLLmethylation | 
| Version: 1.0.0 | 
| Command: /home/biocbuild/bbs-3.7-bioc/R/bin/R CMD INSTALL CLLmethylation | 
| StartedAt: 2018-10-16 09:15:49 -0400 (Tue, 16 Oct 2018) | 
| EndedAt: 2018-10-16 09:16:08 -0400 (Tue, 16 Oct 2018) | 
| EllapsedTime: 19.0 seconds | 
| RetCode: 0 | 
| Status: OK | 
############################################################################## ############################################################################## ### ### Running command: ### ### /home/biocbuild/bbs-3.7-bioc/R/bin/R CMD INSTALL CLLmethylation ### ############################################################################## ############################################################################## * installing to library ‘/home/biocbuild/bbs-3.7-bioc/R/library’ * installing *source* package ‘CLLmethylation’ ... ** inst ** help *** installing help indices ** building package indices ** installing vignettes ** testing if installed package can be loaded * DONE (CLLmethylation)