| Back to Multiple platform build/check report for BioC 3.7 experimental data |
This page was generated on 2018-10-16 14:17:21 -0400 (Tue, 16 Oct 2018).
| Package 90/342 | Hostname | OS / Arch | INSTALL | BUILD | CHECK | BUILD BIN | ||||||
| EatonEtAlChIPseq 0.18.0 Patrick Aboyoun
| malbec2 | Linux (Ubuntu 16.04.1 LTS) / x86_64 | OK | OK | [ OK ] |
| Package: EatonEtAlChIPseq |
| Version: 0.18.0 |
| Command: /home/biocbuild/bbs-3.7-bioc/R/bin/R CMD check --install=check:EatonEtAlChIPseq.install-out.txt --library=/home/biocbuild/bbs-3.7-bioc/R/library --no-vignettes --timings EatonEtAlChIPseq_0.18.0.tar.gz |
| StartedAt: 2018-10-16 10:52:44 -0400 (Tue, 16 Oct 2018) |
| EndedAt: 2018-10-16 10:54:06 -0400 (Tue, 16 Oct 2018) |
| EllapsedTime: 81.7 seconds |
| RetCode: 0 |
| Status: OK |
| CheckDir: EatonEtAlChIPseq.Rcheck |
| Warnings: 0 |
##############################################################################
##############################################################################
###
### Running command:
###
### /home/biocbuild/bbs-3.7-bioc/R/bin/R CMD check --install=check:EatonEtAlChIPseq.install-out.txt --library=/home/biocbuild/bbs-3.7-bioc/R/library --no-vignettes --timings EatonEtAlChIPseq_0.18.0.tar.gz
###
##############################################################################
##############################################################################
* using log directory ‘/home/biocbuild/bbs-3.7-data-experiment/meat/EatonEtAlChIPseq.Rcheck’
* using R version 3.5.1 Patched (2018-07-12 r74967)
* using platform: x86_64-pc-linux-gnu (64-bit)
* using session charset: UTF-8
* using option ‘--no-vignettes’
* checking for file ‘EatonEtAlChIPseq/DESCRIPTION’ ... OK
* this is package ‘EatonEtAlChIPseq’ version ‘0.18.0’
* checking package namespace information ... OK
* checking package dependencies ... OK
* checking if this is a source package ... OK
* checking if there is a namespace ... OK
* checking for hidden files and directories ... OK
* checking for portable file names ... OK
* checking for sufficient/correct file permissions ... OK
* checking whether package ‘EatonEtAlChIPseq’ can be installed ... OK
* checking installed package size ... NOTE
installed size is 20.6Mb
sub-directories of 1Mb or more:
extdata 20.5Mb
* checking package directory ... OK
* checking DESCRIPTION meta-information ... NOTE
Malformed Description field: should contain one or more complete sentences.
Non-standard license specification:
Artistic 2.0
Standardizable: TRUE
Standardized license specification:
Artistic-2.0
* checking top-level files ... OK
* checking for left-over files ... OK
* checking index information ... OK
* checking package subdirectories ... OK
* checking whether the package can be loaded ... OK
* checking whether the package can be loaded with stated dependencies ... OK
* checking whether the package can be unloaded cleanly ... OK
* checking whether the namespace can be loaded with stated dependencies ... OK
* checking whether the namespace can be unloaded cleanly ... OK
* checking Rd files ... OK
* checking Rd metadata ... OK
* checking Rd cross-references ... OK
* checking for missing documentation entries ... OK
* checking for code/documentation mismatches ... OK
* checking Rd \usage sections ... OK
* checking Rd contents ... OK
* checking for unstated dependencies in examples ... OK
* checking contents of ‘data’ directory ... OK
* checking data for non-ASCII characters ... OK
* checking data for ASCII and uncompressed saves ... OK
* checking examples ... OK
Examples with CPU or elapsed time > 5s
user system elapsed
orcAligns 7.092 0.124 7.439
* checking PDF version of manual ... OK
* DONE
Status: 2 NOTEs
See
‘/home/biocbuild/bbs-3.7-data-experiment/meat/EatonEtAlChIPseq.Rcheck/00check.log’
for details.
EatonEtAlChIPseq.Rcheck/00install.out
############################################################################## ############################################################################## ### ### Running command: ### ### /home/biocbuild/bbs-3.7-bioc/R/bin/R CMD INSTALL EatonEtAlChIPseq ### ############################################################################## ############################################################################## * installing to library ‘/home/biocbuild/bbs-3.7-bioc/R/library’ * installing *source* package ‘EatonEtAlChIPseq’ ... ** data ** inst ** help *** installing help indices ** building package indices ** testing if installed package can be loaded * DONE (EatonEtAlChIPseq)
EatonEtAlChIPseq.Rcheck/EatonEtAlChIPseq-Ex.timings
| name | user | system | elapsed | |
| orcAligns | 7.092 | 0.124 | 7.439 | |
| orcPeaks | 0.180 | 0.000 | 0.412 | |