| Back to Multiple platform build/check report for BioC 3.7 experimental data | 
This page was generated on 2018-10-16 14:18:45 -0400 (Tue, 16 Oct 2018).
| Package 154/342 | Hostname | OS / Arch | INSTALL | BUILD | CHECK | BUILD BIN | ||||||
| HiCDataHumanIMR90 0.114.0 Nicolas Servant 
 | malbec2 | Linux (Ubuntu 16.04.1 LTS) / x86_64 | OK | [ OK ] | ERROR | 
| Package: HiCDataHumanIMR90 | 
| Version: 0.114.0 | 
| Command: /home/biocbuild/bbs-3.7-bioc/R/bin/R CMD build --keep-empty-dirs --no-resave-data HiCDataHumanIMR90 | 
| StartedAt: 2018-10-16 09:45:04 -0400 (Tue, 16 Oct 2018) | 
| EndedAt: 2018-10-16 09:46:01 -0400 (Tue, 16 Oct 2018) | 
| EllapsedTime: 56.9 seconds | 
| RetCode: 0 | 
| Status: OK | 
| PackageFile: HiCDataHumanIMR90_0.114.0.tar.gz | 
| PackageFileSize: 65.73 MiB | 
############################################################################## ############################################################################## ### ### Running command: ### ### /home/biocbuild/bbs-3.7-bioc/R/bin/R CMD build --keep-empty-dirs --no-resave-data HiCDataHumanIMR90 ### ############################################################################## ############################################################################## * checking for file ‘HiCDataHumanIMR90/DESCRIPTION’ ... OK * preparing ‘HiCDataHumanIMR90’: * checking DESCRIPTION meta-information ... OK * installing the package to build vignettes * creating vignettes ... OK * checking for LF line-endings in source and make files and shell scripts * checking for empty or unneeded directories * looking to see if a ‘data/datalist’ file should be added * building ‘HiCDataHumanIMR90_0.114.0.tar.gz’