| Back to Multiple platform build/check report for BioC 3.7 experimental data | 
This page was generated on 2018-10-16 14:18:18 -0400 (Tue, 16 Oct 2018).
| Package 156/342 | Hostname | OS / Arch | INSTALL | BUILD | CHECK | BUILD BIN | ||||||
| Hiiragi2013 1.16.0 Andrzej Oles 
 | malbec2 | Linux (Ubuntu 16.04.1 LTS) / x86_64 | OK | [ OK ] | OK |  | 
| Package: Hiiragi2013 | 
| Version: 1.16.0 | 
| Command: /home/biocbuild/bbs-3.7-bioc/R/bin/R CMD build --keep-empty-dirs --no-resave-data Hiiragi2013 | 
| StartedAt: 2018-10-16 09:31:48 -0400 (Tue, 16 Oct 2018) | 
| EndedAt: 2018-10-16 09:38:44 -0400 (Tue, 16 Oct 2018) | 
| EllapsedTime: 415.4 seconds | 
| RetCode: 0 | 
| Status: OK | 
| PackageFile: Hiiragi2013_1.16.0.tar.gz | 
| PackageFileSize: 138.8 MiB | 
############################################################################## ############################################################################## ### ### Running command: ### ### /home/biocbuild/bbs-3.7-bioc/R/bin/R CMD build --keep-empty-dirs --no-resave-data Hiiragi2013 ### ############################################################################## ############################################################################## * checking for file ‘Hiiragi2013/DESCRIPTION’ ... OK * preparing ‘Hiiragi2013’: * checking DESCRIPTION meta-information ... OK * installing the package to build vignettes * creating vignettes ... OK * checking for LF line-endings in source and make files and shell scripts * checking for empty or unneeded directories * looking to see if a ‘data/datalist’ file should be added * building ‘Hiiragi2013_1.16.0.tar.gz’