| Back to Multiple platform build/check report for BioC 3.7 experimental data | 
This page was generated on 2018-10-16 14:17:10 -0400 (Tue, 16 Oct 2018).
| Package 167/342 | Hostname | OS / Arch | INSTALL | BUILD | CHECK | BUILD BIN | ||||||
| ITALICSData 2.18.0 Guillem Rigaill 
 | malbec2 | Linux (Ubuntu 16.04.1 LTS) / x86_64 | [ OK ] | OK | WARNINGS |  | 
| Package: ITALICSData | 
| Version: 2.18.0 | 
| Command: /home/biocbuild/bbs-3.7-bioc/R/bin/R CMD INSTALL ITALICSData | 
| StartedAt: 2018-10-16 09:01:31 -0400 (Tue, 16 Oct 2018) | 
| EndedAt: 2018-10-16 09:01:42 -0400 (Tue, 16 Oct 2018) | 
| EllapsedTime: 10.5 seconds | 
| RetCode: 0 | 
| Status: OK | 
############################################################################## ############################################################################## ### ### Running command: ### ### /home/biocbuild/bbs-3.7-bioc/R/bin/R CMD INSTALL ITALICSData ### ############################################################################## ############################################################################## * installing to library ‘/home/biocbuild/bbs-3.7-bioc/R/library’ * installing *source* package ‘ITALICSData’ ... ** data ** inst ** help *** installing help indices ** building package indices ** testing if installed package can be loaded * DONE (ITALICSData)