| Back to Multiple platform build/check report for BioC 3.7 experimental data | 
This page was generated on 2018-10-16 14:18:33 -0400 (Tue, 16 Oct 2018).
| Package 169/342 | Hostname | OS / Arch | INSTALL | BUILD | CHECK | BUILD BIN | ||||||
| JASPAR2014 1.16.0 Ge Tan 
 | malbec2 | Linux (Ubuntu 16.04.1 LTS) / x86_64 | [ OK ] | OK | OK |  | 
| Package: JASPAR2014 | 
| Version: 1.16.0 | 
| Command: /home/biocbuild/bbs-3.7-bioc/R/bin/R CMD INSTALL JASPAR2014 | 
| StartedAt: 2018-10-16 09:06:25 -0400 (Tue, 16 Oct 2018) | 
| EndedAt: 2018-10-16 09:07:02 -0400 (Tue, 16 Oct 2018) | 
| EllapsedTime: 37.7 seconds | 
| RetCode: 0 | 
| Status: OK | 
############################################################################## ############################################################################## ### ### Running command: ### ### /home/biocbuild/bbs-3.7-bioc/R/bin/R CMD INSTALL JASPAR2014 ### ############################################################################## ############################################################################## * installing to library ‘/home/biocbuild/bbs-3.7-bioc/R/library’ * installing *source* package ‘JASPAR2014’ ... ** R ** data *** moving datasets to lazyload DB ** inst ** byte-compile and prepare package for lazy loading ** help *** installing help indices ** building package indices ** testing if installed package can be loaded * DONE (JASPAR2014)