| Back to Multiple platform build/check report for BioC 3.7 experimental data |
This page was generated on 2018-10-16 14:16:51 -0400 (Tue, 16 Oct 2018).
| Package 189/342 | Hostname | OS / Arch | INSTALL | BUILD | CHECK | BUILD BIN | ||||||
| MAQCsubset 1.18.0 VJ Carey
| malbec2 | Linux (Ubuntu 16.04.1 LTS) / x86_64 | OK | [ OK ] | OK |
| Package: MAQCsubset |
| Version: 1.18.0 |
| Command: /home/biocbuild/bbs-3.7-bioc/R/bin/R CMD build --keep-empty-dirs --no-resave-data MAQCsubset |
| StartedAt: 2018-10-16 09:20:53 -0400 (Tue, 16 Oct 2018) |
| EndedAt: 2018-10-16 09:21:56 -0400 (Tue, 16 Oct 2018) |
| EllapsedTime: 62.7 seconds |
| RetCode: 0 |
| Status: OK |
| PackageFile: MAQCsubset_1.18.0.tar.gz |
| PackageFileSize: 64.8 MiB |
############################################################################## ############################################################################## ### ### Running command: ### ### /home/biocbuild/bbs-3.7-bioc/R/bin/R CMD build --keep-empty-dirs --no-resave-data MAQCsubset ### ############################################################################## ############################################################################## * checking for file ‘MAQCsubset/DESCRIPTION’ ... OK * preparing ‘MAQCsubset’: * checking DESCRIPTION meta-information ... OK * installing the package to build vignettes * creating vignettes ... OK * checking for LF line-endings in source and make files and shell scripts * checking for empty or unneeded directories * looking to see if a ‘data/datalist’ file should be added * building ‘MAQCsubset_1.18.0.tar.gz’