| Back to Multiple platform build/check report for BioC 3.7 experimental data | 
This page was generated on 2018-10-16 14:17:37 -0400 (Tue, 16 Oct 2018).
| Package 223/342 | Hostname | OS / Arch | INSTALL | BUILD | CHECK | BUILD BIN | ||||||
| NCIgraphData 1.16.0 Laurent Jacob 
 | malbec2 | Linux (Ubuntu 16.04.1 LTS) / x86_64 | OK | [ OK ] | WARNINGS |  | 
| Package: NCIgraphData | 
| Version: 1.16.0 | 
| Command: /home/biocbuild/bbs-3.7-bioc/R/bin/R CMD build --keep-empty-dirs --no-resave-data NCIgraphData | 
| StartedAt: 2018-10-16 09:25:29 -0400 (Tue, 16 Oct 2018) | 
| EndedAt: 2018-10-16 09:25:30 -0400 (Tue, 16 Oct 2018) | 
| EllapsedTime: 1.8 seconds | 
| RetCode: 0 | 
| Status: OK | 
| PackageFile: NCIgraphData_1.16.0.tar.gz | 
| PackageFileSize: 5.253 MiB | 
############################################################################## ############################################################################## ### ### Running command: ### ### /home/biocbuild/bbs-3.7-bioc/R/bin/R CMD build --keep-empty-dirs --no-resave-data NCIgraphData ### ############################################################################## ############################################################################## * checking for file ‘NCIgraphData/DESCRIPTION’ ... OK * preparing ‘NCIgraphData’: * checking DESCRIPTION meta-information ... OK * checking for LF line-endings in source and make files and shell scripts * checking for empty or unneeded directories * looking to see if a ‘data/datalist’ file should be added * building ‘NCIgraphData_1.16.0.tar.gz’