| Back to Multiple platform build/check report for BioC 3.7 experimental data | 
This page was generated on 2018-10-16 14:18:48 -0400 (Tue, 16 Oct 2018).
| Package 225/342 | Hostname | OS / Arch | INSTALL | BUILD | CHECK | BUILD BIN | ||||||
| NGScopyData 0.114.0 Xiaobei Zhao 
 | malbec2 | Linux (Ubuntu 16.04.1 LTS) / x86_64 | OK | [ OK ] | OK |  | 
| Package: NGScopyData | 
| Version: 0.114.0 | 
| Command: /home/biocbuild/bbs-3.7-bioc/R/bin/R CMD build --keep-empty-dirs --no-resave-data NGScopyData | 
| StartedAt: 2018-10-16 09:45:18 -0400 (Tue, 16 Oct 2018) | 
| EndedAt: 2018-10-16 09:45:23 -0400 (Tue, 16 Oct 2018) | 
| EllapsedTime: 4.6 seconds | 
| RetCode: 0 | 
| Status: OK | 
| PackageFile: NGScopyData_0.114.0.tar.gz | 
| PackageFileSize: 37 MiB | 
############################################################################## ############################################################################## ### ### Running command: ### ### /home/biocbuild/bbs-3.7-bioc/R/bin/R CMD build --keep-empty-dirs --no-resave-data NGScopyData ### ############################################################################## ############################################################################## * checking for file ‘NGScopyData/DESCRIPTION’ ... OK * preparing ‘NGScopyData’: * checking DESCRIPTION meta-information ... OK * checking for LF line-endings in source and make files and shell scripts * checking for empty or unneeded directories * building ‘NGScopyData_0.114.0.tar.gz’