| Back to Multiple platform build/check report for BioC 3.7 experimental data | 
This page was generated on 2018-10-16 14:19:10 -0400 (Tue, 16 Oct 2018).
| Package 240/342 | Hostname | OS / Arch | INSTALL | BUILD | CHECK | BUILD BIN | ||||||
| PGPC 1.8.0 Felix Klein 
 | malbec2 | Linux (Ubuntu 16.04.1 LTS) / x86_64 | [ OK ] | ERROR | skipped | 
| Package: PGPC | 
| Version: 1.8.0 | 
| Command: /home/biocbuild/bbs-3.7-bioc/R/bin/R CMD INSTALL PGPC | 
| StartedAt: 2018-10-16 09:10:33 -0400 (Tue, 16 Oct 2018) | 
| EndedAt: 2018-10-16 09:11:24 -0400 (Tue, 16 Oct 2018) | 
| EllapsedTime: 51.0 seconds | 
| RetCode: 0 | 
| Status: OK | 
############################################################################## ############################################################################## ### ### Running command: ### ### /home/biocbuild/bbs-3.7-bioc/R/bin/R CMD INSTALL PGPC ### ############################################################################## ############################################################################## * installing to library ‘/home/biocbuild/bbs-3.7-bioc/R/library’ * installing *source* package ‘PGPC’ ... ** R ** data ** inst ** byte-compile and prepare package for lazy loading ** help *** installing help indices ** building package indices ** installing vignettes ** testing if installed package can be loaded * DONE (PGPC)