| Back to Multiple platform build/check report for BioC 3.7 experimental data | 
This page was generated on 2018-10-16 14:19:32 -0400 (Tue, 16 Oct 2018).
| Package 230/342 | Hostname | OS / Arch | INSTALL | BUILD | CHECK | BUILD BIN | ||||||
| PasillaTranscriptExpr 1.8.0 Malgorzata Nowicka 
 | malbec2 | Linux (Ubuntu 16.04.1 LTS) / x86_64 | OK | [ OK ] | OK |  | 
| Package: PasillaTranscriptExpr | 
| Version: 1.8.0 | 
| Command: /home/biocbuild/bbs-3.7-bioc/R/bin/R CMD build --keep-empty-dirs --no-resave-data PasillaTranscriptExpr | 
| StartedAt: 2018-10-16 09:59:21 -0400 (Tue, 16 Oct 2018) | 
| EndedAt: 2018-10-16 09:59:37 -0400 (Tue, 16 Oct 2018) | 
| EllapsedTime: 15.6 seconds | 
| RetCode: 0 | 
| Status: OK | 
| PackageFile: PasillaTranscriptExpr_1.8.0.tar.gz | 
| PackageFileSize: 777.2 KiB | 
############################################################################## ############################################################################## ### ### Running command: ### ### /home/biocbuild/bbs-3.7-bioc/R/bin/R CMD build --keep-empty-dirs --no-resave-data PasillaTranscriptExpr ### ############################################################################## ############################################################################## * checking for file ‘PasillaTranscriptExpr/DESCRIPTION’ ... OK * preparing ‘PasillaTranscriptExpr’: * checking DESCRIPTION meta-information ... OK * installing the package to build vignettes * creating vignettes ... OK * checking for LF line-endings in source and make files and shell scripts * checking for empty or unneeded directories * building ‘PasillaTranscriptExpr_1.8.0.tar.gz’