| Back to Multiple platform build/check report for BioC 3.7 experimental data | 
This page was generated on 2018-10-16 14:16:55 -0400 (Tue, 16 Oct 2018).
| Package 307/342 | Hostname | OS / Arch | INSTALL | BUILD | CHECK | BUILD BIN | ||||||
| SpikeInSubset 1.20.0 Rafael A. Irizarry 
 | malbec2 | Linux (Ubuntu 16.04.1 LTS) / x86_64 | [ OK ] | OK | WARNINGS |  | 
| Package: SpikeInSubset | 
| Version: 1.20.0 | 
| Command: /home/biocbuild/bbs-3.7-bioc/R/bin/R CMD INSTALL SpikeInSubset | 
| StartedAt: 2018-10-16 09:03:27 -0400 (Tue, 16 Oct 2018) | 
| EndedAt: 2018-10-16 09:03:38 -0400 (Tue, 16 Oct 2018) | 
| EllapsedTime: 10.2 seconds | 
| RetCode: 0 | 
| Status: OK | 
############################################################################## ############################################################################## ### ### Running command: ### ### /home/biocbuild/bbs-3.7-bioc/R/bin/R CMD INSTALL SpikeInSubset ### ############################################################################## ############################################################################## * installing to library ‘/home/biocbuild/bbs-3.7-bioc/R/library’ * installing *source* package ‘SpikeInSubset’ ... ** R ** data ** byte-compile and prepare package for lazy loading ** help Warning: /home/biocbuild/bbs-3.7-data-experiment/meat/SpikeInSubset/man/xhyb.Rd: docType ‘instance’ is unrecognized *** installing help indices ** building package indices ** testing if installed package can be loaded * DONE (SpikeInSubset)