| Back to Multiple platform build/check report for BioC 3.7 experimental data |
This page was generated on 2018-10-16 14:19:08 -0400 (Tue, 16 Oct 2018).
| Package 322/342 | Hostname | OS / Arch | INSTALL | BUILD | CHECK | BUILD BIN | ||||||
| TimerQuant 1.10.0 Joseph Barry
| malbec2 | Linux (Ubuntu 16.04.1 LTS) / x86_64 | OK | [ OK ] | OK |
| Package: TimerQuant |
| Version: 1.10.0 |
| Command: /home/biocbuild/bbs-3.7-bioc/R/bin/R CMD build --keep-empty-dirs --no-resave-data TimerQuant |
| StartedAt: 2018-10-16 09:51:55 -0400 (Tue, 16 Oct 2018) |
| EndedAt: 2018-10-16 09:53:13 -0400 (Tue, 16 Oct 2018) |
| EllapsedTime: 78.6 seconds |
| RetCode: 0 |
| Status: OK |
| PackageFile: TimerQuant_1.10.0.tar.gz |
| PackageFileSize: 1.612 MiB |
############################################################################## ############################################################################## ### ### Running command: ### ### /home/biocbuild/bbs-3.7-bioc/R/bin/R CMD build --keep-empty-dirs --no-resave-data TimerQuant ### ############################################################################## ############################################################################## * checking for file ‘TimerQuant/DESCRIPTION’ ... OK * preparing ‘TimerQuant’: * checking DESCRIPTION meta-information ... OK * installing the package to build vignettes * creating vignettes ... OK * checking for LF line-endings in source and make files and shell scripts * checking for empty or unneeded directories * looking to see if a ‘data/datalist’ file should be added * building ‘TimerQuant_1.10.0.tar.gz’