| Back to Multiple platform build/check report for BioC 3.7 experimental data | 
This page was generated on 2018-10-16 14:19:40 -0400 (Tue, 16 Oct 2018).
| Package 24/342 | Hostname | OS / Arch | INSTALL | BUILD | CHECK | BUILD BIN | ||||||
| biotmleData 1.4.0 Nima Hejazi 
 | malbec2 | Linux (Ubuntu 16.04.1 LTS) / x86_64 | OK | [ OK ] | OK |  | 
| Package: biotmleData | 
| Version: 1.4.0 | 
| Command: /home/biocbuild/bbs-3.7-bioc/R/bin/R CMD build --keep-empty-dirs --no-resave-data biotmleData | 
| StartedAt: 2018-10-16 10:03:08 -0400 (Tue, 16 Oct 2018) | 
| EndedAt: 2018-10-16 10:03:23 -0400 (Tue, 16 Oct 2018) | 
| EllapsedTime: 14.7 seconds | 
| RetCode: 0 | 
| Status: OK | 
| PackageFile: biotmleData_1.4.0.tar.gz | 
| PackageFileSize: 30.87 MiB | 
############################################################################## ############################################################################## ### ### Running command: ### ### /home/biocbuild/bbs-3.7-bioc/R/bin/R CMD build --keep-empty-dirs --no-resave-data biotmleData ### ############################################################################## ############################################################################## * checking for file ‘biotmleData/DESCRIPTION’ ... OK * preparing ‘biotmleData’: * checking DESCRIPTION meta-information ... OK * checking for LF line-endings in source and make files and shell scripts * checking for empty or unneeded directories * looking to see if a ‘data/datalist’ file should be added * building ‘biotmleData_1.4.0.tar.gz’