| Back to Multiple platform build/check report for BioC 3.7 experimental data |
This page was generated on 2018-10-16 14:18:15 -0400 (Tue, 16 Oct 2018).
| Package 58/342 | Hostname | OS / Arch | INSTALL | BUILD | CHECK | BUILD BIN | ||||||
| cMap2data 1.16.0 J. Saez-Rodriguez
| malbec2 | Linux (Ubuntu 16.04.1 LTS) / x86_64 | OK | [ OK ] | OK |
| Package: cMap2data |
| Version: 1.16.0 |
| Command: /home/biocbuild/bbs-3.7-bioc/R/bin/R CMD build --keep-empty-dirs --no-resave-data cMap2data |
| StartedAt: 2018-10-16 09:31:20 -0400 (Tue, 16 Oct 2018) |
| EndedAt: 2018-10-16 09:31:47 -0400 (Tue, 16 Oct 2018) |
| EllapsedTime: 27.1 seconds |
| RetCode: 0 |
| Status: OK |
| PackageFile: cMap2data_1.16.0.tar.gz |
| PackageFileSize: 27.89 MiB |
############################################################################## ############################################################################## ### ### Running command: ### ### /home/biocbuild/bbs-3.7-bioc/R/bin/R CMD build --keep-empty-dirs --no-resave-data cMap2data ### ############################################################################## ############################################################################## * checking for file ‘cMap2data/DESCRIPTION’ ... OK * preparing ‘cMap2data’: * checking DESCRIPTION meta-information ... OK * installing the package to build vignettes * creating vignettes ... OK * checking for LF line-endings in source and make files and shell scripts * checking for empty or unneeded directories * looking to see if a ‘data/datalist’ file should be added * building ‘cMap2data_1.16.0.tar.gz’