| Back to Multiple platform build/check report for BioC 3.7 experimental data | 
This page was generated on 2018-10-16 14:17:18 -0400 (Tue, 16 Oct 2018).
| Package 48/342 | Hostname | OS / Arch | INSTALL | BUILD | CHECK | BUILD BIN | ||||||
| charmData 1.16.0 Martin Aryee 
 | malbec2 | Linux (Ubuntu 16.04.1 LTS) / x86_64 | OK | [ OK ] | WARNINGS |  | 
| Package: charmData | 
| Version: 1.16.0 | 
| Command: /home/biocbuild/bbs-3.7-bioc/R/bin/R CMD build --keep-empty-dirs --no-resave-data charmData | 
| StartedAt: 2018-10-16 09:24:23 -0400 (Tue, 16 Oct 2018) | 
| EndedAt: 2018-10-16 09:24:41 -0400 (Tue, 16 Oct 2018) | 
| EllapsedTime: 18.2 seconds | 
| RetCode: 0 | 
| Status: OK | 
| PackageFile: charmData_1.16.0.tar.gz | 
| PackageFileSize: 15.1 MiB | 
############################################################################## ############################################################################## ### ### Running command: ### ### /home/biocbuild/bbs-3.7-bioc/R/bin/R CMD build --keep-empty-dirs --no-resave-data charmData ### ############################################################################## ############################################################################## * checking for file ‘charmData/DESCRIPTION’ ... OK * preparing ‘charmData’: * checking DESCRIPTION meta-information ... OK * checking for LF line-endings in source and make files and shell scripts * checking for empty or unneeded directories * looking to see if a ‘data/datalist’ file should be added * building ‘charmData_1.16.0.tar.gz’