| Back to Multiple platform build/check report for BioC 3.7 experimental data |
This page was generated on 2018-10-16 14:19:35 -0400 (Tue, 16 Oct 2018).
| Package 109/342 | Hostname | OS / Arch | INSTALL | BUILD | CHECK | BUILD BIN | ||||||
| flowQBData 1.6.0 Josef Spidlen
| malbec2 | Linux (Ubuntu 16.04.1 LTS) / x86_64 | OK | [ OK ] | OK |
| Package: flowQBData |
| Version: 1.6.0 |
| Command: /home/biocbuild/bbs-3.7-bioc/R/bin/R CMD build --keep-empty-dirs --no-resave-data flowQBData |
| StartedAt: 2018-10-16 10:00:46 -0400 (Tue, 16 Oct 2018) |
| EndedAt: 2018-10-16 10:01:51 -0400 (Tue, 16 Oct 2018) |
| EllapsedTime: 65.3 seconds |
| RetCode: 0 |
| Status: OK |
| PackageFile: flowQBData_1.6.0.tar.gz |
| PackageFileSize: 83 MiB |
############################################################################## ############################################################################## ### ### Running command: ### ### /home/biocbuild/bbs-3.7-bioc/R/bin/R CMD build --keep-empty-dirs --no-resave-data flowQBData ### ############################################################################## ############################################################################## * checking for file ‘flowQBData/DESCRIPTION’ ... OK * preparing ‘flowQBData’: * checking DESCRIPTION meta-information ... OK * checking for LF line-endings in source and make files and shell scripts * checking for empty or unneeded directories * building ‘flowQBData_1.6.0.tar.gz’