| Back to Multiple platform build/check report for BioC 3.7 experimental data | 
This page was generated on 2018-10-16 14:19:14 -0400 (Tue, 16 Oct 2018).
| Package 126/342 | Hostname | OS / Arch | INSTALL | BUILD | CHECK | BUILD BIN | ||||||
| geuvStore2 1.10.0 VJ Carey 
 | malbec2 | Linux (Ubuntu 16.04.1 LTS) / x86_64 | [ OK ] | OK | WARNINGS |  | 
| Package: geuvStore2 | 
| Version: 1.10.0 | 
| Command: /home/biocbuild/bbs-3.7-bioc/R/bin/R CMD INSTALL geuvStore2 | 
| StartedAt: 2018-10-16 09:09:33 -0400 (Tue, 16 Oct 2018) | 
| EndedAt: 2018-10-16 09:12:07 -0400 (Tue, 16 Oct 2018) | 
| EllapsedTime: 154.0 seconds | 
| RetCode: 0 | 
| Status: OK | 
############################################################################## ############################################################################## ### ### Running command: ### ### /home/biocbuild/bbs-3.7-bioc/R/bin/R CMD INSTALL geuvStore2 ### ############################################################################## ############################################################################## * installing to library ‘/home/biocbuild/bbs-3.7-bioc/R/library’ * installing *source* package ‘geuvStore2’ ... ** R ** data ** inst ** byte-compile and prepare package for lazy loading ** help *** installing help indices ** building package indices ** installing vignettes ** testing if installed package can be loaded * DONE (geuvStore2)