| Back to Multiple platform build/check report for BioC 3.7 experimental data | 
This page was generated on 2018-10-16 14:18:35 -0400 (Tue, 16 Oct 2018).
| Package 135/342 | Hostname | OS / Arch | INSTALL | BUILD | CHECK | BUILD BIN | ||||||
| h5vcData 1.114.0 Paul Theodor Pyl 
 | malbec2 | Linux (Ubuntu 16.04.1 LTS) / x86_64 | OK | [ OK ] | OK |  | 
| Package: h5vcData | 
| Version: 1.114.0 | 
| Command: /home/biocbuild/bbs-3.7-bioc/R/bin/R CMD build --keep-empty-dirs --no-resave-data h5vcData | 
| StartedAt: 2018-10-16 09:40:10 -0400 (Tue, 16 Oct 2018) | 
| EndedAt: 2018-10-16 09:40:18 -0400 (Tue, 16 Oct 2018) | 
| EllapsedTime: 8.0 seconds | 
| RetCode: 0 | 
| Status: OK | 
| PackageFile: h5vcData_1.114.0.tar.gz | 
| PackageFileSize: 24.83 MiB | 
############################################################################## ############################################################################## ### ### Running command: ### ### /home/biocbuild/bbs-3.7-bioc/R/bin/R CMD build --keep-empty-dirs --no-resave-data h5vcData ### ############################################################################## ############################################################################## * checking for file ‘h5vcData/DESCRIPTION’ ... OK * preparing ‘h5vcData’: * checking DESCRIPTION meta-information ... OK * checking for LF line-endings in source and make files and shell scripts * checking for empty or unneeded directories * looking to see if a ‘data/datalist’ file should be added * building ‘h5vcData_1.114.0.tar.gz’