| Back to Multiple platform build/check report for BioC 3.7 experimental data | 
This page was generated on 2018-10-16 14:19:51 -0400 (Tue, 16 Oct 2018).
| Package 152/342 | Hostname | OS / Arch | INSTALL | BUILD | CHECK | BUILD BIN | ||||||
| hgu133plus2CellScore 1.0.0 Nancy Mah 
 | malbec2 | Linux (Ubuntu 16.04.1 LTS) / x86_64 | OK | [ OK ] | OK |  | 
| Package: hgu133plus2CellScore | 
| Version: 1.0.0 | 
| Command: /home/biocbuild/bbs-3.7-bioc/R/bin/R CMD build --keep-empty-dirs --no-resave-data hgu133plus2CellScore | 
| StartedAt: 2018-10-16 10:05:04 -0400 (Tue, 16 Oct 2018) | 
| EndedAt: 2018-10-16 10:05:42 -0400 (Tue, 16 Oct 2018) | 
| EllapsedTime: 37.7 seconds | 
| RetCode: 0 | 
| Status: OK | 
| PackageFile: hgu133plus2CellScore_1.0.0.tar.gz | 
| PackageFileSize: 40.99 MiB | 
############################################################################## ############################################################################## ### ### Running command: ### ### /home/biocbuild/bbs-3.7-bioc/R/bin/R CMD build --keep-empty-dirs --no-resave-data hgu133plus2CellScore ### ############################################################################## ############################################################################## * checking for file ‘hgu133plus2CellScore/DESCRIPTION’ ... OK * preparing ‘hgu133plus2CellScore’: * checking DESCRIPTION meta-information ... OK * installing the package to build vignettes * creating vignettes ... OK * checking for LF line-endings in source and make files and shell scripts * checking for empty or unneeded directories * looking to see if a ‘data/datalist’ file should be added * building ‘hgu133plus2CellScore_1.0.0.tar.gz’