| Back to Multiple platform build/check report for BioC 3.7 experimental data |
This page was generated on 2018-10-16 14:17:10 -0400 (Tue, 16 Oct 2018).
| Package 162/342 | Hostname | OS / Arch | INSTALL | BUILD | CHECK | BUILD BIN | ||||||
| humanStemCell 0.20.0 R. Gentleman
| malbec2 | Linux (Ubuntu 16.04.1 LTS) / x86_64 | OK | [ OK ] | WARNINGS |
| Package: humanStemCell |
| Version: 0.20.0 |
| Command: /home/biocbuild/bbs-3.7-bioc/R/bin/R CMD build --keep-empty-dirs --no-resave-data humanStemCell |
| StartedAt: 2018-10-16 09:22:54 -0400 (Tue, 16 Oct 2018) |
| EndedAt: 2018-10-16 09:24:02 -0400 (Tue, 16 Oct 2018) |
| EllapsedTime: 68.0 seconds |
| RetCode: 0 |
| Status: OK |
| PackageFile: humanStemCell_0.20.0.tar.gz |
| PackageFileSize: 30.64 MiB |
############################################################################## ############################################################################## ### ### Running command: ### ### /home/biocbuild/bbs-3.7-bioc/R/bin/R CMD build --keep-empty-dirs --no-resave-data humanStemCell ### ############################################################################## ############################################################################## * checking for file ‘humanStemCell/DESCRIPTION’ ... OK * preparing ‘humanStemCell’: * checking DESCRIPTION meta-information ... OK * checking for LF line-endings in source and make files and shell scripts * checking for empty or unneeded directories * looking to see if a ‘data/datalist’ file should be added * building ‘humanStemCell_0.20.0.tar.gz’