| Back to Multiple platform build/check report for BioC 3.7 experimental data | 
This page was generated on 2018-10-16 14:16:58 -0400 (Tue, 16 Oct 2018).
| Package 183/342 | Hostname | OS / Arch | INSTALL | BUILD | CHECK | BUILD BIN | ||||||
| lungExpression 0.18.0 Robert Scharpf 
 | malbec2 | Linux (Ubuntu 16.04.1 LTS) / x86_64 | [ OK ] | OK | OK |  | 
| Package: lungExpression | 
| Version: 0.18.0 | 
| Command: /home/biocbuild/bbs-3.7-bioc/R/bin/R CMD INSTALL lungExpression | 
| StartedAt: 2018-10-16 09:02:03 -0400 (Tue, 16 Oct 2018) | 
| EndedAt: 2018-10-16 09:02:09 -0400 (Tue, 16 Oct 2018) | 
| EllapsedTime: 5.7 seconds | 
| RetCode: 0 | 
| Status: OK | 
############################################################################## ############################################################################## ### ### Running command: ### ### /home/biocbuild/bbs-3.7-bioc/R/bin/R CMD INSTALL lungExpression ### ############################################################################## ############################################################################## * installing to library ‘/home/biocbuild/bbs-3.7-bioc/R/library’ * installing *source* package ‘lungExpression’ ... ** data ** help *** installing help indices ** building package indices ** testing if installed package can be loaded * DONE (lungExpression)