| Back to Multiple platform build/check report for BioC 3.7 experimental data | 
This page was generated on 2018-10-16 14:18:53 -0400 (Tue, 16 Oct 2018).
| Package 187/342 | Hostname | OS / Arch | INSTALL | BUILD | CHECK | BUILD BIN | ||||||
| mAPKLData 1.12.0 Argiris Sakellariou 
 | malbec2 | Linux (Ubuntu 16.04.1 LTS) / x86_64 | OK | [ OK ] | WARNINGS |  | 
| Package: mAPKLData | 
| Version: 1.12.0 | 
| Command: /home/biocbuild/bbs-3.7-bioc/R/bin/R CMD build --keep-empty-dirs --no-resave-data mAPKLData | 
| StartedAt: 2018-10-16 09:46:48 -0400 (Tue, 16 Oct 2018) | 
| EndedAt: 2018-10-16 09:46:51 -0400 (Tue, 16 Oct 2018) | 
| EllapsedTime: 3.0 seconds | 
| RetCode: 0 | 
| Status: OK | 
| PackageFile: mAPKLData_1.12.0.tar.gz | 
| PackageFileSize: 9.064 MiB | 
############################################################################## ############################################################################## ### ### Running command: ### ### /home/biocbuild/bbs-3.7-bioc/R/bin/R CMD build --keep-empty-dirs --no-resave-data mAPKLData ### ############################################################################## ############################################################################## * checking for file ‘mAPKLData/DESCRIPTION’ ... OK * preparing ‘mAPKLData’: * checking DESCRIPTION meta-information ... OK * checking whether ‘INDEX’ is up-to-date ... NO * use ‘--force’ to remove the existing ‘INDEX’ * checking for LF line-endings in source and make files and shell scripts * checking for empty or unneeded directories * looking to see if a ‘data/datalist’ file should be added * building ‘mAPKLData_1.12.0.tar.gz’