| Back to Multiple platform build/check report for BioC 3.7 experimental data | 
This page was generated on 2018-10-16 14:19:45 -0400 (Tue, 16 Oct 2018).
| Package 201/342 | Hostname | OS / Arch | INSTALL | BUILD | CHECK | BUILD BIN | ||||||
| methyvimData 1.2.0 Nima Hejazi 
 | malbec2 | Linux (Ubuntu 16.04.1 LTS) / x86_64 | [ OK ] | OK | OK |  | 
| Package: methyvimData | 
| Version: 1.2.0 | 
| Command: /home/biocbuild/bbs-3.7-bioc/R/bin/R CMD INSTALL methyvimData | 
| StartedAt: 2018-10-16 09:14:26 -0400 (Tue, 16 Oct 2018) | 
| EndedAt: 2018-10-16 09:14:44 -0400 (Tue, 16 Oct 2018) | 
| EllapsedTime: 18.5 seconds | 
| RetCode: 0 | 
| Status: OK | 
############################################################################## ############################################################################## ### ### Running command: ### ### /home/biocbuild/bbs-3.7-bioc/R/bin/R CMD INSTALL methyvimData ### ############################################################################## ############################################################################## * installing to library ‘/home/biocbuild/bbs-3.7-bioc/R/library’ * installing *source* package ‘methyvimData’ ... ** R ** data ** byte-compile and prepare package for lazy loading ** help *** installing help indices ** building package indices ** installing vignettes ** testing if installed package can be loaded * DONE (methyvimData)