| Back to Multiple platform build/check report for BioC 3.7 experimental data |
This page was generated on 2018-10-16 14:18:43 -0400 (Tue, 16 Oct 2018).
| Package 214/342 | Hostname | OS / Arch | INSTALL | BUILD | CHECK | BUILD BIN | ||||||
| msd16s 0.114.0 Joseph N. Paulson
| malbec2 | Linux (Ubuntu 16.04.1 LTS) / x86_64 | OK | [ OK ] | OK |
| Package: msd16s |
| Version: 0.114.0 |
| Command: /home/biocbuild/bbs-3.7-bioc/R/bin/R CMD build --keep-empty-dirs --no-resave-data msd16s |
| StartedAt: 2018-10-16 09:44:18 -0400 (Tue, 16 Oct 2018) |
| EndedAt: 2018-10-16 09:44:44 -0400 (Tue, 16 Oct 2018) |
| EllapsedTime: 26.4 seconds |
| RetCode: 0 |
| Status: OK |
| PackageFile: msd16s_0.114.0.tar.gz |
| PackageFileSize: 1.755 MiB |
############################################################################## ############################################################################## ### ### Running command: ### ### /home/biocbuild/bbs-3.7-bioc/R/bin/R CMD build --keep-empty-dirs --no-resave-data msd16s ### ############################################################################## ############################################################################## * checking for file ‘msd16s/DESCRIPTION’ ... OK * preparing ‘msd16s’: * checking DESCRIPTION meta-information ... OK * installing the package to build vignettes * creating vignettes ... OK * checking for LF line-endings in source and make files and shell scripts * checking for empty or unneeded directories * looking to see if a ‘data/datalist’ file should be added * building ‘msd16s_0.114.0.tar.gz’