| Back to Multiple platform build/check report for BioC 3.7 experimental data |
This page was generated on 2018-10-16 14:19:07 -0400 (Tue, 16 Oct 2018).
| Package 219/342 | Hostname | OS / Arch | INSTALL | BUILD | CHECK | BUILD BIN | ||||||
| mtbls2 1.10.0 Steffen Neumann
| malbec2 | Linux (Ubuntu 16.04.1 LTS) / x86_64 | OK | [ OK ] | OK |
| Package: mtbls2 |
| Version: 1.10.0 |
| Command: /home/biocbuild/bbs-3.7-bioc/R/bin/R CMD build --keep-empty-dirs --no-resave-data mtbls2 |
| StartedAt: 2018-10-16 09:51:41 -0400 (Tue, 16 Oct 2018) |
| EndedAt: 2018-10-16 10:09:23 -0400 (Tue, 16 Oct 2018) |
| EllapsedTime: 1061.5 seconds |
| RetCode: 0 |
| Status: OK |
| PackageFile: mtbls2_1.10.0.tar.gz |
| PackageFileSize: 91.39 MiB |
##############################################################################
##############################################################################
###
### Running command:
###
### /home/biocbuild/bbs-3.7-bioc/R/bin/R CMD build --keep-empty-dirs --no-resave-data mtbls2
###
##############################################################################
##############################################################################
* checking for file ‘mtbls2/DESCRIPTION’ ... OK
* preparing ‘mtbls2’:
* checking DESCRIPTION meta-information ... OK
* installing the package to build vignettes
* creating vignettes ... OK
Warning: ‘inst/doc’ file
‘MTBLS2-xcms3.R’
ignored as vignettes have been rebuilt.
Run R CMD build with --no-build-vignettes to prevent rebuilding.
* checking for LF line-endings in source and make files and shell scripts
* checking for empty or unneeded directories
* looking to see if a ‘data/datalist’ file should be added
* building ‘mtbls2_1.10.0.tar.gz’