| Back to Multiple platform build/check report for BioC 3.7 experimental data |
This page was generated on 2018-10-16 14:17:11 -0400 (Tue, 16 Oct 2018).
| Package 222/342 | Hostname | OS / Arch | INSTALL | BUILD | CHECK | BUILD BIN | ||||||
| mvoutData 1.16.0 VJ Carey
| malbec2 | Linux (Ubuntu 16.04.1 LTS) / x86_64 | OK | [ OK ] | OK |
| Package: mvoutData |
| Version: 1.16.0 |
| Command: /home/biocbuild/bbs-3.7-bioc/R/bin/R CMD build --keep-empty-dirs --no-resave-data mvoutData |
| StartedAt: 2018-10-16 09:23:22 -0400 (Tue, 16 Oct 2018) |
| EndedAt: 2018-10-16 09:23:27 -0400 (Tue, 16 Oct 2018) |
| EllapsedTime: 4.5 seconds |
| RetCode: 0 |
| Status: OK |
| PackageFile: mvoutData_1.16.0.tar.gz |
| PackageFileSize: 14.19 MiB |
############################################################################## ############################################################################## ### ### Running command: ### ### /home/biocbuild/bbs-3.7-bioc/R/bin/R CMD build --keep-empty-dirs --no-resave-data mvoutData ### ############################################################################## ############################################################################## * checking for file ‘mvoutData/DESCRIPTION’ ... OK * preparing ‘mvoutData’: * checking DESCRIPTION meta-information ... OK * checking for LF line-endings in source and make files and shell scripts * checking for empty or unneeded directories * looking to see if a ‘data/datalist’ file should be added * building ‘mvoutData_1.16.0.tar.gz’