| Back to Multiple platform build/check report for BioC 3.7 experimental data | 
This page was generated on 2018-10-16 14:19:47 -0400 (Tue, 16 Oct 2018).
| Package 237/342 | Hostname | OS / Arch | INSTALL | BUILD | CHECK | BUILD BIN | ||||||
| pcxnData 2.2.0 Sokratis Kariotis 
 | malbec2 | Linux (Ubuntu 16.04.1 LTS) / x86_64 | OK | [ OK ] | OK |  | 
| Package: pcxnData | 
| Version: 2.2.0 | 
| Command: /home/biocbuild/bbs-3.7-bioc/R/bin/R CMD build --keep-empty-dirs --no-resave-data pcxnData | 
| StartedAt: 2018-10-16 10:04:02 -0400 (Tue, 16 Oct 2018) | 
| EndedAt: 2018-10-16 10:04:32 -0400 (Tue, 16 Oct 2018) | 
| EllapsedTime: 30.1 seconds | 
| RetCode: 0 | 
| Status: OK | 
| PackageFile: pcxnData_2.2.0.tar.gz | 
| PackageFileSize: 38.03 MiB | 
############################################################################## ############################################################################## ### ### Running command: ### ### /home/biocbuild/bbs-3.7-bioc/R/bin/R CMD build --keep-empty-dirs --no-resave-data pcxnData ### ############################################################################## ############################################################################## * checking for file ‘pcxnData/DESCRIPTION’ ... OK * preparing ‘pcxnData’: * checking DESCRIPTION meta-information ... OK * installing the package to build vignettes * creating vignettes ... OK * checking for LF line-endings in source and make files and shell scripts * checking for empty or unneeded directories * looking to see if a ‘data/datalist’ file should be added * building ‘pcxnData_2.2.0.tar.gz’