| Back to Multiple platform build/check report for BioC 3.9 experimental data |
This page was generated on 2019-10-17 16:51:34 -0400 (Thu, 17 Oct 2019).
| Package 14/371 | Hostname | OS / Arch | INSTALL | BUILD | CHECK | BUILD BIN | ||||||
| alpineData 1.10.0 Michael Love
| malbec2 | Linux (Ubuntu 18.04.2 LTS) / x86_64 | OK | [ OK ] | OK |
| Package: alpineData |
| Version: 1.10.0 |
| Command: /home/biocbuild/bbs-3.9-bioc/R/bin/R CMD build --keep-empty-dirs --no-resave-data alpineData |
| StartedAt: 2019-10-17 12:13:35 -0400 (Thu, 17 Oct 2019) |
| EndedAt: 2019-10-17 12:14:25 -0400 (Thu, 17 Oct 2019) |
| EllapsedTime: 49.6 seconds |
| RetCode: 0 |
| Status: OK |
| PackageFile: alpineData_1.10.0.tar.gz |
| PackageFileSize: 21.78 KiB |
############################################################################## ############################################################################## ### ### Running command: ### ### /home/biocbuild/bbs-3.9-bioc/R/bin/R CMD build --keep-empty-dirs --no-resave-data alpineData ### ############################################################################## ############################################################################## * checking for file ‘alpineData/DESCRIPTION’ ... OK * preparing ‘alpineData’: * checking DESCRIPTION meta-information ... OK * installing the package to build vignettes * creating vignettes ... OK * checking for LF line-endings in source and make files and shell scripts * checking for empty or unneeded directories * building ‘alpineData_1.10.0.tar.gz’