| Back to Multiple platform build/check report for BioC 3.9 experimental data |
This page was generated on 2019-10-17 16:51:38 -0400 (Thu, 17 Oct 2019).
| Package 33/371 | Hostname | OS / Arch | INSTALL | BUILD | CHECK | BUILD BIN | ||||||
| breakpointRdata 1.2.0 David Porubsky
| malbec2 | Linux (Ubuntu 18.04.2 LTS) / x86_64 | OK | [ OK ] | OK |
| Package: breakpointRdata |
| Version: 1.2.0 |
| Command: /home/biocbuild/bbs-3.9-bioc/R/bin/R CMD build --keep-empty-dirs --no-resave-data breakpointRdata |
| StartedAt: 2019-10-17 12:21:40 -0400 (Thu, 17 Oct 2019) |
| EndedAt: 2019-10-17 12:21:57 -0400 (Thu, 17 Oct 2019) |
| EllapsedTime: 17.1 seconds |
| RetCode: 0 |
| Status: OK |
| PackageFile: breakpointRdata_1.2.0.tar.gz |
| PackageFileSize: 69.47 MiB |
############################################################################## ############################################################################## ### ### Running command: ### ### /home/biocbuild/bbs-3.9-bioc/R/bin/R CMD build --keep-empty-dirs --no-resave-data breakpointRdata ### ############################################################################## ############################################################################## * checking for file ‘breakpointRdata/DESCRIPTION’ ... OK * preparing ‘breakpointRdata’: * checking DESCRIPTION meta-information ... OK * installing the package to build vignettes * creating vignettes ... OK * checking for LF line-endings in source and make files and shell scripts * checking for empty or unneeded directories * building ‘breakpointRdata_1.2.0.tar.gz’