Back to Multiple platform build/check report for BioC 3.23:   simplified   long
A[B]CDEFGHIJKLMNOPQRSTUVWXYZ

This page was generated on 2025-11-19 10:13 -0500 (Wed, 19 Nov 2025).

HostnameOSArch (*)R versionInstalled pkgs
nebbiolo1Linux (Ubuntu 24.04.3 LTS)x86_64R Under development (unstable) (2025-10-20 r88955) -- "Unsuffered Consequences" 4827
lconwaymacOS 12.7.6 Montereyx86_64R Under development (unstable) (2025-10-21 r88958) -- "Unsuffered Consequences" 4600
kjohnson3macOS 13.7.7 Venturaarm64R Under development (unstable) (2025-11-04 r88984) -- "Unsuffered Consequences" 4564
Click on any hostname to see more info about the system (e.g. compilers)      (*) as reported by 'uname -p', except on Windows and Mac OS X

Package 215/2325HostnameOS / ArchINSTALLBUILDCHECKBUILD BIN
BioNAR 1.13.0  (landing page)
Anatoly Sorokin
Snapshot Date: 2025-11-18 13:40 -0500 (Tue, 18 Nov 2025)
git_url: https://git.bioconductor.org/packages/BioNAR
git_branch: devel
git_last_commit: 77425df
git_last_commit_date: 2025-10-29 11:19:29 -0500 (Wed, 29 Oct 2025)
nebbiolo1Linux (Ubuntu 24.04.3 LTS) / x86_64  OK    OK    ERROR  
lconwaymacOS 12.7.6 Monterey / x86_64  OK    OK    ERROR    OK  
kjohnson3macOS 13.7.7 Ventura / arm64  OK    OK    ERROR    OK  


CHECK results for BioNAR on lconway

To the developers/maintainers of the BioNAR package:
- Allow up to 24 hours (and sometimes 48 hours) for your latest push to git@git.bioconductor.org:packages/BioNAR.git to reflect on this report. See Troubleshooting Build Report for more information.
- Use the following Renviron settings to reproduce errors and warnings.
- If 'R CMD check' started to fail recently on the Linux builder(s) over a missing dependency, add the missing dependency to 'Suggests:' in your DESCRIPTION file. See Renviron.bioc for more information.

raw results


Summary

Package: BioNAR
Version: 1.13.0
Command: /Library/Frameworks/R.framework/Resources/bin/R CMD check --install=check:BioNAR.install-out.txt --library=/Library/Frameworks/R.framework/Resources/library --no-vignettes --timings BioNAR_1.13.0.tar.gz
StartedAt: 2025-11-18 19:40:23 -0500 (Tue, 18 Nov 2025)
EndedAt: 2025-11-18 19:50:05 -0500 (Tue, 18 Nov 2025)
EllapsedTime: 581.9 seconds
RetCode: 1
Status:   ERROR  
CheckDir: BioNAR.Rcheck
Warnings: NA

Command output

##############################################################################
##############################################################################
###
### Running command:
###
###   /Library/Frameworks/R.framework/Resources/bin/R CMD check --install=check:BioNAR.install-out.txt --library=/Library/Frameworks/R.framework/Resources/library --no-vignettes --timings BioNAR_1.13.0.tar.gz
###
##############################################################################
##############################################################################


* using log directory ‘/Users/biocbuild/bbs-3.23-bioc/meat/BioNAR.Rcheck’
* using R Under development (unstable) (2025-10-21 r88958)
* using platform: x86_64-apple-darwin20
* R was compiled by
    Apple clang version 14.0.0 (clang-1400.0.29.202)
    GNU Fortran (GCC) 14.2.0
* running under: macOS Ventura 13.7.8
* using session charset: UTF-8
* using option ‘--no-vignettes’
* checking for file ‘BioNAR/DESCRIPTION’ ... OK
* this is package ‘BioNAR’ version ‘1.13.0’
* package encoding: UTF-8
* checking package namespace information ... OK
* checking package dependencies ... OK
* checking if this is a source package ... OK
* checking if there is a namespace ... OK
* checking for hidden files and directories ... OK
* checking for portable file names ... OK
* checking for sufficient/correct file permissions ... OK
* checking whether package ‘BioNAR’ can be installed ... OK
* checking installed package size ... INFO
  installed size is  6.8Mb
  sub-directories of 1Mb or more:
    extdata   6.1Mb
* checking package directory ... OK
* checking ‘build’ directory ... OK
* checking DESCRIPTION meta-information ... OK
* checking top-level files ... OK
* checking for left-over files ... OK
* checking index information ... OK
* checking package subdirectories ... OK
* checking code files for non-ASCII characters ... OK
* checking R files for syntax errors ... OK
* checking whether the package can be loaded ... OK
* checking whether the package can be loaded with stated dependencies ... OK
* checking whether the package can be unloaded cleanly ... OK
* checking whether the namespace can be loaded with stated dependencies ... OK
* checking whether the namespace can be unloaded cleanly ... OK
* checking dependencies in R code ... NOTE
Package in Depends field not imported from: ‘Rdpack’
  These packages need to be imported from (in the NAMESPACE file)
  for when this namespace is loaded but not attached.
There are ::: calls to the package's namespace in its code. A package
  almost never needs to use ::: for its own objects:
  ‘addNoise’ ‘gofs’ ‘highlightRate’ ‘plotSigmoid’
* checking S3 generic/method consistency ... OK
* checking replacement functions ... OK
* checking foreign function calls ... OK
* checking R code for possible problems ... OK
* checking Rd files ... OK
* checking Rd metadata ... OK
* checking Rd cross-references ... NOTE
Unknown package ‘clusterCons’ in Rd xrefs
* checking for missing documentation entries ... OK
* checking for code/documentation mismatches ... OK
* checking Rd \usage sections ... OK
* checking Rd contents ... OK
* checking for unstated dependencies in examples ... OK
* checking contents of ‘data’ directory ... OK
* checking data for non-ASCII characters ... OK
* checking LazyData ... OK
* checking data for ASCII and uncompressed saves ... OK
* checking files in ‘vignettes’ ... OK
* checking examples ... OK
Examples with CPU (user + system) or elapsed time > 5s
                           user system elapsed
getEntropy               10.935  4.981  17.563
getCentralityMatrix      10.922  3.453  15.856
addEdgeAtts              10.581  2.823  15.681
plotEntropy              12.116  0.615  12.868
calcEntropy              10.704  0.775  12.171
getGraphCentralityECDF   10.049  0.935  11.745
clusteringSummary        10.620  0.065  10.778
annotateTopOntoOVG        9.481  0.706  10.374
runPermDisease            7.300  0.174   7.605
annotateSCHanno           6.614  0.624   7.441
annotateGOont             5.259  1.113   7.641
normModularity            5.303  0.413   5.774
annotateGoBP              4.893  0.626   6.277
calcSparsness             4.962  0.552   5.805
FitDegree                 1.037  0.049   6.979
getRandomGraphCentrality  0.627  0.025  12.200
* checking for unstated dependencies in ‘tests’ ... OK
* checking tests ...
  Running ‘testthat.R’
 ERROR
Running the tests in ‘tests/testthat.R’ failed.
Last 13 lines of output:
  ══ Skipped tests (2) ═══════════════════════════════════════════════════════════
  • On CRAN (2): 'test_bridgeness.R:12:1', 'test_bridgeness.R:66:1'
  
  ══ Failed tests ════════════════════════════════════════════════════════════════
  ── Failure ('test_bridgeness.R:101:5'): Norm Modularity ────────────────────────
  Expected `nm` to equal 0.009390085.
  Differences:
    `actual`: 0.0070
  `expected`: 0.0094
  
  
  [ FAIL 1 | WARN 0 | SKIP 2 | PASS 124 ]
  Error:
  ! Test failures.
  Execution halted
* checking for unstated dependencies in vignettes ... OK
* checking package vignettes ... OK
* checking running R code from vignettes ... SKIPPED
* checking re-building of vignette outputs ... SKIPPED
* checking PDF version of manual ... OK
* DONE

Status: 1 ERROR, 2 NOTEs
See
  ‘/Users/biocbuild/bbs-3.23-bioc/meat/BioNAR.Rcheck/00check.log’
for details.


Installation output

BioNAR.Rcheck/00install.out

##############################################################################
##############################################################################
###
### Running command:
###
###   /Library/Frameworks/R.framework/Resources/bin/R CMD INSTALL BioNAR
###
##############################################################################
##############################################################################


* installing to library ‘/Library/Frameworks/R.framework/Versions/4.6-x86_64/Resources/library’
* installing *source* package ‘BioNAR’ ...
** this is package ‘BioNAR’ version ‘1.13.0’
** using staged installation
** R
** data
*** moving datasets to lazyload DB
** inst
** byte-compile and prepare package for lazy loading
** help
*** installing help indices
** building package indices
** installing vignettes
** testing if installed package can be loaded from temporary location
** testing if installed package can be loaded from final location
** testing if installed package keeps a record of temporary installation path
* DONE (BioNAR)

Tests output

BioNAR.Rcheck/tests/testthat.Rout.fail


R Under development (unstable) (2025-10-21 r88958) -- "Unsuffered Consequences"
Copyright (C) 2025 The R Foundation for Statistical Computing
Platform: x86_64-apple-darwin20

R is free software and comes with ABSOLUTELY NO WARRANTY.
You are welcome to redistribute it under certain conditions.
Type 'license()' or 'licence()' for distribution details.

R is a collaborative project with many contributors.
Type 'contributors()' for more information and
'citation()' on how to cite R or R packages in publications.

Type 'demo()' for some demos, 'help()' for on-line help, or
'help.start()' for an HTML browser interface to help.
Type 'q()' to quit R.

> library(testthat)
> library(BioNAR)
Loading required package: igraph

Attaching package: 'igraph'

The following object is masked from 'package:testthat':

    compare

The following objects are masked from 'package:stats':

    decompose, spectrum

The following object is masked from 'package:base':

    union

Loading required package: poweRlaw
Loading required package: latex2exp
Loading required package: RSpectra
Loading required package: Rdpack



Attaching package: 'BioNAR'

The following object is masked from 'package:igraph':

    permute

> 
> test_check("BioNAR")
Saving _problems/test_bridgeness-101.R
[ FAIL 1 | WARN 0 | SKIP 2 | PASS 124 ]

══ Skipped tests (2) ═══════════════════════════════════════════════════════════
• On CRAN (2): 'test_bridgeness.R:12:1', 'test_bridgeness.R:66:1'

══ Failed tests ════════════════════════════════════════════════════════════════
── Failure ('test_bridgeness.R:101:5'): Norm Modularity ────────────────────────
Expected `nm` to equal 0.009390085.
Differences:
  `actual`: 0.0070
`expected`: 0.0094


[ FAIL 1 | WARN 0 | SKIP 2 | PASS 124 ]
Error:
! Test failures.
Execution halted

Example timings

BioNAR.Rcheck/BioNAR-Ex.timings

nameusersystemelapsed
FitDegree1.0370.0496.979
addEdgeAtts10.581 2.82315.681
annotateGOont5.2591.1137.641
annotateGeneNames0.3230.0220.352
annotateGoBP4.8930.6266.277
annotateGoCC3.8540.3644.361
annotateGoMF4.0820.3604.523
annotatePresynaptic2.2490.1802.478
annotateSCHanno6.6140.6247.441
annotateTopOntoOVG 9.481 0.70610.374
annotateVertex0.0040.0010.005
applpMatrixToGraph0.0010.0000.002
buildNetwork0.0030.0000.004
calcAllClustering3.3360.0443.583
calcBridgeness0.0840.0060.092
calcCentrality0.1120.0050.167
calcCentralityExternalDistances0.6590.0160.681
calcCentralityInternalDistances0.7080.0130.730
calcClustering0.0050.0000.007
calcDiseasePairs0.5380.0160.657
calcEntropy10.704 0.77512.171
calcMembership0.0050.0010.007
calcReclusterMatrix0.0390.0030.043
calcSparsness4.9620.5525.805
clusterORA0.3240.0220.482
clusteringSummary10.620 0.06510.778
degreeBinnedGDAs0.3300.0250.363
escapeAnnotation0.0010.0000.001
evalCentralitySignificance0.5980.0100.617
findLCC0.0050.0010.006
getAnnotationList0.0630.0060.073
getAnnotationVertexList0.0740.0090.086
getBridgeness0.0720.0040.077
getCentralityMatrix10.922 3.45315.856
getClusterSubgraphByID0.0260.0080.041
getClustering0.0270.0070.036
getCommunityGraph0.0300.0150.051
getDType0.0000.0000.001
getDYNAMO0.0430.0230.077
getDiseases0.0000.0010.001
getEntropy10.935 4.98117.563
getEntropyRate0.0060.0010.007
getGNP0.0240.0030.026
getGraphCentralityECDF10.049 0.93511.745
getPA0.0200.0020.022
getRandomGraphCentrality 0.627 0.02512.200
getRobustness0.5880.0400.637
layoutByCluster0.1220.0030.127
layoutByRecluster0.1180.0050.124
makeConsensusMatrix0.6100.0410.659
makeMembership0.0020.0010.004
metlMatrix0.0090.0010.011
normModularity5.3030.4135.774
permute000
plotBridgeness0.5780.0250.611
plotEntropy12.116 0.61512.868
prepareGDA0.3510.0190.381
recluster0.0420.0020.046
removeVertexTerm0.0060.0010.006
runPermDisease7.3000.1747.605
sampleDegBinnedGDA0.4470.0200.474
sampleGraphClust0.0280.0020.030
unescapeAnnotation0.0010.0000.002
zeroNA000