Back to Multiple platform build/check report for BioC 3.23:   simplified   long
A[B]CDEFGHIJKLMNOPQRSTUVWXYZ

This page was generated on 2025-11-19 10:14 -0500 (Wed, 19 Nov 2025).

HostnameOSArch (*)R versionInstalled pkgs
nebbiolo1Linux (Ubuntu 24.04.3 LTS)x86_64R Under development (unstable) (2025-10-20 r88955) -- "Unsuffered Consequences" 4827
lconwaymacOS 12.7.6 Montereyx86_64R Under development (unstable) (2025-10-21 r88958) -- "Unsuffered Consequences" 4600
kjohnson3macOS 13.7.7 Venturaarm64R Under development (unstable) (2025-11-04 r88984) -- "Unsuffered Consequences" 4564
Click on any hostname to see more info about the system (e.g. compilers)      (*) as reported by 'uname -p', except on Windows and Mac OS X

Package 254/2325HostnameOS / ArchINSTALLBUILDCHECKBUILD BIN
BulkSignalR 1.3.1  (landing page)
Jean-Philippe Villemin
Snapshot Date: 2025-11-18 13:40 -0500 (Tue, 18 Nov 2025)
git_url: https://git.bioconductor.org/packages/BulkSignalR
git_branch: devel
git_last_commit: e236c5a
git_last_commit_date: 2025-11-08 17:09:36 -0500 (Sat, 08 Nov 2025)
nebbiolo1Linux (Ubuntu 24.04.3 LTS) / x86_64  OK    OK    OK  UNNEEDED, same version is already published
lconwaymacOS 12.7.6 Monterey / x86_64  OK    OK    OK    OK  YES
kjohnson3macOS 13.7.7 Ventura / arm64  OK    OK    OK    OK  UNNEEDED, same version is already published


CHECK results for BulkSignalR on kjohnson3

To the developers/maintainers of the BulkSignalR package:
- Allow up to 24 hours (and sometimes 48 hours) for your latest push to git@git.bioconductor.org:packages/BulkSignalR.git to reflect on this report. See Troubleshooting Build Report for more information.
- Use the following Renviron settings to reproduce errors and warnings.
- If 'R CMD check' started to fail recently on the Linux builder(s) over a missing dependency, add the missing dependency to 'Suggests:' in your DESCRIPTION file. See Renviron.bioc for more information.

raw results


Summary

Package: BulkSignalR
Version: 1.3.1
Command: /Library/Frameworks/R.framework/Resources/bin/R CMD check --install=check:BulkSignalR.install-out.txt --library=/Library/Frameworks/R.framework/Resources/library --no-vignettes --timings BulkSignalR_1.3.1.tar.gz
StartedAt: 2025-11-18 18:57:56 -0500 (Tue, 18 Nov 2025)
EndedAt: 2025-11-18 19:01:22 -0500 (Tue, 18 Nov 2025)
EllapsedTime: 205.5 seconds
RetCode: 0
Status:   OK  
CheckDir: BulkSignalR.Rcheck
Warnings: 0

Command output

##############################################################################
##############################################################################
###
### Running command:
###
###   /Library/Frameworks/R.framework/Resources/bin/R CMD check --install=check:BulkSignalR.install-out.txt --library=/Library/Frameworks/R.framework/Resources/library --no-vignettes --timings BulkSignalR_1.3.1.tar.gz
###
##############################################################################
##############################################################################


* using log directory ‘/Users/biocbuild/bbs-3.23-bioc/meat/BulkSignalR.Rcheck’
* using R Under development (unstable) (2025-11-04 r88984)
* using platform: aarch64-apple-darwin20
* R was compiled by
    Apple clang version 16.0.0 (clang-1600.0.26.6)
    GNU Fortran (GCC) 14.2.0
* running under: macOS Ventura 13.7.8
* using session charset: UTF-8
* using option ‘--no-vignettes’
* checking for file ‘BulkSignalR/DESCRIPTION’ ... OK
* checking extension type ... Package
* this is package ‘BulkSignalR’ version ‘1.3.1’
* package encoding: UTF-8
* checking package namespace information ... OK
* checking package dependencies ... INFO
Imports includes 26 non-default packages.
Importing from so many packages makes the package vulnerable to any of
them becoming unavailable.  Move as many as possible to Suggests and
use conditionally.
* checking if this is a source package ... OK
* checking if there is a namespace ... OK
* checking for hidden files and directories ... OK
* checking for portable file names ... OK
* checking for sufficient/correct file permissions ... OK
* checking whether package ‘BulkSignalR’ can be installed ... OK
* checking installed package size ... OK
* checking package directory ... OK
* checking ‘build’ directory ... OK
* checking DESCRIPTION meta-information ... OK
* checking top-level files ... OK
* checking for left-over files ... OK
* checking index information ... OK
* checking package subdirectories ... OK
* checking code files for non-ASCII characters ... OK
* checking R files for syntax errors ... OK
* checking whether the package can be loaded ... OK
* checking whether the package can be loaded with stated dependencies ... OK
* checking whether the package can be unloaded cleanly ... OK
* checking whether the namespace can be loaded with stated dependencies ... OK
* checking whether the namespace can be unloaded cleanly ... OK
* checking whether startup messages can be suppressed ... OK
* checking dependencies in R code ... OK
* checking S3 generic/method consistency ... OK
* checking replacement functions ... OK
* checking foreign function calls ... OK
* checking R code for possible problems ... OK
* checking Rd files ... OK
* checking Rd metadata ... OK
* checking Rd cross-references ... OK
* checking for missing documentation entries ... OK
* checking for code/documentation mismatches ... OK
* checking Rd \usage sections ... OK
* checking Rd contents ... OK
* checking for unstated dependencies in examples ... OK
* checking contents of ‘data’ directory ... OK
* checking data for non-ASCII characters ... OK
* checking data for ASCII and uncompressed saves ... OK
* checking files in ‘vignettes’ ... OK
* checking examples ... OK
Examples with CPU (user + system) or elapsed time > 5s
            user system elapsed
cacheClear 1.486  0.089   6.183
* checking for unstated dependencies in ‘tests’ ... OK
* checking tests ...
  Running ‘testthat.R’
 OK
* checking for unstated dependencies in vignettes ... OK
* checking package vignettes ... OK
* checking running R code from vignettes ... SKIPPED
* checking re-building of vignette outputs ... SKIPPED
* checking PDF version of manual ... OK
* DONE

Status: OK


Installation output

BulkSignalR.Rcheck/00install.out

##############################################################################
##############################################################################
###
### Running command:
###
###   /Library/Frameworks/R.framework/Resources/bin/R CMD INSTALL BulkSignalR
###
##############################################################################
##############################################################################


* installing to library ‘/Library/Frameworks/R.framework/Versions/4.6-arm64/Resources/library’
* installing *source* package ‘BulkSignalR’ ...
** this is package ‘BulkSignalR’ version ‘1.3.1’
** using staged installation
** R
** data
** inst
** byte-compile and prepare package for lazy loading
** help
*** installing help indices
*** copying figures
** building package indices
** installing vignettes
** testing if installed package can be loaded from temporary location
** testing if installed package can be loaded from final location
** testing if installed package keeps a record of temporary installation path
* DONE (BulkSignalR)

Tests output

BulkSignalR.Rcheck/tests/testthat.Rout


R Under development (unstable) (2025-11-04 r88984) -- "Unsuffered Consequences"
Copyright (C) 2025 The R Foundation for Statistical Computing
Platform: aarch64-apple-darwin20

R is free software and comes with ABSOLUTELY NO WARRANTY.
You are welcome to redistribute it under certain conditions.
Type 'license()' or 'licence()' for distribution details.

R is a collaborative project with many contributors.
Type 'contributors()' for more information and
'citation()' on how to cite R or R packages in publications.

Type 'demo()' for some demos, 'help()' for on-line help, or
'help.start()' for an HTML browser interface to help.
Type 'q()' to quit R.

> library(testthat)
> library(BulkSignalR)
Local "resources" are up to date.

> test_check("BulkSignalR")
[ FAIL 0 | WARN 0 | SKIP 0 | PASS 1 ]
> 
> proc.time()
   user  system elapsed 
  6.185   0.273   7.905 

Example timings

BulkSignalR.Rcheck/BulkSignalR-Ex.timings

nameusersystemelapsed
BSRClusterComp-class0.0010.0000.001
BSRClusterComp0.1090.0070.119
BSRDataModel-class0.0220.0020.024
BSRDataModel0.0770.0020.084
BSRDataModelComp-class0.0020.0000.003
BSRDataModelComp0.0720.0020.074
BSRInference-class0.0020.0000.003
BSRInference1.1040.0241.182
BSRInferenceComp-class0.0020.0010.003
BSRInferenceComp0.4250.0490.504
BSRSignature-class0.0000.0000.001
BSRSignature0.0090.0000.010
BSRSignatureComp-class0.0010.0000.001
BSRSignatureComp0.0040.0010.004
LRinter0.0000.0000.001
LRinterScore0.0020.0010.002
LRinterShort0.0010.0000.001
addClusterComp0.0930.0100.111
alluvialPlot0.2210.0070.244
assignCellTypesToInteractions0.2460.0150.270
bubblePlotPathwaysLR0.1580.0020.161
cacheClear1.4860.0896.183
cacheInfo0.0350.0030.043
cacheVersion0.1090.0130.529
cellTypeFrequency0.6420.0110.711
cellularNetwork0.2030.0110.220
cellularNetworkTable0.1950.0060.212
chordDiagramLR0.3630.0060.397
coerce0.0000.0000.001
colClusterA000
colClusterB0.0010.0000.000
comparison000
comparisonName0.0000.0000.001
convertToHuman0.0720.0043.689
createResources0.0900.0130.817
differentialStats0.0010.0000.000
findOrthoGenes0.0540.0020.323
generateSpatialPlots0.5960.0220.647
getLRIntracellNetwork0.6530.1070.797
getLRNetwork0.0100.0010.010
getPathwayStats0.0050.0000.006
getResource0.1100.0080.121
inferenceParameters000
initialOrganism0.0010.0000.001
initialOrthologs0.0000.0000.001
learnParameters0.7640.0070.808
ligands000
logTransformed0.0010.0000.000
maxLigandSpatialCounts0.0230.0010.024
mu000
ncounts0.0010.0000.000
normalization0.0010.0000.001
parameters000
pathways0.0000.0010.000
receptors000
reduceToBestPathway0.0270.0020.028
reduceToLigand0.0110.0010.011
reduceToPathway0.0240.0010.026
reduceToReceptor0.0140.0020.019
relateToGeneSet0.0270.0010.029
removeClusterComp0.1000.0130.125
rescoreInference0.0160.0010.017
resetLRdb0.0090.0000.010
resetNetwork0.0020.0000.002
resetPathways0.1020.0050.108
resetToInitialOrganism0.0520.0030.055
scoreLRGeneSignatures0.1580.0130.179
scoreSignatures0.1240.0060.140
separatedLRPlot0.6370.0350.706
signatureHeatmaps0.0120.0010.018
simpleHeatmap2.9490.0853.192
smoothSpatialCounts0.0220.0010.024
sourceComparisonName000
spatialAssociation0.0250.0010.026
spatialAssociationPlot1.3500.0361.440
spatialDiversityPlot0.3320.0160.378
spatialIndexPlot0.4720.0200.514
spatialPlot0.4020.0190.450
summarizedCellularNetwork0.2000.0120.246
tgCorr0.0000.0000.001
tgExpr000
tgGenes000
tgLogFC000
tgPval000
updateInference0.0370.0030.048