Back to Multiple platform build/check report for BioC 3.23:   simplified   long
ABCDE[F]GHIJKLMNOPQRSTUVWXYZ

This page was generated on 2025-11-19 10:12 -0500 (Wed, 19 Nov 2025).

HostnameOSArch (*)R versionInstalled pkgs
nebbiolo1Linux (Ubuntu 24.04.3 LTS)x86_64R Under development (unstable) (2025-10-20 r88955) -- "Unsuffered Consequences" 4827
lconwaymacOS 12.7.6 Montereyx86_64R Under development (unstable) (2025-10-21 r88958) -- "Unsuffered Consequences" 4600
kjohnson3macOS 13.7.7 Venturaarm64R Under development (unstable) (2025-11-04 r88984) -- "Unsuffered Consequences" 4564
Click on any hostname to see more info about the system (e.g. compilers)      (*) as reported by 'uname -p', except on Windows and Mac OS X

Package 755/2325HostnameOS / ArchINSTALLBUILDCHECKBUILD BIN
FlowSOM 2.19.0  (landing page)
Sofie Van Gassen
Snapshot Date: 2025-11-18 13:40 -0500 (Tue, 18 Nov 2025)
git_url: https://git.bioconductor.org/packages/FlowSOM
git_branch: devel
git_last_commit: 3c00c1d
git_last_commit_date: 2025-10-29 10:23:19 -0500 (Wed, 29 Oct 2025)
nebbiolo1Linux (Ubuntu 24.04.3 LTS) / x86_64  OK    OK    OK  UNNEEDED, same version is already published
lconwaymacOS 12.7.6 Monterey / x86_64  OK    OK    OK    OK  YES
kjohnson3macOS 13.7.7 Ventura / arm64  OK    OK    OK    OK  UNNEEDED, same version is already published


CHECK results for FlowSOM on nebbiolo1

To the developers/maintainers of the FlowSOM package:
- Allow up to 24 hours (and sometimes 48 hours) for your latest push to git@git.bioconductor.org:packages/FlowSOM.git to reflect on this report. See Troubleshooting Build Report for more information.
- Use the following Renviron settings to reproduce errors and warnings.
- If 'R CMD check' started to fail recently on the Linux builder(s) over a missing dependency, add the missing dependency to 'Suggests:' in your DESCRIPTION file. See Renviron.bioc for more information.

raw results


Summary

Package: FlowSOM
Version: 2.19.0
Command: /home/biocbuild/bbs-3.23-bioc/R/bin/R CMD check --install=check:FlowSOM.install-out.txt --library=/home/biocbuild/bbs-3.23-bioc/R/site-library --timings FlowSOM_2.19.0.tar.gz
StartedAt: 2025-11-19 00:27:51 -0500 (Wed, 19 Nov 2025)
EndedAt: 2025-11-19 00:37:41 -0500 (Wed, 19 Nov 2025)
EllapsedTime: 591.0 seconds
RetCode: 0
Status:   OK  
CheckDir: FlowSOM.Rcheck
Warnings: 0

Command output

##############################################################################
##############################################################################
###
### Running command:
###
###   /home/biocbuild/bbs-3.23-bioc/R/bin/R CMD check --install=check:FlowSOM.install-out.txt --library=/home/biocbuild/bbs-3.23-bioc/R/site-library --timings FlowSOM_2.19.0.tar.gz
###
##############################################################################
##############################################################################


* using log directory ‘/home/biocbuild/bbs-3.23-bioc/meat/FlowSOM.Rcheck’
* using R Under development (unstable) (2025-10-20 r88955)
* using platform: x86_64-pc-linux-gnu
* R was compiled by
    gcc (Ubuntu 13.3.0-6ubuntu2~24.04) 13.3.0
    GNU Fortran (Ubuntu 13.3.0-6ubuntu2~24.04) 13.3.0
* running under: Ubuntu 24.04.3 LTS
* using session charset: UTF-8
* checking for file ‘FlowSOM/DESCRIPTION’ ... OK
* this is package ‘FlowSOM’ version ‘2.19.0’
* package encoding: UTF-8
* checking package namespace information ... OK
* checking package dependencies ... OK
* checking if this is a source package ... OK
* checking if there is a namespace ... OK
* checking for hidden files and directories ... OK
* checking for portable file names ... OK
* checking for sufficient/correct file permissions ... OK
* checking whether package ‘FlowSOM’ can be installed ... OK
* used C compiler: ‘gcc (Ubuntu 13.3.0-6ubuntu2~24.04) 13.3.0’
* checking installed package size ... OK
* checking package directory ... OK
* checking ‘build’ directory ... OK
* checking DESCRIPTION meta-information ... OK
* checking top-level files ... OK
* checking for left-over files ... OK
* checking index information ... OK
* checking package subdirectories ... OK
* checking code files for non-ASCII characters ... OK
* checking R files for syntax errors ... OK
* checking whether the package can be loaded ... OK
* checking whether the package can be loaded with stated dependencies ... OK
* checking whether the package can be unloaded cleanly ... OK
* checking whether the namespace can be loaded with stated dependencies ... OK
* checking whether the namespace can be unloaded cleanly ... OK
* checking loading without being on the library search path ... OK
* checking whether startup messages can be suppressed ... OK
* checking dependencies in R code ... OK
* checking S3 generic/method consistency ... OK
* checking replacement functions ... OK
* checking foreign function calls ... OK
* checking R code for possible problems ... OK
* checking Rd files ... NOTE
checkRd: (-1) PlotDimRed.Rd:55: Lost braces
    55 | of the dimred default = function(dimred){dimred$Y}.}
       |                                         ^
* checking Rd metadata ... OK
* checking Rd cross-references ... NOTE
Non-topic package-anchored link(s) in Rd file 'pipe.Rd':
  ‘[magrittr:pipe]{%>%}’

See section 'Cross-references' in the 'Writing R Extensions' manual.
* checking for missing documentation entries ... OK
* checking for code/documentation mismatches ... OK
* checking Rd \usage sections ... OK
* checking Rd contents ... OK
* checking for unstated dependencies in examples ... OK
* checking line endings in C/C++/Fortran sources/headers ... OK
* checking compiled code ... INFO
Note: information on .o files is not available
* checking sizes of PDF files under ‘inst/doc’ ...* checking files in ‘vignettes’ ... OK
* checking examples ... OK
Examples with CPU (user + system) or elapsed time > 5s
                     user system elapsed
FlowSOMmary        49.437  0.228  49.346
PlotDimRed         43.981  0.092  44.006
PlotOutliers       29.500  0.018  29.519
PlotMarker         17.450  0.109  17.559
UpdateMetaclusters 15.062  0.027  15.090
PlotStars          14.388  0.015  14.404
GroupStats         11.633  0.051  11.684
FlowSOM            11.427  0.033  11.463
PlotGroups         10.453  0.030  10.486
QueryMultiple       9.605  0.025   9.658
Plot2DScatters      9.261  0.029   9.279
query_multiple      9.081  0.011   9.092
AddAnnotation       8.141  0.189   8.335
PlotManualBars      7.616  0.018   7.636
GetFlowJoLabels     7.170  0.100   7.273
QueryStarPlot       6.798  0.007   6.804
PlotVariable        6.765  0.018   6.783
PlotPies            6.670  0.030   6.700
PlotNode            6.358  0.018   6.376
PlotNumbers         6.069  0.015   6.084
GetFeatures         5.655  0.069   5.725
CountGroups         5.515  0.079   5.595
PlotFlowSOM         5.438  0.037   5.476
PlotLabels          5.319  0.016   5.336
UpdateNodeSize      5.240  0.011   5.251
* checking for unstated dependencies in vignettes ... OK
* checking package vignettes ... OK
* checking re-building of vignette outputs ... OK
* checking PDF version of manual ... OK
* DONE

Status: 2 NOTEs
See
  ‘/home/biocbuild/bbs-3.23-bioc/meat/FlowSOM.Rcheck/00check.log’
for details.


Installation output

FlowSOM.Rcheck/00install.out

##############################################################################
##############################################################################
###
### Running command:
###
###   /home/biocbuild/bbs-3.23-bioc/R/bin/R CMD INSTALL FlowSOM
###
##############################################################################
##############################################################################


* installing to library ‘/home/biocbuild/bbs-3.23-bioc/R/site-library’
* installing *source* package ‘FlowSOM’ ...
** this is package ‘FlowSOM’ version ‘2.19.0’
** using staged installation
** libs
using C compiler: ‘gcc (Ubuntu 13.3.0-6ubuntu2~24.04) 13.3.0’
gcc -std=gnu2x -I"/home/biocbuild/bbs-3.23-bioc/R/include" -DNDEBUG   -I/usr/local/include    -fpic  -g -O2  -Wall -Werror=format-security -c som.c -o som.o
gcc -std=gnu2x -shared -L/home/biocbuild/bbs-3.23-bioc/R/lib -L/usr/local/lib -o FlowSOM.so som.o -L/home/biocbuild/bbs-3.23-bioc/R/lib -lR
installing to /home/biocbuild/bbs-3.23-bioc/R/site-library/00LOCK-FlowSOM/00new/FlowSOM/libs
** R
** inst
** byte-compile and prepare package for lazy loading
** help
*** installing help indices
** building package indices
** installing vignettes
** testing if installed package can be loaded from temporary location
** checking absolute paths in shared objects and dynamic libraries
** testing if installed package can be loaded from final location
** testing if installed package keeps a record of temporary installation path
* DONE (FlowSOM)

Tests output


Example timings

FlowSOM.Rcheck/FlowSOM-Ex.timings

nameusersystemelapsed
AddAnnotation8.1410.1898.335
AggregateFlowFrames0.0760.0040.081
BuildMST1.2940.0301.325
BuildSOM1.0370.0031.041
CountGroups5.5150.0795.595
FMeasure0.0010.0010.002
FlowSOM11.427 0.03311.463
FlowSOMSubset3.9660.0103.977
FlowSOMmary49.437 0.22849.346
GetChannels0.0270.0020.029
GetClusterMFIs3.9630.1004.063
GetClusterPercentagesPositive3.9500.1034.053
GetClusters3.7810.0283.810
GetCounts3.7710.0173.789
GetFeatures5.6550.0695.725
GetFlowJoLabels7.1700.1007.273
GetMFIs4.9300.0114.942
GetMarkers0.0270.0010.028
GetMetaclusterCVs4.4210.0144.435
GetMetaclusterMFIs4.3030.0774.379
GetMetaclusterPercentagesPositive4.0950.0174.113
GetMetaclusters4.4420.0514.492
GetPercentages4.0850.0544.139
GroupStats11.633 0.05111.684
Initialize_KWSP0.0040.0000.003
Initialize_PCA0.0010.0000.001
MetaClustering2.7340.0542.788
MetaclusterCVs4.0890.0384.126
MetaclusterMFIs4.9580.0164.974
NClusters4.4740.0784.552
NMetaclusters4.5280.0224.550
NewData3.6990.0093.708
Plot2DScatters9.2610.0299.279
PlotCenters1.0480.0021.051
PlotClusters2D0.9610.0040.966
PlotDimRed43.981 0.09244.006
PlotFileScatters1.1150.0021.116
PlotFlowSOM5.4380.0375.476
PlotGroups10.453 0.03010.486
PlotLabels5.3190.0165.336
PlotManualBars7.6160.0187.636
PlotMarker17.450 0.10917.559
PlotNode6.3580.0186.376
PlotNumbers6.0690.0156.084
PlotOutliers29.500 0.01829.519
PlotOverview2D4.7840.1054.890
PlotPies6.670.036.70
PlotSD1.9650.0151.980
PlotStars14.388 0.01514.404
PlotVariable6.7650.0186.783
Purity0.0010.0000.001
QueryMultiple9.6050.0259.658
QueryStarPlot6.7980.0076.804
ReadInput3.1920.0423.235
SaveClustersToFCS4.7710.0094.781
TestOutliers4.2490.0034.252
UpdateMetaclusters15.062 0.02715.090
UpdateNodeSize5.2400.0115.251
get_channels0.0230.0040.027
get_markers0.0290.0010.030
metaClustering_consensus2.1960.0192.215
plotStarLegend0.4460.0010.447
print.FlowSOM3.9250.0093.933
query_multiple9.0810.0119.092