| Back to Multiple platform build/check report for BioC 3.23: simplified long |
|
This page was generated on 2025-11-19 10:13 -0500 (Wed, 19 Nov 2025).
| Hostname | OS | Arch (*) | R version | Installed pkgs |
|---|---|---|---|---|
| nebbiolo1 | Linux (Ubuntu 24.04.3 LTS) | x86_64 | R Under development (unstable) (2025-10-20 r88955) -- "Unsuffered Consequences" | 4827 |
| lconway | macOS 12.7.6 Monterey | x86_64 | R Under development (unstable) (2025-10-21 r88958) -- "Unsuffered Consequences" | 4600 |
| kjohnson3 | macOS 13.7.7 Ventura | arm64 | R Under development (unstable) (2025-11-04 r88984) -- "Unsuffered Consequences" | 4564 |
| Click on any hostname to see more info about the system (e.g. compilers) (*) as reported by 'uname -p', except on Windows and Mac OS X | ||||
| Package 965/2325 | Hostname | OS / Arch | INSTALL | BUILD | CHECK | BUILD BIN | ||||||||
| HiCBricks 1.29.0 (landing page) Koustav Pal
| nebbiolo1 | Linux (Ubuntu 24.04.3 LTS) / x86_64 | OK | OK | OK | |||||||||
| lconway | macOS 12.7.6 Monterey / x86_64 | OK | OK | OK | OK | |||||||||
| kjohnson3 | macOS 13.7.7 Ventura / arm64 | OK | OK | OK | OK | |||||||||
|
To the developers/maintainers of the HiCBricks package: - Allow up to 24 hours (and sometimes 48 hours) for your latest push to git@git.bioconductor.org:packages/HiCBricks.git to reflect on this report. See Troubleshooting Build Report for more information. - Use the following Renviron settings to reproduce errors and warnings. - If 'R CMD check' started to fail recently on the Linux builder(s) over a missing dependency, add the missing dependency to 'Suggests:' in your DESCRIPTION file. See Renviron.bioc for more information. |
| Package: HiCBricks |
| Version: 1.29.0 |
| Command: /Library/Frameworks/R.framework/Resources/bin/R CMD check --install=check:HiCBricks.install-out.txt --library=/Library/Frameworks/R.framework/Resources/library --no-vignettes --timings HiCBricks_1.29.0.tar.gz |
| StartedAt: 2025-11-18 21:36:39 -0500 (Tue, 18 Nov 2025) |
| EndedAt: 2025-11-18 21:39:46 -0500 (Tue, 18 Nov 2025) |
| EllapsedTime: 186.8 seconds |
| RetCode: 0 |
| Status: OK |
| CheckDir: HiCBricks.Rcheck |
| Warnings: 0 |
##############################################################################
##############################################################################
###
### Running command:
###
### /Library/Frameworks/R.framework/Resources/bin/R CMD check --install=check:HiCBricks.install-out.txt --library=/Library/Frameworks/R.framework/Resources/library --no-vignettes --timings HiCBricks_1.29.0.tar.gz
###
##############################################################################
##############################################################################
* using log directory ‘/Users/biocbuild/bbs-3.23-bioc/meat/HiCBricks.Rcheck’
* using R Under development (unstable) (2025-10-21 r88958)
* using platform: x86_64-apple-darwin20
* R was compiled by
Apple clang version 14.0.0 (clang-1400.0.29.202)
GNU Fortran (GCC) 14.2.0
* running under: macOS Ventura 13.7.8
* using session charset: UTF-8
* using option ‘--no-vignettes’
* checking for file ‘HiCBricks/DESCRIPTION’ ... OK
* checking extension type ... Package
* this is package ‘HiCBricks’ version ‘1.29.0’
* package encoding: UTF-8
* checking package namespace information ... OK
* checking package dependencies ... OK
* checking if this is a source package ... OK
* checking if there is a namespace ... OK
* checking for hidden files and directories ... OK
* checking for portable file names ... OK
* checking for sufficient/correct file permissions ... OK
* checking whether package ‘HiCBricks’ can be installed ... OK
* checking installed package size ... OK
* checking package directory ... OK
* checking ‘build’ directory ... OK
* checking DESCRIPTION meta-information ... OK
* checking top-level files ... OK
* checking for left-over files ... OK
* checking index information ... OK
* checking package subdirectories ... OK
* checking code files for non-ASCII characters ... OK
* checking R files for syntax errors ... OK
* checking whether the package can be loaded ... OK
* checking whether the package can be loaded with stated dependencies ... OK
* checking whether the package can be unloaded cleanly ... OK
* checking whether the namespace can be loaded with stated dependencies ... OK
* checking whether the namespace can be unloaded cleanly ... OK
* checking dependencies in R code ... OK
* checking S3 generic/method consistency ... OK
* checking replacement functions ... OK
* checking foreign function calls ... OK
* checking R code for possible problems ... OK
* checking Rd files ... OK
* checking Rd metadata ... OK
* checking Rd cross-references ... OK
* checking for missing documentation entries ... OK
* checking for code/documentation mismatches ... OK
* checking Rd \usage sections ... OK
* checking Rd contents ... OK
* checking for unstated dependencies in examples ... OK
* checking files in ‘vignettes’ ... OK
* checking examples ... OK
* checking for unstated dependencies in vignettes ... OK
* checking package vignettes ... OK
* checking running R code from vignettes ... SKIPPED
* checking re-building of vignette outputs ... SKIPPED
* checking PDF version of manual ... OK
* DONE
Status: OK
HiCBricks.Rcheck/00install.out
############################################################################## ############################################################################## ### ### Running command: ### ### /Library/Frameworks/R.framework/Resources/bin/R CMD INSTALL HiCBricks ### ############################################################################## ############################################################################## * installing to library ‘/Library/Frameworks/R.framework/Versions/4.6-x86_64/Resources/library’ * installing *source* package ‘HiCBricks’ ... ** this is package ‘HiCBricks’ version ‘1.29.0’ ** using staged installation ** R ** inst ** byte-compile and prepare package for lazy loading ** help *** installing help indices ** building package indices ** installing vignettes ** testing if installed package can be loaded from temporary location ** testing if installed package can be loaded from final location ** testing if installed package keeps a record of temporary installation path * DONE (HiCBricks)
HiCBricks.Rcheck/HiCBricks-Ex.timings
| name | user | system | elapsed | |
| BrickContainer_change_experiment_name | 1.407 | 0.157 | 1.588 | |
| BrickContainer_change_output_directory | 1.021 | 0.120 | 1.159 | |
| BrickContainer_get_path_to_file | 0.912 | 0.090 | 1.010 | |
| BrickContainer_list_chromosomes | 0.929 | 0.093 | 1.031 | |
| BrickContainer_list_experiment_name | 0.931 | 0.090 | 1.031 | |
| BrickContainer_list_files | 0.989 | 0.094 | 1.093 | |
| BrickContainer_list_output_directory | 0.928 | 0.090 | 1.030 | |
| BrickContainer_list_resolutions | 0.950 | 0.095 | 1.061 | |
| BrickContainer_unlink_resolution | 2.098 | 0.203 | 2.318 | |
| Brick_add_ranges | 2.144 | 0.142 | 2.321 | |
| Brick_call_compartments | 1.579 | 0.306 | 1.909 | |
| Brick_export_to_sparse | 2.918 | 0.319 | 3.269 | |
| Brick_fetch_range_index | 1.430 | 0.103 | 1.568 | |
| Brick_fetch_row_vector | 1.671 | 0.260 | 1.954 | |
| Brick_get_bintable | 0.893 | 0.092 | 0.993 | |
| Brick_get_chrominfo | 0.823 | 0.085 | 0.912 | |
| Brick_get_entire_matrix | 1.320 | 0.256 | 1.600 | |
| Brick_get_matrix | 1.311 | 0.345 | 1.675 | |
| Brick_get_matrix_mcols | 1.247 | 0.400 | 1.662 | |
| Brick_get_matrix_within_coords | 1.744 | 0.386 | 2.152 | |
| Brick_get_ranges | 0.831 | 0.079 | 0.917 | |
| Brick_get_values_by_distance | 1.328 | 0.349 | 1.698 | |
| Brick_get_vector_values | 1.205 | 0.299 | 1.520 | |
| Brick_list_matrices | 0.759 | 0.079 | 0.845 | |
| Brick_list_matrix_mcols | 0.745 | 0.078 | 0.829 | |
| Brick_list_mcool_normalisations | 0.001 | 0.000 | 0.000 | |
| Brick_list_mcool_resolutions | 0 | 0 | 0 | |
| Brick_list_rangekeys | 0.746 | 0.076 | 0.830 | |
| Brick_list_ranges_mcols | 0.739 | 0.078 | 0.822 | |
| Brick_load_cis_matrix_till_distance | 1.055 | 0.216 | 1.278 | |
| Brick_load_data_from_mcool | 0.000 | 0.001 | 0.001 | |
| Brick_load_data_from_sparse | 0.000 | 0.001 | 0.001 | |
| Brick_load_matrix | 1.145 | 0.283 | 1.440 | |
| Brick_local_score_differentiator | 1.904 | 0.488 | 2.429 | |
| Brick_make_ranges | 0.012 | 0.002 | 0.016 | |
| Brick_matrix_dimensions | 1.220 | 0.323 | 1.562 | |
| Brick_matrix_exists | 1.220 | 0.367 | 1.604 | |
| Brick_matrix_filename | 1.220 | 0.358 | 1.598 | |
| Brick_matrix_isdone | 1.253 | 0.399 | 1.673 | |
| Brick_matrix_issparse | 1.222 | 0.370 | 1.612 | |
| Brick_matrix_maxdist | 1.195 | 0.236 | 1.448 | |
| Brick_matrix_minmax | 1.238 | 0.232 | 1.492 | |
| Brick_mcool_normalisation_exists | 0.000 | 0.000 | 0.001 | |
| Brick_rangekey_exists | 0.833 | 0.092 | 0.939 | |
| Brick_return_region_position | 0.975 | 0.104 | 1.091 | |
| Brick_vizart_plot_heatmap | 2.445 | 0.463 | 2.941 | |
| Create_many_Bricks | 0.803 | 0.084 | 0.895 | |
| Create_many_Bricks_from_mcool | 0.000 | 0.001 | 0.000 | |
| load_BrickContainer | 0.895 | 0.086 | 0.985 | |