Back to Multiple platform build/check report for BioC 3.23:   simplified   long
ABCDEFGH[I]JKLMNOPQRSTUVWXYZ

This page was generated on 2025-11-19 10:13 -0500 (Wed, 19 Nov 2025).

HostnameOSArch (*)R versionInstalled pkgs
nebbiolo1Linux (Ubuntu 24.04.3 LTS)x86_64R Under development (unstable) (2025-10-20 r88955) -- "Unsuffered Consequences" 4827
lconwaymacOS 12.7.6 Montereyx86_64R Under development (unstable) (2025-10-21 r88958) -- "Unsuffered Consequences" 4600
kjohnson3macOS 13.7.7 Venturaarm64R Under development (unstable) (2025-11-04 r88984) -- "Unsuffered Consequences" 4564
Click on any hostname to see more info about the system (e.g. compilers)      (*) as reported by 'uname -p', except on Windows and Mac OS X

Package 1064/2325HostnameOS / ArchINSTALLBUILDCHECKBUILD BIN
ISAnalytics 1.21.0  (landing page)
Francesco Gazzo
Snapshot Date: 2025-11-18 13:40 -0500 (Tue, 18 Nov 2025)
git_url: https://git.bioconductor.org/packages/ISAnalytics
git_branch: devel
git_last_commit: e37fd79
git_last_commit_date: 2025-10-29 11:01:52 -0500 (Wed, 29 Oct 2025)
nebbiolo1Linux (Ubuntu 24.04.3 LTS) / x86_64  OK    OK    OK  UNNEEDED, same version is already published
lconwaymacOS 12.7.6 Monterey / x86_64  OK    OK    OK    OK  UNNEEDED, same version is already published
kjohnson3macOS 13.7.7 Ventura / arm64  OK    OK    OK    OK  UNNEEDED, same version is already published


CHECK results for ISAnalytics on lconway

To the developers/maintainers of the ISAnalytics package:
- Allow up to 24 hours (and sometimes 48 hours) for your latest push to git@git.bioconductor.org:packages/ISAnalytics.git to reflect on this report. See Troubleshooting Build Report for more information.
- Use the following Renviron settings to reproduce errors and warnings.
- If 'R CMD check' started to fail recently on the Linux builder(s) over a missing dependency, add the missing dependency to 'Suggests:' in your DESCRIPTION file. See Renviron.bioc for more information.

raw results


Summary

Package: ISAnalytics
Version: 1.21.0
Command: /Library/Frameworks/R.framework/Resources/bin/R CMD check --install=check:ISAnalytics.install-out.txt --library=/Library/Frameworks/R.framework/Resources/library --no-vignettes --timings ISAnalytics_1.21.0.tar.gz
StartedAt: 2025-11-18 21:48:22 -0500 (Tue, 18 Nov 2025)
EndedAt: 2025-11-18 21:59:55 -0500 (Tue, 18 Nov 2025)
EllapsedTime: 693.5 seconds
RetCode: 0
Status:   OK  
CheckDir: ISAnalytics.Rcheck
Warnings: 0

Command output

##############################################################################
##############################################################################
###
### Running command:
###
###   /Library/Frameworks/R.framework/Resources/bin/R CMD check --install=check:ISAnalytics.install-out.txt --library=/Library/Frameworks/R.framework/Resources/library --no-vignettes --timings ISAnalytics_1.21.0.tar.gz
###
##############################################################################
##############################################################################


* using log directory ‘/Users/biocbuild/bbs-3.23-bioc/meat/ISAnalytics.Rcheck’
* using R Under development (unstable) (2025-10-21 r88958)
* using platform: x86_64-apple-darwin20
* R was compiled by
    Apple clang version 14.0.0 (clang-1400.0.29.202)
    GNU Fortran (GCC) 14.2.0
* running under: macOS Ventura 13.7.8
* using session charset: UTF-8
* using option ‘--no-vignettes’
* checking for file ‘ISAnalytics/DESCRIPTION’ ... OK
* this is package ‘ISAnalytics’ version ‘1.21.0’
* package encoding: UTF-8
* checking package namespace information ... OK
* checking package dependencies ... INFO
Imports includes 22 non-default packages.
Importing from so many packages makes the package vulnerable to any of
them becoming unavailable.  Move as many as possible to Suggests and
use conditionally.
* checking if this is a source package ... OK
* checking if there is a namespace ... OK
* checking for hidden files and directories ... OK
* checking for portable file names ... OK
* checking for sufficient/correct file permissions ... OK
* checking whether package ‘ISAnalytics’ can be installed ... OK
* checking installed package size ... INFO
  installed size is  8.3Mb
  sub-directories of 1Mb or more:
    data   5.8Mb
* checking package directory ... OK
* checking ‘build’ directory ... OK
* checking DESCRIPTION meta-information ... OK
* checking top-level files ... OK
* checking for left-over files ... OK
* checking index information ... OK
* checking package subdirectories ... OK
* checking code files for non-ASCII characters ... OK
* checking R files for syntax errors ... OK
* checking whether the package can be loaded ... OK
* checking whether the package can be loaded with stated dependencies ... OK
* checking whether the package can be unloaded cleanly ... OK
* checking whether the namespace can be loaded with stated dependencies ... OK
* checking whether the namespace can be unloaded cleanly ... OK
* checking whether startup messages can be suppressed ... OK
* checking dependencies in R code ... OK
* checking S3 generic/method consistency ... OK
* checking replacement functions ... OK
* checking foreign function calls ... OK
* checking R code for possible problems ... OK
* checking Rd files ... NOTE
checkRd: (-1) refGenes_hg19.Rd:21: Lost braces; missing escapes or markup?
    21 | \item Download from {http://hgdownload.soe.ucsc.edu/goldenPath/hg19/database/}
       |                     ^
* checking Rd metadata ... OK
* checking Rd cross-references ... OK
* checking for missing documentation entries ... OK
* checking for code/documentation mismatches ... OK
* checking Rd \usage sections ... OK
* checking Rd contents ... OK
* checking for unstated dependencies in examples ... OK
* checking contents of ‘data’ directory ... OK
* checking data for non-ASCII characters ... OK
* checking data for ASCII and uncompressed saves ... OK
* checking files in ‘vignettes’ ... OK
* checking examples ... OK
Examples with CPU (user + system) or elapsed time > 5s
                                user system elapsed
integration_alluvial_plot      4.240  0.161  13.307
import_parallel_Vispa2Matrices 2.965  0.165  20.068
sharing_venn                   2.407  0.130  41.649
sharing_heatmap                2.096  0.054  13.276
CIS_grubbs_overtime            1.902  0.239   9.476
top_cis_overtime_heatmap       1.932  0.084  11.816
import_Vispa2_stats            1.851  0.149   9.757
iss_source                     1.511  0.037  11.548
is_sharing                     1.438  0.057  11.305
HSC_population_plot            1.326  0.037   8.172
realign_after_collisions       1.249  0.040   8.840
remove_collisions              1.204  0.028   8.796
compute_near_integrations      0.995  0.042  13.021
HSC_population_size_estimate   0.915  0.028   7.455
* checking for unstated dependencies in ‘tests’ ... OK
* checking tests ...
  Running ‘testthat.R’
 OK
* checking for unstated dependencies in vignettes ... OK
* checking package vignettes ... OK
* checking running R code from vignettes ... SKIPPED
* checking re-building of vignette outputs ... SKIPPED
* checking PDF version of manual ... OK
* DONE

Status: 1 NOTE
See
  ‘/Users/biocbuild/bbs-3.23-bioc/meat/ISAnalytics.Rcheck/00check.log’
for details.


Installation output

ISAnalytics.Rcheck/00install.out

##############################################################################
##############################################################################
###
### Running command:
###
###   /Library/Frameworks/R.framework/Resources/bin/R CMD INSTALL ISAnalytics
###
##############################################################################
##############################################################################


* installing to library ‘/Library/Frameworks/R.framework/Versions/4.6-x86_64/Resources/library’
* installing *source* package ‘ISAnalytics’ ...
** this is package ‘ISAnalytics’ version ‘1.21.0’
** using staged installation
** R
** data
** inst
** byte-compile and prepare package for lazy loading
** help
*** installing help indices
*** copying figures
** building package indices
** installing vignettes
** testing if installed package can be loaded from temporary location
** testing if installed package can be loaded from final location
** testing if installed package keeps a record of temporary installation path
* DONE (ISAnalytics)

Tests output

ISAnalytics.Rcheck/tests/testthat.Rout


R Under development (unstable) (2025-10-21 r88958) -- "Unsuffered Consequences"
Copyright (C) 2025 The R Foundation for Statistical Computing
Platform: x86_64-apple-darwin20

R is free software and comes with ABSOLUTELY NO WARRANTY.
You are welcome to redistribute it under certain conditions.
Type 'license()' or 'licence()' for distribution details.

R is a collaborative project with many contributors.
Type 'contributors()' for more information and
'citation()' on how to cite R or R packages in publications.

Type 'demo()' for some demos, 'help()' for on-line help, or
'help.start()' for an HTML browser interface to help.
Type 'q()' to quit R.

> library(testthat)
> library(ISAnalytics)
> 
> test_check("ISAnalytics")
Loading required namespace: plotly
Loading required namespace: rmarkdown
2025-11-18 21:54:40.094 R[70116:33025219] XType: Using static font registry.
Report correctly saved
i Report saved to: /tmp/RtmpfNGGi7/file111e4753b7ef3/2025-11-18_collision_removal_report.html
Report correctly saved
i Report saved to: /tmp/RtmpfNGGi7/file111e456e15a4c/2025-11-18_outlier_test_pool_fragments_report.html
[ FAIL 0 | WARN 0 | SKIP 0 | PASS 834 ]
> 
> proc.time()
   user  system elapsed 
110.543   5.750 389.356 

Example timings

ISAnalytics.Rcheck/ISAnalytics-Ex.timings

nameusersystemelapsed
CIS_grubbs0.8420.0420.889
CIS_grubbs_overtime1.9020.2399.476
CIS_volcano_plot1.6120.0431.667
HSC_population_plot1.3260.0378.172
HSC_population_size_estimate0.9150.0287.455
NGSdataExplorer0.0000.0000.001
aggregate_metadata0.1110.0020.115
aggregate_values_by_key0.0770.0030.081
annotation_issues0.0320.0010.034
as_sparse_matrix0.0600.0030.064
available_outlier_tests000
available_tags0.0300.0020.033
blood_lineages_default0.0350.0010.037
circos_genomic_density000
clinical_relevant_suspicious_genes0.0170.0000.018
comparison_matrix0.0370.0010.038
compute_abundance0.0370.0020.041
compute_near_integrations 0.995 0.04213.021
cumulative_count_union000
cumulative_is0.1950.0040.201
date_formats0.0010.0010.001
default_af_transform0.0010.0000.001
default_iss_file_prefixes0.0000.0000.001
default_meta_agg0.0210.0010.022
default_rec_agg_lambdas0.0000.0010.001
default_report_path0.0070.0020.009
default_stats1.2300.0381.275
enable_progress_bars0.0160.0030.019
export_ISA_settings0.0780.0060.084
fisher_scatterplot1.2700.0571.336
gene_frequency_fisher0.9810.0151.001
generate_Vispa2_launch_AF0.2690.0300.315
generate_blank_association_file0.0140.0010.015
generate_default_folder_structure0.4500.0910.488
import_ISA_settings0.0690.0050.074
import_Vispa2_stats1.8510.1499.757
import_association_file0.7160.1180.767
import_parallel_Vispa2Matrices 2.965 0.16520.068
import_single_Vispa2Matrix0.9940.1271.072
inspect_tags0.0120.0000.012
integration_alluvial_plot 4.240 0.16113.307
is_sharing 1.438 0.05711.305
iss_source 1.511 0.03711.548
known_clinical_oncogenes0.0120.0000.013
mandatory_IS_vars0.1100.0020.113
matching_options000
outlier_filter0.1810.0130.196
outliers_by_pool_fragments0.1890.0090.200
pcr_id_column0.0240.0010.024
purity_filter0.3800.0100.394
quantification_types000
realign_after_collisions1.2490.0408.840
reduced_AF_columns0.0500.0010.050
refGene_table_cols000
remove_collisions1.2040.0288.796
reset_mandatory_IS_vars0.0060.0000.007
sample_statistics0.3380.0380.380
separate_quant_matrices0.0140.0010.015
set_mandatory_IS_vars0.0980.0030.101
set_matrix_file_suffixes0.0240.0010.024
sharing_heatmap 2.096 0.05413.276
sharing_venn 2.407 0.13041.649
threshold_filter0.0000.0010.001
top_abund_tableGrob0.6920.0110.709
top_cis_overtime_heatmap 1.932 0.08411.816
top_integrations0.0330.0010.033
top_targeted_genes0.4900.0070.500
transform_columns0.0240.0020.025