Back to Multiple platform build/check report for BioC 3.23:   simplified   long
ABCDEFGHIJKL[M]NOPQRSTUVWXYZ

This page was generated on 2025-11-28 11:39 -0500 (Fri, 28 Nov 2025).

HostnameOSArch (*)R versionInstalled pkgs
nebbiolo1Linux (Ubuntu 24.04.3 LTS)x86_64R Under development (unstable) (2025-10-20 r88955) -- "Unsuffered Consequences" 4866
lconwaymacOS 12.7.6 Montereyx86_64R Under development (unstable) (2025-10-21 r88958) -- "Unsuffered Consequences" 4614
kjohnson3macOS 13.7.7 Venturaarm64R Under development (unstable) (2025-11-04 r88984) -- "Unsuffered Consequences" 4571
Click on any hostname to see more info about the system (e.g. compilers)      (*) as reported by 'uname -p', except on Windows and Mac OS X

Package 1152/2328HostnameOS / ArchINSTALLBUILDCHECKBUILD BIN
M3Drop 1.37.0  (landing page)
Tallulah Andrews
Snapshot Date: 2025-11-27 13:40 -0500 (Thu, 27 Nov 2025)
git_url: https://git.bioconductor.org/packages/M3Drop
git_branch: devel
git_last_commit: 85bdb7c
git_last_commit_date: 2025-10-29 10:35:19 -0500 (Wed, 29 Oct 2025)
nebbiolo1Linux (Ubuntu 24.04.3 LTS) / x86_64  OK    OK    OK  UNNEEDED, same version is already published
lconwaymacOS 12.7.6 Monterey / x86_64  OK    OK    OK    OK  UNNEEDED, same version is already published
kjohnson3macOS 13.7.7 Ventura / arm64  OK    OK    OK    OK  UNNEEDED, same version is already published


CHECK results for M3Drop on kjohnson3

To the developers/maintainers of the M3Drop package:
- Allow up to 24 hours (and sometimes 48 hours) for your latest push to git@git.bioconductor.org:packages/M3Drop.git to reflect on this report. See Troubleshooting Build Report for more information.
- Use the following Renviron settings to reproduce errors and warnings.
- If 'R CMD check' started to fail recently on the Linux builder(s) over a missing dependency, add the missing dependency to 'Suggests:' in your DESCRIPTION file. See Renviron.bioc for more information.

raw results


Summary

Package: M3Drop
Version: 1.37.0
Command: /Library/Frameworks/R.framework/Resources/bin/R CMD check --install=check:M3Drop.install-out.txt --library=/Library/Frameworks/R.framework/Resources/library --no-vignettes --timings M3Drop_1.37.0.tar.gz
StartedAt: 2025-11-27 20:50:49 -0500 (Thu, 27 Nov 2025)
EndedAt: 2025-11-27 20:53:16 -0500 (Thu, 27 Nov 2025)
EllapsedTime: 147.0 seconds
RetCode: 0
Status:   OK  
CheckDir: M3Drop.Rcheck
Warnings: 0

Command output

##############################################################################
##############################################################################
###
### Running command:
###
###   /Library/Frameworks/R.framework/Resources/bin/R CMD check --install=check:M3Drop.install-out.txt --library=/Library/Frameworks/R.framework/Resources/library --no-vignettes --timings M3Drop_1.37.0.tar.gz
###
##############################################################################
##############################################################################


* using log directory ‘/Users/biocbuild/bbs-3.23-bioc/meat/M3Drop.Rcheck’
* using R Under development (unstable) (2025-11-04 r88984)
* using platform: aarch64-apple-darwin20
* R was compiled by
    Apple clang version 16.0.0 (clang-1600.0.26.6)
    GNU Fortran (GCC) 14.2.0
* running under: macOS Ventura 13.7.8
* using session charset: UTF-8
* using option ‘--no-vignettes’
* checking for file ‘M3Drop/DESCRIPTION’ ... OK
* this is package ‘M3Drop’ version ‘1.37.0’
* checking package namespace information ... OK
* checking package dependencies ... OK
* checking if this is a source package ... OK
* checking if there is a namespace ... OK
* checking for hidden files and directories ... OK
* checking for portable file names ... OK
* checking for sufficient/correct file permissions ... OK
* checking whether package ‘M3Drop’ can be installed ... OK
* checking installed package size ... OK
* checking package directory ... OK
* checking ‘build’ directory ... OK
* checking DESCRIPTION meta-information ... OK
* checking top-level files ... OK
* checking for left-over files ... OK
* checking index information ... OK
* checking package subdirectories ... OK
* checking code files for non-ASCII characters ... OK
* checking R files for syntax errors ... OK
* checking whether the package can be loaded ... OK
* checking whether the package can be loaded with stated dependencies ... OK
* checking whether the package can be unloaded cleanly ... OK
* checking whether the namespace can be loaded with stated dependencies ... OK
* checking whether the namespace can be unloaded cleanly ... OK
* checking dependencies in R code ... NOTE
Namespace in Imports field not imported from: ‘scater’
  All declared Imports should be used.
* checking S3 generic/method consistency ... OK
* checking replacement functions ... OK
* checking foreign function calls ... OK
* checking R code for possible problems ... NOTE
M3DropConvertData: no visible global function definition for ‘assays’
NBumiConvertData: no visible global function definition for ‘assays’
bg__filter_cells: no visible binding for global variable ‘x’
bg__get_extreme_residuals: no visible binding for global variable ‘x’
Undefined global functions or variables:
  assays x
* checking Rd files ... NOTE
prepare_Rd: NBumi_FSOther.Rd:8-10: Dropping empty section \usage
prepare_Rd: NBumi_TradDE.Rd:7-8: Dropping empty section \usage
* checking Rd metadata ... OK
* checking Rd cross-references ... OK
* checking for missing documentation entries ... OK
* checking for code/documentation mismatches ... OK
* checking Rd \usage sections ... OK
* checking Rd contents ... OK
* checking for unstated dependencies in examples ... OK
* checking sizes of PDF files under ‘inst/doc’ ... OK
* checking files in ‘vignettes’ ... OK
* checking examples ... OK
Examples with CPU (user + system) or elapsed time > 5s
                 user system elapsed
NewSimulations 46.268  0.605  47.970
Imputation     20.051  0.068  20.391
M3D_getmarkers 10.430  0.262  11.409
* checking for unstated dependencies in vignettes ... OK
* checking package vignettes ... OK
* checking running R code from vignettes ... SKIPPED
* checking re-building of vignette outputs ... SKIPPED
* checking PDF version of manual ... OK
* DONE

Status: 3 NOTEs
See
  ‘/Users/biocbuild/bbs-3.23-bioc/meat/M3Drop.Rcheck/00check.log’
for details.


Installation output

M3Drop.Rcheck/00install.out

##############################################################################
##############################################################################
###
### Running command:
###
###   /Library/Frameworks/R.framework/Resources/bin/R CMD INSTALL M3Drop
###
##############################################################################
##############################################################################


* installing to library ‘/Library/Frameworks/R.framework/Versions/4.6-arm64/Resources/library’
* installing *source* package ‘M3Drop’ ...
** this is package ‘M3Drop’ version ‘1.37.0’
** using staged installation
** R
** inst
** byte-compile and prepare package for lazy loading
** help
*** installing help indices
** building package indices
** installing vignettes
** testing if installed package can be loaded from temporary location
** testing if installed package can be loaded from final location
** testing if installed package keeps a record of temporary installation path
* DONE (M3Drop)

Tests output


Example timings

M3Drop.Rcheck/M3Drop-Ex.timings

nameusersystemelapsed
Brennecke_getVariableGenes1.5270.0801.687
Consensus_FS0.1350.0110.147
Fitting_Dropout_Models000
Imputation20.051 0.06820.391
M3D_Clean_Data1.0500.0311.138
M3D_ConverData2.1480.0752.431
M3D_Differential_Expression0.9880.0241.107
M3D_Dropout_Models0.4330.0340.500
M3D_Expression_Heatmap0.2910.0080.328
M3D_Get_Extremes0.9840.0491.113
M3D_Get_Heatmap_Cell_Clusters0.2570.0050.283
M3D_Simulations000
M3D_Test_Shift0.2280.0260.261
M3D_ThreeSet_Venn0.2140.0040.221
M3D_TraditionalDE0.0050.0000.005
M3D_getmarkers10.430 0.26211.409
M3D_horz_res000
NBumi_CheckFit0.9330.0731.042
NBumi_CoExpression0.2640.0300.535
NBumi_CompareModels1.0940.1001.315
NBumi_ConvertToInteger0.0010.0000.001
NBumi_ConvrtData0.1140.0100.133
NBumi_FSDrop0.3890.0290.437
NBumi_FSHighVar0.2730.0280.326
NBumi_FSOther0.0040.0000.005
NBumi_FitDisp000
NBumi_FitDispVsMean0.4970.0100.526
NBumi_FitModel0.2620.0310.307
NBumi_HVG0.3040.0350.376
NBumi_PearsonResiduals0.2810.0270.320
NBumi_TradDE000
NewSimulations46.268 0.60547.970
Other_FS0.6800.0060.706
PoissonUMIFeatureSelectionDropouts0.2650.0330.328
bg__fit_gamma000
bg__get_stats000
bg__mean2disp000
bg__shift_size000
bg__var_vs_drop000