| Back to Multiple platform build/check report for BioC 3.23: simplified long |
|
This page was generated on 2025-11-19 10:12 -0500 (Wed, 19 Nov 2025).
| Hostname | OS | Arch (*) | R version | Installed pkgs |
|---|---|---|---|---|
| nebbiolo1 | Linux (Ubuntu 24.04.3 LTS) | x86_64 | R Under development (unstable) (2025-10-20 r88955) -- "Unsuffered Consequences" | 4827 |
| lconway | macOS 12.7.6 Monterey | x86_64 | R Under development (unstable) (2025-10-21 r88958) -- "Unsuffered Consequences" | 4600 |
| kjohnson3 | macOS 13.7.7 Ventura | arm64 | R Under development (unstable) (2025-11-04 r88984) -- "Unsuffered Consequences" | 4564 |
| Click on any hostname to see more info about the system (e.g. compilers) (*) as reported by 'uname -p', except on Windows and Mac OS X | ||||
| Package 1337/2325 | Hostname | OS / Arch | INSTALL | BUILD | CHECK | BUILD BIN | ||||||||
| MOSClip 1.5.0 (landing page) Paolo Martini
| nebbiolo1 | Linux (Ubuntu 24.04.3 LTS) / x86_64 | OK | OK | OK | |||||||||
| lconway | macOS 12.7.6 Monterey / x86_64 | OK | OK | OK | OK | |||||||||
| kjohnson3 | macOS 13.7.7 Ventura / arm64 | OK | OK | OK | OK | |||||||||
|
To the developers/maintainers of the MOSClip package: - Allow up to 24 hours (and sometimes 48 hours) for your latest push to git@git.bioconductor.org:packages/MOSClip.git to reflect on this report. See Troubleshooting Build Report for more information. - Use the following Renviron settings to reproduce errors and warnings. - If 'R CMD check' started to fail recently on the Linux builder(s) over a missing dependency, add the missing dependency to 'Suggests:' in your DESCRIPTION file. See Renviron.bioc for more information. |
| Package: MOSClip |
| Version: 1.5.0 |
| Command: /home/biocbuild/bbs-3.23-bioc/R/bin/R CMD check --install=check:MOSClip.install-out.txt --library=/home/biocbuild/bbs-3.23-bioc/R/site-library --timings MOSClip_1.5.0.tar.gz |
| StartedAt: 2025-11-19 02:27:34 -0500 (Wed, 19 Nov 2025) |
| EndedAt: 2025-11-19 02:35:52 -0500 (Wed, 19 Nov 2025) |
| EllapsedTime: 497.7 seconds |
| RetCode: 0 |
| Status: OK |
| CheckDir: MOSClip.Rcheck |
| Warnings: 0 |
##############################################################################
##############################################################################
###
### Running command:
###
### /home/biocbuild/bbs-3.23-bioc/R/bin/R CMD check --install=check:MOSClip.install-out.txt --library=/home/biocbuild/bbs-3.23-bioc/R/site-library --timings MOSClip_1.5.0.tar.gz
###
##############################################################################
##############################################################################
* using log directory ‘/home/biocbuild/bbs-3.23-bioc/meat/MOSClip.Rcheck’
* using R Under development (unstable) (2025-10-20 r88955)
* using platform: x86_64-pc-linux-gnu
* R was compiled by
gcc (Ubuntu 13.3.0-6ubuntu2~24.04) 13.3.0
GNU Fortran (Ubuntu 13.3.0-6ubuntu2~24.04) 13.3.0
* running under: Ubuntu 24.04.3 LTS
* using session charset: UTF-8
* checking for file ‘MOSClip/DESCRIPTION’ ... OK
* this is package ‘MOSClip’ version ‘1.5.0’
* package encoding: UTF-8
* checking package namespace information ... OK
* checking package dependencies ... INFO
Imports includes 27 non-default packages.
Importing from so many packages makes the package vulnerable to any of
them becoming unavailable. Move as many as possible to Suggests and
use conditionally.
* checking if this is a source package ... OK
* checking if there is a namespace ... OK
* checking for hidden files and directories ... OK
* checking for portable file names ... OK
* checking for sufficient/correct file permissions ... OK
* checking whether package ‘MOSClip’ can be installed ... OK
* checking installed package size ... OK
* checking package directory ... OK
* checking ‘build’ directory ... OK
* checking DESCRIPTION meta-information ... OK
* checking top-level files ... OK
* checking for left-over files ... OK
* checking index information ... OK
* checking package subdirectories ... OK
* checking code files for non-ASCII characters ... OK
* checking R files for syntax errors ... OK
* checking whether the package can be loaded ... OK
* checking whether the package can be loaded with stated dependencies ... OK
* checking whether the package can be unloaded cleanly ... OK
* checking whether the namespace can be loaded with stated dependencies ... OK
* checking whether the namespace can be unloaded cleanly ... OK
* checking loading without being on the library search path ... OK
* checking dependencies in R code ... OK
* checking S3 generic/method consistency ... OK
* checking replacement functions ... OK
* checking foreign function calls ... OK
* checking R code for possible problems ... OK
* checking Rd files ... OK
* checking Rd metadata ... OK
* checking Rd cross-references ... NOTE
Found the following Rd file(s) with Rd \link{} targets missing package
anchors:
makeOmics.Rd: ExperimentList, DataFrame-class
Please provide package anchors for all Rd \link{} targets not in the
package itself and the base packages.
* checking for missing documentation entries ... OK
* checking for code/documentation mismatches ... OK
* checking Rd \usage sections ... OK
* checking Rd contents ... OK
* checking for unstated dependencies in examples ... OK
* checking contents of ‘data’ directory ... OK
* checking data for non-ASCII characters ... OK
* checking data for ASCII and uncompressed saves ... OK
* checking files in ‘vignettes’ ... OK
* checking examples ... OK
Examples with CPU (user + system) or elapsed time > 5s
user system elapsed
evaluateResampling 6.222 0.043 6.266
annotePathwayToFather 5.434 0.141 5.576
* checking for unstated dependencies in ‘tests’ ... OK
* checking tests ...
Running ‘testthat.R’
OK
* checking for unstated dependencies in vignettes ... OK
* checking package vignettes ... OK
* checking re-building of vignette outputs ... OK
* checking PDF version of manual ... OK
* DONE
Status: 1 NOTE
See
‘/home/biocbuild/bbs-3.23-bioc/meat/MOSClip.Rcheck/00check.log’
for details.
MOSClip.Rcheck/00install.out
############################################################################## ############################################################################## ### ### Running command: ### ### /home/biocbuild/bbs-3.23-bioc/R/bin/R CMD INSTALL MOSClip ### ############################################################################## ############################################################################## * installing to library ‘/home/biocbuild/bbs-3.23-bioc/R/site-library’ * installing *source* package ‘MOSClip’ ... ** this is package ‘MOSClip’ version ‘1.5.0’ ** using staged installation ** R ** data ** inst ** byte-compile and prepare package for lazy loading ** help *** installing help indices *** copying figures ** building package indices ** installing vignettes ** testing if installed package can be loaded from temporary location ** testing if installed package can be loaded from final location ** testing if installed package keeps a record of temporary installation path * DONE (MOSClip)
MOSClip.Rcheck/tests/testthat.Rout
R Under development (unstable) (2025-10-20 r88955) -- "Unsuffered Consequences"
Copyright (C) 2025 The R Foundation for Statistical Computing
Platform: x86_64-pc-linux-gnu
R is free software and comes with ABSOLUTELY NO WARRANTY.
You are welcome to redistribute it under certain conditions.
Type 'license()' or 'licence()' for distribution details.
R is a collaborative project with many contributors.
Type 'contributors()' for more information and
'citation()' on how to cite R or R packages in publications.
Type 'demo()' for some demos, 'help()' for on-line help, or
'help.start()' for an HTML browser interface to help.
Type 'q()' to quit R.
> library(testthat)
> library(MOSClip)
>
> test_check("MOSClip")
[ FAIL 0 | WARN 2 | SKIP 0 | PASS 198 ]
[ FAIL 0 | WARN 2 | SKIP 0 | PASS 198 ]
>
> proc.time()
user system elapsed
72.931 2.029 74.955
MOSClip.Rcheck/MOSClip-Ex.timings
| name | user | system | elapsed | |
| annotePathwayToFather | 5.434 | 0.141 | 5.576 | |
| availableOmicMethods | 0 | 0 | 0 | |
| computeFreqs | 0.003 | 0.001 | 0.003 | |
| computeOmicsIntersections | 0.004 | 0.000 | 0.004 | |
| downloadPathwayRelationFromReactome | 0.052 | 0.036 | 0.088 | |
| evaluateResampling | 6.222 | 0.043 | 6.266 | |
| makeOmics | 0.218 | 0.010 | 0.228 | |
| minOrNA | 0 | 0 | 0 | |
| multiOmicsSurvivalModuleTest | 1.382 | 0.005 | 1.387 | |
| multiOmicsSurvivalPathwayTest | 0.306 | 0.002 | 0.308 | |
| multiOmicsTwoClassModuleTest | 1.489 | 0.002 | 1.492 | |
| multiOmicsTwoClassPathwayTest | 0.325 | 0.003 | 0.327 | |
| multiPathwayModuleReport | 3.602 | 0.028 | 3.631 | |
| multiPathwayReport | 0.560 | 0.038 | 0.598 | |
| plotFrequencies | 0.394 | 0.021 | 0.415 | |
| plotModuleHeat | 4.240 | 0.057 | 4.301 | |
| plotModuleInGraph | 1.918 | 0.023 | 1.942 | |
| plotModuleKM | 3.059 | 0.010 | 3.069 | |
| plotModuleReport | 4.599 | 0.018 | 4.617 | |
| plotMultiPathwayReport | 1.295 | 0.014 | 1.308 | |
| plotPathwayHeat | 1.832 | 0.014 | 1.846 | |
| plotPathwayKM | 1.581 | 0.004 | 1.585 | |
| resampling-Survival | 4.488 | 0.005 | 4.494 | |
| resampling-TwoClass | 4.321 | 0.005 | 4.327 | |
| runSupertest | 0.1 | 0.0 | 0.1 | |
| showMOSpalette | 0.013 | 0.000 | 0.013 | |
| showModule | 1.481 | 0.002 | 1.483 | |
| showOmics | 0.042 | 0.002 | 0.045 | |
| showPathway | 0.306 | 0.003 | 0.310 | |
| stripModulesFromPathways | 0.000 | 0.000 | 0.001 | |
| summarizeOmicsResByMinPvalue | 0 | 0 | 0 | |