Back to Multiple platform build/check report for BioC 3.23:   simplified   long
ABCDEFGHIJKL[M]NOPQRSTUVWXYZ

This page was generated on 2025-11-20 11:39 -0500 (Thu, 20 Nov 2025).

HostnameOSArch (*)R versionInstalled pkgs
nebbiolo1Linux (Ubuntu 24.04.3 LTS)x86_64R Under development (unstable) (2025-10-20 r88955) -- "Unsuffered Consequences" 4827
lconwaymacOS 12.7.6 Montereyx86_64R Under development (unstable) (2025-10-21 r88958) -- "Unsuffered Consequences" 4600
kjohnson3macOS 13.7.7 Venturaarm64R Under development (unstable) (2025-11-04 r88984) -- "Unsuffered Consequences" 4564
Click on any hostname to see more info about the system (e.g. compilers)      (*) as reported by 'uname -p', except on Windows and Mac OS X

Package 1356/2325HostnameOS / ArchINSTALLBUILDCHECKBUILD BIN
MsBackendMetaboLights 1.5.1  (landing page)
Johannes Rainer
Snapshot Date: 2025-11-19 13:40 -0500 (Wed, 19 Nov 2025)
git_url: https://git.bioconductor.org/packages/MsBackendMetaboLights
git_branch: devel
git_last_commit: d9f698a
git_last_commit_date: 2025-11-04 02:35:39 -0500 (Tue, 04 Nov 2025)
nebbiolo1Linux (Ubuntu 24.04.3 LTS) / x86_64  OK    OK    OK  UNNEEDED, same version is already published
lconwaymacOS 12.7.6 Monterey / x86_64  OK    OK    OK    OK  UNNEEDED, same version is already published
kjohnson3macOS 13.7.7 Ventura / arm64  OK    OK    OK    OK  UNNEEDED, same version is already published


CHECK results for MsBackendMetaboLights on kjohnson3

To the developers/maintainers of the MsBackendMetaboLights package:
- Allow up to 24 hours (and sometimes 48 hours) for your latest push to git@git.bioconductor.org:packages/MsBackendMetaboLights.git to reflect on this report. See Troubleshooting Build Report for more information.
- Use the following Renviron settings to reproduce errors and warnings.
- If 'R CMD check' started to fail recently on the Linux builder(s) over a missing dependency, add the missing dependency to 'Suggests:' in your DESCRIPTION file. See Renviron.bioc for more information.

raw results


Summary

Package: MsBackendMetaboLights
Version: 1.5.1
Command: /Library/Frameworks/R.framework/Resources/bin/R CMD check --install=check:MsBackendMetaboLights.install-out.txt --library=/Library/Frameworks/R.framework/Resources/library --no-vignettes --timings MsBackendMetaboLights_1.5.1.tar.gz
StartedAt: 2025-11-19 21:11:49 -0500 (Wed, 19 Nov 2025)
EndedAt: 2025-11-19 21:22:09 -0500 (Wed, 19 Nov 2025)
EllapsedTime: 620.2 seconds
RetCode: 0
Status:   OK  
CheckDir: MsBackendMetaboLights.Rcheck
Warnings: 0

Command output

##############################################################################
##############################################################################
###
### Running command:
###
###   /Library/Frameworks/R.framework/Resources/bin/R CMD check --install=check:MsBackendMetaboLights.install-out.txt --library=/Library/Frameworks/R.framework/Resources/library --no-vignettes --timings MsBackendMetaboLights_1.5.1.tar.gz
###
##############################################################################
##############################################################################


* using log directory ‘/Users/biocbuild/bbs-3.23-bioc/meat/MsBackendMetaboLights.Rcheck’
* using R Under development (unstable) (2025-11-04 r88984)
* using platform: aarch64-apple-darwin20
* R was compiled by
    Apple clang version 16.0.0 (clang-1600.0.26.6)
    GNU Fortran (GCC) 14.2.0
* running under: macOS Ventura 13.7.8
* using session charset: UTF-8
* using option ‘--no-vignettes’
* checking for file ‘MsBackendMetaboLights/DESCRIPTION’ ... OK
* this is package ‘MsBackendMetaboLights’ version ‘1.5.1’
* package encoding: UTF-8
* checking package namespace information ... OK
* checking package dependencies ... OK
* checking if this is a source package ... OK
* checking if there is a namespace ... OK
* checking for hidden files and directories ... OK
* checking for portable file names ... OK
* checking for sufficient/correct file permissions ... OK
* checking whether package ‘MsBackendMetaboLights’ can be installed ... OK
* checking installed package size ... OK
* checking package directory ... OK
* checking ‘build’ directory ... OK
* checking DESCRIPTION meta-information ... OK
* checking top-level files ... OK
* checking for left-over files ... OK
* checking index information ... OK
* checking package subdirectories ... OK
* checking code files for non-ASCII characters ... OK
* checking R files for syntax errors ... OK
* checking whether the package can be loaded ... OK
* checking whether the package can be loaded with stated dependencies ... OK
* checking whether the package can be unloaded cleanly ... OK
* checking whether the namespace can be loaded with stated dependencies ... OK
* checking whether the namespace can be unloaded cleanly ... OK
* checking dependencies in R code ... OK
* checking S3 generic/method consistency ... OK
* checking replacement functions ... OK
* checking foreign function calls ... OK
* checking R code for possible problems ... OK
* checking Rd files ... OK
* checking Rd metadata ... OK
* checking Rd cross-references ... OK
* checking for missing documentation entries ... OK
* checking for code/documentation mismatches ... OK
* checking Rd \usage sections ... OK
* checking Rd contents ... OK
* checking for unstated dependencies in examples ... OK
* checking files in ‘vignettes’ ... OK
* checking examples ... OK
Examples with CPU (user + system) or elapsed time > 5s
                       user system elapsed
MsBackendMetaboLights 3.239  0.577  11.680
MetaboLights-utils    0.144  0.016   8.059
* checking for unstated dependencies in ‘tests’ ... OK
* checking tests ...
  Running ‘testthat.R’
 OK
* checking for unstated dependencies in vignettes ... OK
* checking package vignettes ... OK
* checking running R code from vignettes ... SKIPPED
* checking re-building of vignette outputs ... SKIPPED
* checking PDF version of manual ... OK
* DONE

Status: OK


Installation output

MsBackendMetaboLights.Rcheck/00install.out

##############################################################################
##############################################################################
###
### Running command:
###
###   /Library/Frameworks/R.framework/Resources/bin/R CMD INSTALL MsBackendMetaboLights
###
##############################################################################
##############################################################################


* installing to library ‘/Library/Frameworks/R.framework/Versions/4.6-arm64/Resources/library’
* installing *source* package ‘MsBackendMetaboLights’ ...
** this is package ‘MsBackendMetaboLights’ version ‘1.5.1’
** using staged installation
** R
** byte-compile and prepare package for lazy loading
** help
*** installing help indices
*** copying figures
** building package indices
** installing vignettes
** testing if installed package can be loaded from temporary location
** testing if installed package can be loaded from final location
** testing if installed package keeps a record of temporary installation path
* DONE (MsBackendMetaboLights)

Tests output

MsBackendMetaboLights.Rcheck/tests/testthat.Rout


R Under development (unstable) (2025-11-04 r88984) -- "Unsuffered Consequences"
Copyright (C) 2025 The R Foundation for Statistical Computing
Platform: aarch64-apple-darwin20

R is free software and comes with ABSOLUTELY NO WARRANTY.
You are welcome to redistribute it under certain conditions.
Type 'license()' or 'licence()' for distribution details.

R is a collaborative project with many contributors.
Type 'contributors()' for more information and
'citation()' on how to cite R or R packages in publications.

Type 'demo()' for some demos, 'help()' for on-line help, or
'help.start()' for an HTML browser interface to help.
Type 'q()' to quit R.

> #' MetaboLights ID: MTBLS8735
> #' ftp://ftp.ebi.ac.uk/pub/databases/metabolights/studies/public/MTBLS8735
> 
> library(testthat)
> library(MsBackendMetaboLights)
Loading required package: Spectra
Loading required package: S4Vectors
Loading required package: stats4
Loading required package: BiocGenerics
Loading required package: generics

Attaching package: 'generics'

The following objects are masked from 'package:base':

    as.difftime, as.factor, as.ordered, intersect, is.element, setdiff,
    setequal, union


Attaching package: 'BiocGenerics'

The following objects are masked from 'package:stats':

    IQR, mad, sd, var, xtabs

The following objects are masked from 'package:base':

    Filter, Find, Map, Position, Reduce, anyDuplicated, aperm, append,
    as.data.frame, basename, cbind, colnames, dirname, do.call,
    duplicated, eval, evalq, get, grep, grepl, is.unsorted, lapply,
    mapply, match, mget, order, paste, pmax, pmax.int, pmin, pmin.int,
    rank, rbind, rownames, sapply, saveRDS, table, tapply, unique,
    unsplit, which.max, which.min


Attaching package: 'S4Vectors'

The following object is masked from 'package:utils':

    findMatches

The following objects are masked from 'package:base':

    I, expand.grid, unname

Loading required package: BiocParallel
> 
> test_check("MsBackendMetaboLights")
[ FAIL 0 | WARN 0 | SKIP 0 | PASS 78 ]
> 
> ## Run tests with the unit test suite defined in the Spectra package to ensure
> ## compliance with the definitions of the MsBackend interface/class.
> be <- backendInitialize(MsBackendMetaboLights(), mtblsId = "MTBLS39",
+                         filePattern = "63A.cdf")
Used data files from the assay's column "Raw Spectral Data File" since none were available in column "Derived Spectral Data File".
> 
> library(Spectra)
> test_suite <- system.file("test_backends", "test_MsBackend",
+                           package = "Spectra")
> res <- test_dir(test_suite, stop_on_failure = TRUE)
✔ | F W  S  OK | Context

⠏ |          0 | peaks_variables                                                
⠙ |          2 | peaks_variables                                                
⠸ |          4 | peaks_variables                                                
✔ |          4 | peaks_variables

⠏ |          0 | spectra_subsetting                                             
⠋ |          1 | spectra_subsetting                                             
⠸ |         34 | spectra_subsetting                                             
⠧ |         68 | spectra_subsetting                                             
⠏ |        100 | spectra_subsetting                                             
⠴ |        136 | spectra_subsetting                                             
⠇ |        169 | spectra_subsetting                                             
⠙ |        202 | spectra_subsetting                                             
⠼ |        235 | spectra_subsetting                                             
⠧ |        268 | spectra_subsetting                                             
⠙ |        292 | spectra_subsetting                                             
⠙ |        322 | spectra_subsetting                                             
⠼ |        355 | spectra_subsetting                                             
⠙ |        392 | spectra_subsetting                                             
⠸ |        424 | spectra_subsetting                                             
⠇ |        459 | spectra_subsetting                                             
⠹ |        493 | spectra_subsetting                                             
⠏ |        530 | spectra_subsetting                                             
⠇ |        559 | spectra_subsetting                                             
⠹ |        593 | spectra_subsetting                                             
⠼ |        625 | spectra_subsetting                                             
⠧ |        658 | spectra_subsetting                                             
⠋ |        691 | spectra_subsetting                                             
⠦ |        727 | spectra_subsetting                                             
⠹ |        763 | spectra_subsetting                                             
⠴ |        796 | spectra_subsetting                                             
⠇ |        829 | spectra_subsetting                                             
⠇ |        859 | spectra_subsetting                                             
⠸ |        894 | spectra_subsetting                                             
⠧ |        928 | spectra_subsetting                                             
⠇ |        959 | spectra_subsetting                                             
⠋ |        991 | spectra_subsetting                                             
⠙ |        1022 | spectra_subsetting                                            
⠙ |        1052 | spectra_subsetting                                            
⠙ |        1082 | spectra_subsetting                                            
⠦ |        1117 | spectra_subsetting                                            
⠹ |        1153 | spectra_subsetting                                            
⠇ |        1189 | spectra_subsetting                                            
⠙ |        1222 | spectra_subsetting                                            
⠴ |        1256 | spectra_subsetting                                            
⠼ |        1285 | spectra_subsetting                                            
⠧ |        1318 | spectra_subsetting                                            
⠼ |        1345 | spectra_subsetting                                            
⠼ |        1375 | spectra_subsetting                                            
⠧ |        1408 | spectra_subsetting                                            
⠋ |        1441 | spectra_subsetting                                            
⠹ |        1473 | spectra_subsetting                                            
⠹ |        1503 | spectra_subsetting                                            
⠦ |        1537 | spectra_subsetting                                            
⠸ |        1564 | spectra_subsetting                                            
⠧ |        1598 | spectra_subsetting                                            
⠸ |        1624 | spectra_subsetting                                            
⠦ |        1657 | spectra_subsetting                                            
⠼ |        1685 | spectra_subsetting                                            
⠇ |        1719 | spectra_subsetting                                            
⠹ |        1753 | spectra_subsetting                                            
⠇ |        1789 | spectra_subsetting                                            
⠹ |        1823 | spectra_subsetting                                            
⠧ |        1858 | spectra_subsetting                                            
⠸ |        1894 | spectra_subsetting                                            
⠦ |        1927 | spectra_subsetting                                            
⠋ |        1961 | spectra_subsetting                                            
⠸ |        1994 | spectra_subsetting                                            
⠴ |        2026 | spectra_subsetting                                            
⠇ |        2059 | spectra_subsetting                                            
⠙ |        2092 | spectra_subsetting                                            
⠇ |        2119 | spectra_subsetting                                            
⠇ |        2149 | spectra_subsetting                                            
⠇ |        2179 | spectra_subsetting                                            
⠙ |        2212 | spectra_subsetting                                            
⠴ |        2246 | spectra_subsetting                                            
⠇ |        2279 | spectra_subsetting                                            
⠸ |        2314 | spectra_subsetting                                            
⠼ |        2345 | spectra_subsetting                                            
⠸ |        2374 | spectra_subsetting                                            
⠦ |        2407 | spectra_subsetting                                            
⠏ |        2440 | spectra_subsetting                                            
⠋ |        2471 | spectra_subsetting                                            
⠴ |        2506 | spectra_subsetting                                            
⠇ |        2539 | spectra_subsetting                                            
⠙ |        2572 | spectra_subsetting                                            
⠹ |        2603 | spectra_subsetting                                            
⠸ |        2634 | spectra_subsetting                                            
⠙ |        2662 | spectra_subsetting                                            
⠼ |        2695 | spectra_subsetting                                            
⠼ |        2725 | spectra_subsetting                                            
⠋ |        2761 | spectra_subsetting                                            
⠙ |        2792 | spectra_subsetting                                            
⠸ |        2824 | spectra_subsetting                                            
⠙ |        2852 | spectra_subsetting                                            
⠙ |        2882 | spectra_subsetting                                            
⠸ |        2914 | spectra_subsetting                                            
⠹ |        2943 | spectra_subsetting                                            
⠴ |        2976 | spectra_subsetting                                            
⠏ |        3010 | spectra_subsetting                                            
⠴ |        3046 | spectra_subsetting                                            
⠴ |        3076 | spectra_subsetting                                            
⠼ |        3115 | spectra_subsetting                                            
⠧ |        3148 | spectra_subsetting                                            
⠸ |        3184 | spectra_subsetting                                            
⠏ |        3220 | spectra_subsetting                                            
⠹ |        3253 | spectra_subsetting                                            
⠴ |        3286 | spectra_subsetting                                            
⠇ |        3319 | spectra_subsetting                                            
⠴ |        3356 | spectra_subsetting                                            
⠴ |        3386 | spectra_subsetting                                            
⠧ |        3418 | spectra_subsetting                                            
⠋ |        3451 | spectra_subsetting                                            
⠦ |        3487 | spectra_subsetting                                            
⠋ |        3521 | spectra_subsetting                                            
⠴ |        3556 | spectra_subsetting                                            
⠙ |        3592 | spectra_subsetting                                            
⠴ |        3626 | spectra_subsetting                                            
⠧ |        3658 | spectra_subsetting                                            
⠋ |        3691 | spectra_subsetting                                            
⠦ |        3727 | spectra_subsetting                                            
⠏ |        3760 | spectra_subsetting                                            
⠹ |        3793 | spectra_subsetting                                            
⠇ |        3829 | spectra_subsetting                                            
⠇ |        3859 | spectra_subsetting                                            
⠇ |        3889 | spectra_subsetting                                            
⠙ |        3922 | spectra_subsetting                                            
⠼ |        3955 | spectra_subsetting                                            
⠧ |        3988 | spectra_subsetting                                            
⠋ |        4021 | spectra_subsetting                                            
⠸ |        4054 | spectra_subsetting                                            
⠏ |        4090 | spectra_subsetting                                            
⠦ |        4117 | spectra_subsetting                                            
⠦ |        4147 | spectra_subsetting                                            
⠏ |        4180 | spectra_subsetting                                            
⠴ |        4216 | spectra_subsetting                                            
⠙ |        4252 | spectra_subsetting                                            
⠹ |        4283 | spectra_subsetting                                            
⠼ |        4315 | spectra_subsetting                                            
⠧ |        4348 | spectra_subsetting                                            
⠋ |        4381 | spectra_subsetting                                            
⠋ |        4411 | spectra_subsetting                                            
⠹ |        4443 | spectra_subsetting                                            
⠙ |        4472 | spectra_subsetting                                            
⠦ |        4507 | spectra_subsetting                                            
⠏ |        4540 | spectra_subsetting                                            
⠴ |        4576 | spectra_subsetting                                            
⠙ |        4612 | spectra_subsetting                                            
⠴ |        4646 | spectra_subsetting                                            
⠼ |        4675 | spectra_subsetting                                            
⠧ |        4708 | spectra_subsetting                                            
⠹ |        4743 | spectra_subsetting                                            
⠦ |        4777 | spectra_subsetting                                            
⠴ |        4806 | spectra_subsetting                                            
⠴ |        4836 | spectra_subsetting                                            
⠦ |        4867 | spectra_subsetting                                            
⠏ |        4900 | spectra_subsetting                                            
⠴ |        4936 | spectra_subsetting                                            
⠴ |        4966 | spectra_subsetting                                            
⠴ |        4996 | spectra_subsetting                                            
⠧ |        4998 | spectra_subsetting                                            
⠏ |        5000 | spectra_subsetting                                            
⠙ |        5002 | spectra_subsetting                                            
⠸ |        5004 | spectra_subsetting                                            
⠴ |        5006 | spectra_subsetting                                            
⠧ |        5008 | spectra_subsetting                                            
⠏ |        5010 | spectra_subsetting                                            
⠙ |        5012 | spectra_subsetting                                            
⠸ |        5014 | spectra_subsetting                                            
⠴ |        5016 | spectra_subsetting                                            
⠧ |        5018 | spectra_subsetting                                            
⠏ |        5020 | spectra_subsetting                                            
⠙ |        5022 | spectra_subsetting                                            
⠸ |        5024 | spectra_subsetting                                            
⠴ |        5026 | spectra_subsetting                                            
⠦ |        5027 | spectra_subsetting                                            
⠇ |        5029 | spectra_subsetting                                            
⠋ |        5031 | spectra_subsetting                                            
⠹ |        5033 | spectra_subsetting                                            
⠼ |        5035 | spectra_subsetting                                            
⠦ |        5037 | spectra_subsetting                                            
⠇ |        5039 | spectra_subsetting                                            
⠋ |        5041 | spectra_subsetting                                            
⠹ |        5043 | spectra_subsetting                                            
⠼ |        5045 | spectra_subsetting                                            
⠦ |        5047 | spectra_subsetting                                            
⠧ |        5048 | spectra_subsetting                                            
⠏ |        5050 | spectra_subsetting                                            
⠙ |        5052 | spectra_subsetting                                            
⠹ |        5053 | spectra_subsetting                                            
⠼ |        5055 | spectra_subsetting                                            
⠦ |        5057 | spectra_subsetting                                            
⠇ |        5059 | spectra_subsetting                                            
⠋ |        5061 | spectra_subsetting                                            
⠹ |        5063 | spectra_subsetting                                            
⠸ |        5064 | spectra_subsetting                                            
⠴ |        5066 | spectra_subsetting                                            
⠧ |        5068 | spectra_subsetting                                            
⠏ |        5070 | spectra_subsetting                                            
⠙ |        5072 | spectra_subsetting                                            
⠹ |        5073 | spectra_subsetting                                            
⠼ |        5075 | spectra_subsetting                                            
⠴ |        5076 | spectra_subsetting                                            
⠧ |        5078 | spectra_subsetting                                            
⠏ |        5080 | spectra_subsetting                                            
⠋ |        5081 | spectra_subsetting                                            
⠹ |        5083 | spectra_subsetting                                            
⠼ |        5085 | spectra_subsetting                                            
⠦ |        5087 | spectra_subsetting                                            
⠇ |        5089 | spectra_subsetting                                            
⠋ |        5091 | spectra_subsetting                                            
⠹ |        5093 | spectra_subsetting                                            
⠸ |        5094 | spectra_subsetting                                            
⠴ |        5096 | spectra_subsetting                                            
⠧ |        5098 | spectra_subsetting                                            
⠏ |        5100 | spectra_subsetting                                            
⠙ |        5102 | spectra_subsetting                                            
⠹ |        5103 | spectra_subsetting                                            
⠼ |        5105 | spectra_subsetting                                            
⠦ |        5107 | spectra_subsetting                                            
⠧ |        5108 | spectra_subsetting                                            
⠏ |        5110 | spectra_subsetting                                            
⠙ |        5112 | spectra_subsetting                                            
⠹ |        5113 | spectra_subsetting                                            
⠼ |        5115 | spectra_subsetting                                            
⠦ |        5117 | spectra_subsetting                                            
⠧ |        5118 | spectra_subsetting                                            
⠏ |        5120 | spectra_subsetting                                            
⠙ |        5122 | spectra_subsetting                                            
⠸ |        5124 | spectra_subsetting                                            
⠴ |        5126 | spectra_subsetting                                            
⠧ |        5128 | spectra_subsetting                                            
⠏ |        5130 | spectra_subsetting                                            
⠋ |        5131 | spectra_subsetting                                            
⠹ |        5133 | spectra_subsetting                                            
⠸ |        5134 | spectra_subsetting                                            
⠴ |        5136 | spectra_subsetting                                            
⠧ |        5138 | spectra_subsetting                                            
⠏ |        5140 | spectra_subsetting                                            
⠙ |        5142 | spectra_subsetting                                            
⠸ |        5144 | spectra_subsetting                                            
⠼ |        5145 | spectra_subsetting                                            
⠦ |        5147 | spectra_subsetting                                            
⠇ |        5149 | spectra_subsetting                                            
⠋ |        5151 | spectra_subsetting                                            
⠹ |        5153 | spectra_subsetting                                            
⠼ |        5155 | spectra_subsetting                                            
⠦ |        5157 | spectra_subsetting                                            
⠇ |        5159 | spectra_subsetting                                            
⠋ |        5161 | spectra_subsetting                                            
⠹ |        5163 | spectra_subsetting                                            
⠼ |        5165 | spectra_subsetting                                            
⠦ |        5167 | spectra_subsetting                                            
⠇ |        5169 | spectra_subsetting                                            
⠏ |        5170 | spectra_subsetting                                            
⠋ |        5171 | spectra_subsetting                                            
⠹ |        5173 | spectra_subsetting                                            
⠼ |        5175 | spectra_subsetting                                            
⠦ |        5177 | spectra_subsetting                                            
⠇ |        5179 | spectra_subsetting                                            
⠋ |        5181 | spectra_subsetting                                            
⠹ |        5183 | spectra_subsetting                                            
⠸ |        5184 | spectra_subsetting                                            
⠴ |        5186 | spectra_subsetting                                            
⠧ |        5188 | spectra_subsetting                                            
⠏ |        5190 | spectra_subsetting                                            
⠙ |        5192 | spectra_subsetting                                            
⠸ |        5194 | spectra_subsetting                                            
⠼ |        5195 | spectra_subsetting                                            
⠦ |        5197 | spectra_subsetting                                            
⠇ |        5199 | spectra_subsetting                                            
⠋ |        5201 | spectra_subsetting                                            
⠙ |        5202 | spectra_subsetting                                            
⠸ |        5204 | spectra_subsetting                                            
⠴ |        5206 | spectra_subsetting                                            
⠧ |        5208 | spectra_subsetting                                            
⠏ |        5210 | spectra_subsetting                                            
⠙ |        5212 | spectra_subsetting                                            
⠸ |        5214 | spectra_subsetting                                            
⠼ |        5215 | spectra_subsetting                                            
⠴ |        5216 | spectra_subsetting                                            
⠧ |        5218 | spectra_subsetting                                            
⠏ |        5220 | spectra_subsetting                                            
⠙ |        5222 | spectra_subsetting                                            
⠸ |        5224 | spectra_subsetting                                            
⠼ |        5225 | spectra_subsetting                                            
⠦ |        5227 | spectra_subsetting                                            
⠇ |        5229 | spectra_subsetting                                            
⠋ |        5231 | spectra_subsetting                                            
⠹ |        5233 | spectra_subsetting                                            
⠼ |        5235 | spectra_subsetting                                            
⠦ |        5237 | spectra_subsetting                                            
⠇ |        5239 | spectra_subsetting                                            
⠋ |        5241 | spectra_subsetting                                            
⠹ |        5243 | spectra_subsetting                                            
⠼ |        5245 | spectra_subsetting                                            
⠦ |        5247 | spectra_subsetting                                            
⠧ |        5248 | spectra_subsetting                                            
⠏ |        5250 | spectra_subsetting                                            
⠙ |        5252 | spectra_subsetting                                            
⠹ |        5253 | spectra_subsetting                                            
⠼ |        5255 | spectra_subsetting                                            
⠴ |        5256 | spectra_subsetting                                            
⠧ |        5258 | spectra_subsetting                                            
⠏ |        5260 | spectra_subsetting                                            
⠙ |        5262 | spectra_subsetting                                            
⠹ |        5263 | spectra_subsetting                                            
⠼ |        5265 | spectra_subsetting                                            
⠦ |        5267 | spectra_subsetting                                            
⠧ |        5268 | spectra_subsetting                                            
⠏ |        5270 | spectra_subsetting                                            
⠙ |        5272 | spectra_subsetting                                            
⠸ |        5274 | spectra_subsetting                                            
⠴ |        5276 | spectra_subsetting                                            
⠧ |        5278 | spectra_subsetting                                            
⠏ |        5280 | spectra_subsetting                                            
⠋ |        5281 | spectra_subsetting                                            
⠹ |        5283 | spectra_subsetting                                            
⠼ |        5285 | spectra_subsetting                                            
⠦ |        5287 | spectra_subsetting                                            
⠇ |        5289 | spectra_subsetting                                            
⠋ |        5291 | spectra_subsetting                                            
⠹ |        5293 | spectra_subsetting                                            
⠼ |        5295 | spectra_subsetting                                            
⠦ |        5297 | spectra_subsetting                                            
⠧ |        5298 | spectra_subsetting                                            
⠇ |        5299 | spectra_subsetting                                            
⠋ |        5301 | spectra_subsetting                                            
⠹ |        5303 | spectra_subsetting                                            
⠸ |        5304 | spectra_subsetting                                            
⠴ |        5306 | spectra_subsetting                                            
⠧ |        5308 | spectra_subsetting                                            
⠏ |        5310 | spectra_subsetting                                            
⠙ |        5312 | spectra_subsetting                                            
⠸ |        5314 | spectra_subsetting                                            
⠴ |        5316 | spectra_subsetting                                            
⠦ |        5317 | spectra_subsetting                                            
⠇ |        5319 | spectra_subsetting                                            
⠏ |        5320 | spectra_subsetting                                            
⠋ |        5321 | spectra_subsetting                                            
⠹ |        5323 | spectra_subsetting                                            
⠼ |        5325 | spectra_subsetting                                            
⠦ |        5327 | spectra_subsetting                                            
⠧ |        5328 | spectra_subsetting                                            
⠏ |        5330 | spectra_subsetting                                            
⠙ |        5332 | spectra_subsetting                                            
⠸ |        5334 | spectra_subsetting                                            
⠴ |        5336 | spectra_subsetting                                            
⠧ |        5338 | spectra_subsetting                                            
⠇ |        5339 | spectra_subsetting                                            
⠋ |        5341 | spectra_subsetting                                            
⠹ |        5343 | spectra_subsetting                                            
⠸ |        5344 | spectra_subsetting                                            
⠴ |        5346 | spectra_subsetting                                            
⠦ |        5347 | spectra_subsetting                                            
⠇ |        5349 | spectra_subsetting                                            
⠋ |        5351 | spectra_subsetting                                            
⠹ |        5353 | spectra_subsetting                                            
⠼ |        5355 | spectra_subsetting                                            
⠴ |        5356 | spectra_subsetting                                            
⠦ |        5357 | spectra_subsetting                                            
⠇ |        5359 | spectra_subsetting                                            
⠋ |        5361 | spectra_subsetting                                            
⠹ |        5363 | spectra_subsetting                                            
⠸ |        5364 | spectra_subsetting                                            
⠴ |        5366 | spectra_subsetting                                            
⠦ |        5367 | spectra_subsetting                                            
⠇ |        5369 | spectra_subsetting                                            
⠋ |        5371 | spectra_subsetting                                            
⠹ |        5373 | spectra_subsetting                                            
⠼ |        5375 | spectra_subsetting                                            
⠦ |        5377 | spectra_subsetting                                            
⠇ |        5379 | spectra_subsetting                                            
⠋ |        5381 | spectra_subsetting                                            
⠹ |        5383 | spectra_subsetting                                            
⠼ |        5385 | spectra_subsetting                                            
⠦ |        5387 | spectra_subsetting                                            
⠇ |        5389 | spectra_subsetting                                            
⠋ |        5391 | spectra_subsetting                                            
⠹ |        5393 | spectra_subsetting                                            
⠼ |        5395 | spectra_subsetting                                            
⠦ |        5397 | spectra_subsetting                                            
⠇ |        5399 | spectra_subsetting                                            
⠋ |        5401 | spectra_subsetting                                            
⠹ |        5403 | spectra_subsetting                                            
⠼ |        5405 | spectra_subsetting                                            
⠦ |        5407 | spectra_subsetting                                            
⠧ |        5408 | spectra_subsetting                                            
⠏ |        5410 | spectra_subsetting                                            
⠋ |        5411 | spectra_subsetting                                            
⠙ |        5412 | spectra_subsetting                                            
⠸ |        5414 | spectra_subsetting                                            
⠴ |        5416 | spectra_subsetting                                            
⠧ |        5418 | spectra_subsetting                                            
⠏ |        5420 | spectra_subsetting                                            
⠋ |        5421 | spectra_subsetting                                            
⠹ |        5423 | spectra_subsetting                                            
⠼ |        5425 | spectra_subsetting                                            
⠦ |        5427 | spectra_subsetting                                            
⠇ |        5429 | spectra_subsetting                                            
⠋ |        5431 | spectra_subsetting                                            
⠙ |        5432 | spectra_subsetting                                            
⠸ |        5434 | spectra_subsetting                                            
⠴ |        5436 | spectra_subsetting                                            
⠧ |        5438 | spectra_subsetting                                            
⠇ |        5439 | spectra_subsetting                                            
⠋ |        5441 | spectra_subsetting                                            
⠙ |        5442 | spectra_subsetting                                            
⠹ |        5443 | spectra_subsetting                                            
⠸ |        5444 | spectra_subsetting                                            
⠴ |        5446 | spectra_subsetting                                            
⠧ |        5448 | spectra_subsetting                                            
⠏ |        5450 | spectra_subsetting                                            
⠙ |        5452 | spectra_subsetting                                            
⠸ |        5454 | spectra_subsetting                                            
⠴ |        5456 | spectra_subsetting                                            
⠦ |        5457 | spectra_subsetting                                            
⠇ |        5459 | spectra_subsetting                                            
⠋ |        5461 | spectra_subsetting                                            
⠹ |        5463 | spectra_subsetting                                            
⠼ |        5465 | spectra_subsetting                                            
⠦ |        5467 | spectra_subsetting                                            
⠇ |        5469 | spectra_subsetting                                            
⠋ |        5471 | spectra_subsetting                                            
⠹ |        5473 | spectra_subsetting                                            
⠼ |        5475 | spectra_subsetting                                            
⠦ |        5477 | spectra_subsetting                                            
⠇ |        5479 | spectra_subsetting                                            
⠋ |        5481 | spectra_subsetting                                            
⠹ |        5483 | spectra_subsetting                                            
⠼ |        5485 | spectra_subsetting                                            
⠦ |        5487 | spectra_subsetting                                            
⠇ |        5489 | spectra_subsetting                                            
⠋ |        5491 | spectra_subsetting                                            
⠹ |        5493 | spectra_subsetting                                            
⠼ |        5495 | spectra_subsetting                                            
⠦ |        5497 | spectra_subsetting                                            
⠧ |        5498 | spectra_subsetting                                            
⠏ |        5500 | spectra_subsetting                                            
⠙ |        5502 | spectra_subsetting                                            
⠸ |        5504 | spectra_subsetting                                            
⠴ |        5506 | spectra_subsetting                                            
⠧ |        5508 | spectra_subsetting                                            
⠇ |        5509 | spectra_subsetting                                            
⠋ |        5511 | spectra_subsetting                                            
⠙ |        5512 | spectra_subsetting                                            
⠸ |        5514 | spectra_subsetting                                            
⠴ |        5516 | spectra_subsetting                                            
⠧ |        5518 | spectra_subsetting                                            
⠏ |        5520 | spectra_subsetting                                            
⠋ |        5521 | spectra_subsetting                                            
⠹ |        5523 | spectra_subsetting                                            
⠼ |        5525 | spectra_subsetting                                            
⠦ |        5527 | spectra_subsetting                                            
⠧ |        5528 | spectra_subsetting                                            
⠏ |        5530 | spectra_subsetting                                            
⠙ |        5532 | spectra_subsetting                                            
⠸ |        5534 | spectra_subsetting                                            
⠴ |        5536 | spectra_subsetting                                            
⠧ |        5538 | spectra_subsetting                                            
⠇ |        5539 | spectra_subsetting                                            
⠋ |        5541 | spectra_subsetting                                            
⠹ |        5543 | spectra_subsetting                                            
⠼ |        5545 | spectra_subsetting                                            
⠦ |        5547 | spectra_subsetting                                            
⠇ |        5549 | spectra_subsetting                                            
⠏ |        5550 | spectra_subsetting                                            
⠙ |        5552 | spectra_subsetting                                            
⠸ |        5554 | spectra_subsetting                                            
⠴ |        5556 | spectra_subsetting                                            
⠧ |        5558 | spectra_subsetting                                            
⠇ |        5559 | spectra_subsetting                                            
⠋ |        5561 | spectra_subsetting                                            
⠹ |        5563 | spectra_subsetting                                            
⠼ |        5565 | spectra_subsetting                                            
⠴ |        5566 | spectra_subsetting                                            
⠧ |        5568 | spectra_subsetting                                            
⠏ |        5570 | spectra_subsetting                                            
⠙ |        5572 | spectra_subsetting                                            
⠸ |        5574 | spectra_subsetting                                            
⠼ |        5575 | spectra_subsetting                                            
⠦ |        5577 | spectra_subsetting                                            
⠇ |        5579 | spectra_subsetting                                            
⠋ |        5581 | spectra_subsetting                                            
⠹ |        5583 | spectra_subsetting                                            
⠼ |        5585 | spectra_subsetting                                            
⠦ |        5587 | spectra_subsetting                                            
⠧ |        5588 | spectra_subsetting                                            
⠇ |        5589 | spectra_subsetting                                            
⠋ |        5591 | spectra_subsetting                                            
⠹ |        5593 | spectra_subsetting                                            
⠼ |        5595 | spectra_subsetting                                            
⠦ |        5597 | spectra_subsetting                                            
⠇ |        5599 | spectra_subsetting                                            
⠋ |        5601 | spectra_subsetting                                            
⠹ |        5603 | spectra_subsetting                                            
⠼ |        5605 | spectra_subsetting                                            
⠦ |        5607 | spectra_subsetting                                            
⠇ |        5609 | spectra_subsetting                                            
⠏ |        5610 | spectra_subsetting                                            
⠙ |        5612 | spectra_subsetting                                            
⠸ |        5614 | spectra_subsetting                                            
⠴ |        5616 | spectra_subsetting                                            
⠧ |        5618 | spectra_subsetting                                            
⠏ |        5620 | spectra_subsetting                                            
⠋ |        5621 | spectra_subsetting                                            
⠹ |        5623 | spectra_subsetting                                            
⠸ |        5624 | spectra_subsetting                                            
⠴ |        5626 | spectra_subsetting                                            
⠧ |        5628 | spectra_subsetting                                            
⠏ |        5630 | spectra_subsetting                                            
⠙ |        5632 | spectra_subsetting                                            
⠸ |        5634 | spectra_subsetting                                            
⠴ |        5636 | spectra_subsetting                                            
⠧ |        5638 | spectra_subsetting                                            
⠏ |        5640 | spectra_subsetting                                            
⠋ |        5641 | spectra_subsetting                                            
⠙ |        5642 | spectra_subsetting                                            
⠸ |        5644 | spectra_subsetting                                            
⠴ |        5646 | spectra_subsetting                                            
⠧ |        5648 | spectra_subsetting                                            
⠇ |        5649 | spectra_subsetting                                            
⠋ |        5651 | spectra_subsetting                                            
⠹ |        5653 | spectra_subsetting                                            
⠸ |        5654 | spectra_subsetting                                            
⠴ |        5656 | spectra_subsetting                                            
⠧ |        5658 | spectra_subsetting                                            
⠏ |        5660 | spectra_subsetting                                            
⠋ |        5661 | spectra_subsetting                                            
⠹ |        5663 | spectra_subsetting                                            
⠼ |        5665 | spectra_subsetting                                            
⠴ |        5666 | spectra_subsetting                                            
⠧ |        5668 | spectra_subsetting                                            
⠏ |        5670 | spectra_subsetting                                            
⠋ |        5671 | spectra_subsetting                                            
⠹ |        5673 | spectra_subsetting                                            
⠼ |        5675 | spectra_subsetting                                            
⠴ |        5676 | spectra_subsetting                                            
⠧ |        5678 | spectra_subsetting                                            
⠏ |        5680 | spectra_subsetting                                            
⠙ |        5682 | spectra_subsetting                                            
⠸ |        5684 | spectra_subsetting                                            
⠴ |        5686 | spectra_subsetting                                            
⠧ |        5688 | spectra_subsetting                                            
⠏ |        5690 | spectra_subsetting                                            
⠙ |        5692 | spectra_subsetting                                            
⠹ |        5693 | spectra_subsetting                                            
⠼ |        5695 | spectra_subsetting                                            
⠦ |        5697 | spectra_subsetting                                            
⠧ |        5698 | spectra_subsetting                                            
⠏ |        5700 | spectra_subsetting                                            
⠙ |        5702 | spectra_subsetting                                            
⠸ |        5704 | spectra_subsetting                                            
⠴ |        5706 | spectra_subsetting                                            
⠧ |        5708 | spectra_subsetting                                            
⠏ |        5710 | spectra_subsetting                                            
⠋ |        5711 | spectra_subsetting                                            
⠹ |        5713 | spectra_subsetting                                            
⠸ |        5714 | spectra_subsetting                                            
⠴ |        5716 | spectra_subsetting                                            
⠧ |        5718 | spectra_subsetting                                            
⠏ |        5720 | spectra_subsetting                                            
⠙ |        5722 | spectra_subsetting                                            
⠸ |        5724 | spectra_subsetting                                            
⠴ |        5726 | spectra_subsetting                                            
⠧ |        5728 | spectra_subsetting                                            
⠏ |        5730 | spectra_subsetting                                            
⠙ |        5732 | spectra_subsetting                                            
⠸ |        5734 | spectra_subsetting                                            
⠴ |        5736 | spectra_subsetting                                            
⠧ |        5738 | spectra_subsetting                                            
⠏ |        5740 | spectra_subsetting                                            
⠙ |        5742 | spectra_subsetting                                            
⠸ |        5744 | spectra_subsetting                                            
⠴ |        5746 | spectra_subsetting                                            
⠧ |        5748 | spectra_subsetting                                            
⠏ |        5750 | spectra_subsetting                                            
⠋ |        5751 | spectra_subsetting                                            
⠹ |        5753 | spectra_subsetting                                            
⠼ |        5755 | spectra_subsetting                                            
⠦ |        5757 | spectra_subsetting                                            
⠇ |        5759 | spectra_subsetting                                            
⠋ |        5761 | spectra_subsetting                                            
⠹ |        5763 | spectra_subsetting                                            
⠼ |        5765 | spectra_subsetting                                            
⠦ |        5767 | spectra_subsetting                                            
⠇ |        5769 | spectra_subsetting                                            
⠋ |        5771 | spectra_subsetting                                            
⠹ |        5773 | spectra_subsetting                                            
⠼ |        5775 | spectra_subsetting                                            
⠴ |        5776 | spectra_subsetting                                            
⠧ |        5778 | spectra_subsetting                                            
⠏ |        5780 | spectra_subsetting                                            
⠙ |        5782 | spectra_subsetting                                            
⠸ |        5784 | spectra_subsetting                                            
⠼ |        5785 | spectra_subsetting                                            
⠦ |        5787 | spectra_subsetting                                            
⠇ |        5789 | spectra_subsetting                                            
⠋ |        5791 | spectra_subsetting                                            
⠹ |        5793 | spectra_subsetting                                            
⠼ |        5795 | spectra_subsetting                                            
⠦ |        5797 | spectra_subsetting                                            
⠇ |        5799 | spectra_subsetting                                            
⠋ |        5801 | spectra_subsetting                                            
⠹ |        5803 | spectra_subsetting                                            
⠼ |        5805 | spectra_subsetting                                            
⠦ |        5807 | spectra_subsetting                                            
⠇ |        5809 | spectra_subsetting                                            
⠋ |        5811 | spectra_subsetting                                            
⠹ |        5813 | spectra_subsetting                                            
⠼ |        5815 | spectra_subsetting                                            
⠴ |        5816 | spectra_subsetting                                            
⠧ |        5818 | spectra_subsetting                                            
⠏ |        5820 | spectra_subsetting                                            
⠋ |        5821 | spectra_subsetting                                            
⠹ |        5823 | spectra_subsetting                                            
⠸ |        5824 | spectra_subsetting                                            
⠴ |        5826 | spectra_subsetting                                            
⠧ |        5828 | spectra_subsetting                                            
⠏ |        5830 | spectra_subsetting                                            
⠙ |        5832 | spectra_subsetting                                            
⠸ |        5834 | spectra_subsetting                                            
⠴ |        5836 | spectra_subsetting                                            
⠦ |        5837 | spectra_subsetting                                            
⠇ |        5839 | spectra_subsetting                                            
⠋ |        5841 | spectra_subsetting                                            
⠙ |        5842 | spectra_subsetting                                            
⠹ |        5843 | spectra_subsetting                                            
⠼ |        5845 | spectra_subsetting                                            
⠦ |        5847 | spectra_subsetting                                            
⠇ |        5849 | spectra_subsetting                                            
⠋ |        5851 | spectra_subsetting                                            
⠹ |        5853 | spectra_subsetting                                            
⠼ |        5855 | spectra_subsetting                                            
⠦ |        5857 | spectra_subsetting                                            
⠇ |        5859 | spectra_subsetting                                            
⠋ |        5861 | spectra_subsetting                                            
⠹ |        5863 | spectra_subsetting                                            
⠼ |        5865 | spectra_subsetting                                            
⠦ |        5867 | spectra_subsetting                                            
⠇ |        5869 | spectra_subsetting                                            
⠋ |        5871 | spectra_subsetting                                            
⠹ |        5873 | spectra_subsetting                                            
⠼ |        5875 | spectra_subsetting                                            
⠦ |        5877 | spectra_subsetting                                            
⠇ |        5879 | spectra_subsetting                                            
⠋ |        5881 | spectra_subsetting                                            
⠹ |        5883 | spectra_subsetting                                            
⠸ |        5884 | spectra_subsetting                                            
⠴ |        5886 | spectra_subsetting                                            
⠧ |        5888 | spectra_subsetting                                            
⠏ |        5890 | spectra_subsetting                                            
⠙ |        5892 | spectra_subsetting                                            
⠸ |        5894 | spectra_subsetting                                            
⠴ |        5896 | spectra_subsetting                                            
⠧ |        5898 | spectra_subsetting                                            
⠏ |        5900 | spectra_subsetting                                            
⠙ |        5902 | spectra_subsetting                                            
⠸ |        5904 | spectra_subsetting                                            
⠴ |        5906 | spectra_subsetting                                            
⠧ |        5908 | spectra_subsetting                                            
⠏ |        5910 | spectra_subsetting                                            
⠙ |        5912 | spectra_subsetting                                            
⠸ |        5914 | spectra_subsetting                                            
⠴ |        5916 | spectra_subsetting                                            
⠧ |        5918 | spectra_subsetting                                            
⠇ |        5919 | spectra_subsetting                                            
⠋ |        5921 | spectra_subsetting                                            
⠹ |        5923 | spectra_subsetting                                            
⠸ |        5924 | spectra_subsetting                                            
⠴ |        5926 | spectra_subsetting                                            
⠧ |        5928 | spectra_subsetting                                            
⠏ |        5930 | spectra_subsetting                                            
⠙ |        5932 | spectra_subsetting                                            
⠸ |        5934 | spectra_subsetting                                            
⠴ |        5936 | spectra_subsetting                                            
⠧ |        5938 | spectra_subsetting                                            
⠏ |        5940 | spectra_subsetting                                            
⠙ |        5942 | spectra_subsetting                                            
⠸ |        5944 | spectra_subsetting                                            
⠴ |        5946 | spectra_subsetting                                            
⠧ |        5948 | spectra_subsetting                                            
⠏ |        5950 | spectra_subsetting                                            
⠙ |        5952 | spectra_subsetting                                            
⠸ |        5954 | spectra_subsetting                                            
⠴ |        5956 | spectra_subsetting                                            
⠧ |        5958 | spectra_subsetting                                            
⠏ |        5960 | spectra_subsetting                                            
⠙ |        5962 | spectra_subsetting                                            
⠸ |        5964 | spectra_subsetting                                            
⠴ |        5966 | spectra_subsetting                                            
⠧ |        5968 | spectra_subsetting                                            
⠏ |        5970 | spectra_subsetting                                            
⠙ |        5972 | spectra_subsetting                                            
⠸ |        5974 | spectra_subsetting                                            
⠴ |        5976 | spectra_subsetting                                            
⠧ |        5978 | spectra_subsetting                                            
⠏ |        5980 | spectra_subsetting                                            
⠙ |        5982 | spectra_subsetting                                            
⠸ |        5984 | spectra_subsetting                                            
⠴ |        5986 | spectra_subsetting                                            
⠧ |        5988 | spectra_subsetting                                            
⠏ |        5990 | spectra_subsetting                                            
⠙ |        5992 | spectra_subsetting                                            
⠸ |        5994 | spectra_subsetting                                            
⠼ |        5995 | spectra_subsetting                                            
⠦ |        5997 | spectra_subsetting                                            
⠇ |        5999 | spectra_subsetting                                            
⠋ |        6001 | spectra_subsetting                                            
⠹ |        6003 | spectra_subsetting                                            
⠼ |        6005 | spectra_subsetting                                            
⠴ |        6006 | spectra_subsetting                                            
⠧ |        6008 | spectra_subsetting                                            
⠏ |        6010 | spectra_subsetting                                            
⠙ |        6012 | spectra_subsetting                                            
⠸ |        6014 | spectra_subsetting                                            
⠴ |        6016 | spectra_subsetting                                            
⠦ |        6017 | spectra_subsetting                                            
⠇ |        6019 | spectra_subsetting                                            
⠋ |        6021 | spectra_subsetting                                            
⠹ |        6023 | spectra_subsetting                                            
⠼ |        6025 | spectra_subsetting                                            
⠴ |        6026 | spectra_subsetting                                            
⠧ |        6028 | spectra_subsetting                                            
⠏ |        6030 | spectra_subsetting                                            
⠙ |        6032 | spectra_subsetting                                            
⠸ |        6034 | spectra_subsetting                                            
⠴ |        6036 | spectra_subsetting                                            
⠧ |        6038 | spectra_subsetting                                            
⠏ |        6040 | spectra_subsetting                                            
⠙ |        6042 | spectra_subsetting                                            
⠸ |        6044 | spectra_subsetting                                            
⠴ |        6046 | spectra_subsetting                                            
⠧ |        6048 | spectra_subsetting                                            
⠇ |        6049 | spectra_subsetting                                            
⠋ |        6051 | spectra_subsetting                                            
⠹ |        6053 | spectra_subsetting                                            
⠼ |        6055 | spectra_subsetting                                            
⠦ |        6057 | spectra_subsetting                                            
⠇ |        6059 | spectra_subsetting                                            
⠋ |        6061 | spectra_subsetting                                            
⠹ |        6063 | spectra_subsetting                                            
⠼ |        6065 | spectra_subsetting                                            
⠴ |        6066 | spectra_subsetting                                            
⠧ |        6068 | spectra_subsetting                                            
⠏ |        6070 | spectra_subsetting                                            
⠙ |        6072 | spectra_subsetting                                            
⠸ |        6074 | spectra_subsetting                                            
⠴ |        6076 | spectra_subsetting                                            
⠧ |        6078 | spectra_subsetting                                            
⠏ |        6080 | spectra_subsetting                                            
⠙ |        6082 | spectra_subsetting                                            
⠸ |        6084 | spectra_subsetting                                            
⠴ |        6086 | spectra_subsetting                                            
⠧ |        6088 | spectra_subsetting                                            
⠏ |        6090 | spectra_subsetting                                            
⠋ |        6091 | spectra_subsetting                                            
⠹ |        6093 | spectra_subsetting                                            
⠼ |        6095 | spectra_subsetting                                            
⠦ |        6097 | spectra_subsetting                                            
⠇ |        6099 | spectra_subsetting                                            
⠋ |        6101 | spectra_subsetting                                            
⠹ |        6103 | spectra_subsetting                                            
⠸ |        6104 | spectra_subsetting                                            
⠴ |        6106 | spectra_subsetting                                            
⠧ |        6108 | spectra_subsetting                                            
⠏ |        6110 | spectra_subsetting                                            
⠙ |        6112 | spectra_subsetting                                            
⠸ |        6114 | spectra_subsetting                                            
⠴ |        6116 | spectra_subsetting                                            
⠧ |        6118 | spectra_subsetting                                            
⠏ |        6120 | spectra_subsetting                                            
⠙ |        6122 | spectra_subsetting                                            
⠸ |        6124 | spectra_subsetting                                            
⠴ |        6126 | spectra_subsetting                                            
⠧ |        6128 | spectra_subsetting                                            
⠏ |        6130 | spectra_subsetting                                            
⠙ |        6132 | spectra_subsetting                                            
⠸ |        6134 | spectra_subsetting                                            
⠴ |        6136 | spectra_subsetting                                            
⠧ |        6138 | spectra_subsetting                                            
⠏ |        6140 | spectra_subsetting                                            
⠙ |        6142 | spectra_subsetting                                            
⠸ |        6144 | spectra_subsetting                                            
⠴ |        6146 | spectra_subsetting                                            
⠧ |        6148 | spectra_subsetting                                            
⠏ |        6150 | spectra_subsetting                                            
⠙ |        6152 | spectra_subsetting                                            
⠸ |        6154 | spectra_subsetting                                            
⠴ |        6156 | spectra_subsetting                                            
⠧ |        6158 | spectra_subsetting                                            
⠏ |        6160 | spectra_subsetting                                            
⠙ |        6162 | spectra_subsetting                                            
⠸ |        6164 | spectra_subsetting                                            
⠴ |        6166 | spectra_subsetting                                            
⠧ |        6168 | spectra_subsetting                                            
⠏ |        6170 | spectra_subsetting                                            
⠙ |        6172 | spectra_subsetting                                            
⠸ |        6174 | spectra_subsetting                                            
⠴ |        6176 | spectra_subsetting                                            
⠧ |        6178 | spectra_subsetting                                            
⠏ |        6180 | spectra_subsetting                                            
⠙ |        6182 | spectra_subsetting                                            
⠸ |        6184 | spectra_subsetting                                            
⠴ |        6186 | spectra_subsetting                                            
⠧ |        6188 | spectra_subsetting                                            
⠏ |        6190 | spectra_subsetting                                            
⠋ |        6191 | spectra_subsetting                                            
⠹ |        6193 | spectra_subsetting                                            
⠼ |        6195 | spectra_subsetting                                            
⠴ |        6196 | spectra_subsetting                                            
⠧ |        6198 | spectra_subsetting                                            
⠏ |        6200 | spectra_subsetting                                            
⠙ |        6202 | spectra_subsetting                                            
⠸ |        6204 | spectra_subsetting                                            
⠴ |        6206 | spectra_subsetting                                            
⠧ |        6208 | spectra_subsetting                                            
⠏ |        6210 | spectra_subsetting                                            
⠙ |        6212 | spectra_subsetting                                            
⠹ |        6213 | spectra_subsetting                                            
⠼ |        6215 | spectra_subsetting                                            
⠦ |        6217 | spectra_subsetting                                            
⠧ |        6218 | spectra_subsetting                                            
⠏ |        6220 | spectra_subsetting                                            
⠙ |        6222 | spectra_subsetting                                            
⠸ |        6224 | spectra_subsetting                                            
⠴ |        6226 | spectra_subsetting                                            
⠧ |        6228 | spectra_subsetting                                            
⠇ |        6229 | spectra_subsetting                                            
⠋ |        6231 | spectra_subsetting                                            
⠹ |        6233 | spectra_subsetting                                            
⠼ |        6235 | spectra_subsetting                                            
⠦ |        6237 | spectra_subsetting                                            
⠇ |        6239 | spectra_subsetting                                            
⠋ |        6241 | spectra_subsetting                                            
⠹ |        6243 | spectra_subsetting                                            
⠼ |        6245 | spectra_subsetting                                            
⠦ |        6247 | spectra_subsetting                                            
⠇ |        6249 | spectra_subsetting                                            
⠏ |        6250 | spectra_subsetting                                            
⠙ |        6252 | spectra_subsetting                                            
⠸ |        6254 | spectra_subsetting                                            
⠼ |        6255 | spectra_subsetting                                            
⠦ |        6257 | spectra_subsetting                                            
⠇ |        6259 | spectra_subsetting                                            
⠋ |        6261 | spectra_subsetting                                            
⠹ |        6263 | spectra_subsetting                                            
⠼ |        6265 | spectra_subsetting                                            
⠴ |        6266 | spectra_subsetting                                            
⠧ |        6268 | spectra_subsetting                                            
⠏ |        6270 | spectra_subsetting                                            
⠙ |        6272 | spectra_subsetting                                            
⠸ |        6274 | spectra_subsetting                                            
⠴ |        6276 | spectra_subsetting                                            
⠧ |        6278 | spectra_subsetting                                            
⠏ |        6280 | spectra_subsetting                                            
⠙ |        6282 | spectra_subsetting                                            
⠸ |        6284 | spectra_subsetting                                            
⠴ |        6286 | spectra_subsetting                                            
⠧ |        6288 | spectra_subsetting                                            
⠏ |        6290 | spectra_subsetting                                            
⠙ |        6292 | spectra_subsetting                                            
⠸ |        6294 | spectra_subsetting                                            
⠴ |        6296 | spectra_subsetting                                            
⠧ |        6298 | spectra_subsetting                                            
⠏ |        6300 | spectra_subsetting                                            
⠙ |        6302 | spectra_subsetting                                            
⠸ |        6304 | spectra_subsetting                                            
⠴ |        6306 | spectra_subsetting                                            
⠧ |        6308 | spectra_subsetting                                            
⠏ |        6310 | spectra_subsetting                                            
⠙ |        6312 | spectra_subsetting                                            
⠸ |        6314 | spectra_subsetting                                            
⠴ |        6316 | spectra_subsetting                                            
⠧ |        6318 | spectra_subsetting                                            
⠇ |        6319 | spectra_subsetting                                            
⠏ |        6320 | spectra_subsetting                                            
⠙ |        6322 | spectra_subsetting                                            
⠸ |        6324 | spectra_subsetting                                            
⠴ |        6326 | spectra_subsetting                                            
⠧ |        6328 | spectra_subsetting                                            
⠏ |        6330 | spectra_subsetting                                            
⠙ |        6332 | spectra_subsetting                                            
⠸ |        6334 | spectra_subsetting                                            
⠴ |        6336 | spectra_subsetting                                            
⠧ |        6338 | spectra_subsetting                                            
⠏ |        6340 | spectra_subsetting                                            
⠋ |        6341 | spectra_subsetting                                            
⠹ |        6343 | spectra_subsetting                                            
⠼ |        6345 | spectra_subsetting                                            
⠦ |        6347 | spectra_subsetting                                            
⠇ |        6349 | spectra_subsetting                                            
⠋ |        6351 | spectra_subsetting                                            
⠹ |        6353 | spectra_subsetting                                            
⠼ |        6355 | spectra_subsetting                                            
⠦ |        6357 | spectra_subsetting                                            
⠇ |        6359 | spectra_subsetting                                            
⠋ |        6361 | spectra_subsetting                                            
⠹ |        6363 | spectra_subsetting                                            
⠼ |        6365 | spectra_subsetting                                            
⠦ |        6367 | spectra_subsetting                                            
⠇ |        6369 | spectra_subsetting                                            
⠋ |        6371 | spectra_subsetting                                            
⠹ |        6373 | spectra_subsetting                                            
⠼ |        6375 | spectra_subsetting                                            
⠦ |        6377 | spectra_subsetting                                            
⠇ |        6379 | spectra_subsetting                                            
⠋ |        6381 | spectra_subsetting                                            
⠹ |        6383 | spectra_subsetting                                            
⠼ |        6385 | spectra_subsetting                                            
⠦ |        6387 | spectra_subsetting                                            
⠇ |        6389 | spectra_subsetting                                            
⠋ |        6391 | spectra_subsetting                                            
⠹ |        6393 | spectra_subsetting                                            
⠼ |        6395 | spectra_subsetting                                            
⠦ |        6397 | spectra_subsetting                                            
⠧ |        6398 | spectra_subsetting                                            
⠏ |        6400 | spectra_subsetting                                            
⠙ |        6402 | spectra_subsetting                                            
⠸ |        6404 | spectra_subsetting                                            
⠴ |        6406 | spectra_subsetting                                            
⠧ |        6408 | spectra_subsetting                                            
⠇ |        6409 | spectra_subsetting                                            
⠋ |        6411 | spectra_subsetting                                            
⠙ |        6412 | spectra_subsetting                                            
⠸ |        6414 | spectra_subsetting                                            
⠴ |        6416 | spectra_subsetting                                            
⠧ |        6418 | spectra_subsetting                                            
⠏ |        6420 | spectra_subsetting                                            
⠙ |        6422 | spectra_subsetting                                            
⠸ |        6424 | spectra_subsetting                                            
⠼ |        6425 | spectra_subsetting                                            
⠦ |        6427 | spectra_subsetting                                            
⠇ |        6429 | spectra_subsetting                                            
⠋ |        6431 | spectra_subsetting                                            
⠹ |        6433 | spectra_subsetting                                            
⠼ |        6435 | spectra_subsetting                                            
⠦ |        6437 | spectra_subsetting                                            
⠇ |        6439 | spectra_subsetting                                            
⠋ |        6441 | spectra_subsetting                                            
⠙ |        6442 | spectra_subsetting                                            
⠸ |        6444 | spectra_subsetting                                            
⠴ |        6446 | spectra_subsetting                                            
⠧ |        6448 | spectra_subsetting                                            
⠏ |        6450 | spectra_subsetting                                            
⠙ |        6452 | spectra_subsetting                                            
⠸ |        6454 | spectra_subsetting                                            
⠴ |        6456 | spectra_subsetting                                            
⠧ |        6458 | spectra_subsetting                                            
⠏ |        6460 | spectra_subsetting                                            
⠙ |        6462 | spectra_subsetting                                            
⠸ |        6464 | spectra_subsetting                                            
⠴ |        6466 | spectra_subsetting                                            
⠧ |        6468 | spectra_subsetting                                            
⠏ |        6470 | spectra_subsetting                                            
⠙ |        6472 | spectra_subsetting                                            
⠹ |        6473 | spectra_subsetting                                            
⠼ |        6475 | spectra_subsetting                                            
⠦ |        6477 | spectra_subsetting                                            
⠇ |        6479 | spectra_subsetting                                            
⠋ |        6481 | spectra_subsetting                                            
⠹ |        6483 | spectra_subsetting                                            
⠸ |        6484 | spectra_subsetting                                            
⠴ |        6486 | spectra_subsetting                                            
⠧ |        6488 | spectra_subsetting                                            
⠇ |        6489 | spectra_subsetting                                            
⠋ |        6491 | spectra_subsetting                                            
⠹ |        6493 | spectra_subsetting                                            
⠸ |        6494 | spectra_subsetting                                            
⠼ |        6495 | spectra_subsetting                                            
⠴ |        6496 | spectra_subsetting                                            
⠧ |        6498 | spectra_subsetting                                            
⠏ |        6500 | spectra_subsetting                                            
⠙ |        6502 | spectra_subsetting                                            
⠸ |        6504 | spectra_subsetting                                            
⠴ |        6506 | spectra_subsetting                                            
⠧ |        6508 | spectra_subsetting                                            
⠏ |        6510 | spectra_subsetting                                            
⠙ |        6512 | spectra_subsetting                                            
⠸ |        6514 | spectra_subsetting                                            
⠴ |        6516 | spectra_subsetting                                            
⠧ |        6518 | spectra_subsetting                                            
⠏ |        6520 | spectra_subsetting                                            
⠙ |        6522 | spectra_subsetting                                            
⠸ |        6524 | spectra_subsetting                                            
⠴ |        6526 | spectra_subsetting                                            
⠧ |        6528 | spectra_subsetting                                            
⠏ |        6530 | spectra_subsetting                                            
⠙ |        6532 | spectra_subsetting                                            
⠸ |        6534 | spectra_subsetting                                            
⠴ |        6536 | spectra_subsetting                                            
⠧ |        6538 | spectra_subsetting                                            
⠏ |        6540 | spectra_subsetting                                            
⠙ |        6542 | spectra_subsetting                                            
⠸ |        6544 | spectra_subsetting                                            
⠴ |        6546 | spectra_subsetting                                            
⠧ |        6548 | spectra_subsetting                                            
⠏ |        6550 | spectra_subsetting                                            
⠙ |        6552 | spectra_subsetting                                            
⠸ |        6554 | spectra_subsetting                                            
⠴ |        6556 | spectra_subsetting                                            
⠧ |        6558 | spectra_subsetting                                            
⠏ |        6560 | spectra_subsetting                                            
⠙ |        6562 | spectra_subsetting                                            
⠸ |        6564 | spectra_subsetting                                            
⠴ |        6566 | spectra_subsetting                                            
⠧ |        6568 | spectra_subsetting                                            
⠏ |        6570 | spectra_subsetting                                            
⠙ |        6572 | spectra_subsetting                                            
⠸ |        6574 | spectra_subsetting                                            
⠴ |        6576 | spectra_subsetting                                            
⠦ |        6577 | spectra_subsetting                                            
⠇ |        6579 | spectra_subsetting                                            
⠋ |        6581 | spectra_subsetting                                            
⠹ |        6583 | spectra_subsetting                                            
⠼ |        6585 | spectra_subsetting                                            
⠦ |        6587 | spectra_subsetting                                            
⠇ |        6589 | spectra_subsetting                                            
⠋ |        6591 | spectra_subsetting                                            
⠹ |        6593 | spectra_subsetting                                            
⠼ |        6595 | spectra_subsetting                                            
⠦ |        6597 | spectra_subsetting                                            
⠇ |        6599 | spectra_subsetting                                            
⠋ |        6601 | spectra_subsetting                                            
⠹ |        6603 | spectra_subsetting                                            
⠼ |        6605 | spectra_subsetting                                            
⠦ |        6607 | spectra_subsetting                                            
⠇ |        6609 | spectra_subsetting                                            
⠋ |        6611 | spectra_subsetting                                            
⠹ |        6613 | spectra_subsetting                                            
⠼ |        6615 | spectra_subsetting                                            
⠦ |        6617 | spectra_subsetting                                            
⠧ |        6618 | spectra_subsetting                                            
⠏ |        6620 | spectra_subsetting                                            
⠋ |        6621 | spectra_subsetting                                            
⠙ |        6622 | spectra_subsetting                                            
⠸ |        6624 | spectra_subsetting                                            
⠴ |        6626 | spectra_subsetting                                            
⠦ |        6627 | spectra_subsetting                                            
⠇ |        6629 | spectra_subsetting                                            
⠋ |        6631 | spectra_subsetting                                            
⠹ |        6633 | spectra_subsetting                                            
⠼ |        6635 | spectra_subsetting                                            
⠦ |        6637 | spectra_subsetting                                            
⠇ |        6639 | spectra_subsetting                                            
⠏ |        6640 | spectra_subsetting                                            
⠙ |        6642 | spectra_subsetting                                            
⠸ |        6644 | spectra_subsetting                                            
⠴ |        6646 | spectra_subsetting                                            
⠧ |        6648 | spectra_subsetting                                            
⠏ |        6650 | spectra_subsetting                                            
⠙ |        6652 | spectra_subsetting                                            
⠸ |        6654 | spectra_subsetting                                            
⠴ |        6656 | spectra_subsetting                                            
⠧ |        6658 | spectra_subsetting                                            
⠏ |        6660 | spectra_subsetting                                            
⠹ |        6663 | spectra_subsetting                                            
⠼ |        6665 | spectra_subsetting                                            
⠹ |        6673 | spectra_subsetting                                            
⠇ |        6679 | spectra_subsetting                                            
⠹ |        6693 | spectra_subsetting                                            
⠸ |        6694 | spectra_subsetting                                            
✔ |        6702 | spectra_subsetting [172.2s]

⠏ |          0 | spectra_variables                                              
⠙ |         12 | spectra_variables                                              
⠸ |         14 | spectra_variables                                              
⠴ |         16 | spectra_variables                                              
⠦ |         27 | spectra_variables                                              
⠇ |         29 | spectra_variables                                              
⠋ |         31 | spectra_variables                                              
⠹ |         43 | spectra_variables                                              
⠸ |         54 | spectra_variables                                              
✔ |      1  62 | spectra_variables [2.0s]

══ Results ═════════════════════════════════════════════════════════════════════
Duration: 174.7 s

── Skipped tests (1) ───────────────────────────────────────────────────────────
• empty test (1): 'test_spectra_variables.R:262:1'

[ FAIL 0 | WARN 0 | SKIP 1 | PASS 6768 ]
> 
> proc.time()
   user  system elapsed 
161.178  14.463 560.444 

Example timings

MsBackendMetaboLights.Rcheck/MsBackendMetaboLights-Ex.timings

nameusersystemelapsed
MetaboLights-utils0.1440.0168.059
MsBackendMetaboLights 3.239 0.57711.680