Back to Multiple platform build/check report for BioC 3.23:   simplified   long
ABCDEFGHIJKL[M]NOPQRSTUVWXYZ

This page was generated on 2025-11-19 10:14 -0500 (Wed, 19 Nov 2025).

HostnameOSArch (*)R versionInstalled pkgs
nebbiolo1Linux (Ubuntu 24.04.3 LTS)x86_64R Under development (unstable) (2025-10-20 r88955) -- "Unsuffered Consequences" 4827
lconwaymacOS 12.7.6 Montereyx86_64R Under development (unstable) (2025-10-21 r88958) -- "Unsuffered Consequences" 4600
kjohnson3macOS 13.7.7 Venturaarm64R Under development (unstable) (2025-11-04 r88984) -- "Unsuffered Consequences" 4564
Click on any hostname to see more info about the system (e.g. compilers)      (*) as reported by 'uname -p', except on Windows and Mac OS X

Package 1359/2325HostnameOS / ArchINSTALLBUILDCHECKBUILD BIN
MsBackendRawFileReader 1.17.0  (landing page)
Christian Panse
Snapshot Date: 2025-11-18 13:40 -0500 (Tue, 18 Nov 2025)
git_url: https://git.bioconductor.org/packages/MsBackendRawFileReader
git_branch: devel
git_last_commit: c509d56
git_last_commit_date: 2025-10-29 11:12:57 -0500 (Wed, 29 Oct 2025)
nebbiolo1Linux (Ubuntu 24.04.3 LTS) / x86_64  OK    OK    OK  UNNEEDED, same version is already published
lconwaymacOS 12.7.6 Monterey / x86_64  OK    OK    OK    OK  NO, package depends on 'MsCoreUtils' which is only available as a source package that needs compilation
kjohnson3macOS 13.7.7 Ventura / arm64  OK    OK    OK    OK  NO, package depends on 'MsCoreUtils' which is only available as a source package that needs compilation


CHECK results for MsBackendRawFileReader on kjohnson3

To the developers/maintainers of the MsBackendRawFileReader package:
- Allow up to 24 hours (and sometimes 48 hours) for your latest push to git@git.bioconductor.org:packages/MsBackendRawFileReader.git to reflect on this report. See Troubleshooting Build Report for more information.
- Use the following Renviron settings to reproduce errors and warnings.
- If 'R CMD check' started to fail recently on the Linux builder(s) over a missing dependency, add the missing dependency to 'Suggests:' in your DESCRIPTION file. See Renviron.bioc for more information.

raw results


Summary

Package: MsBackendRawFileReader
Version: 1.17.0
Command: /Library/Frameworks/R.framework/Resources/bin/R CMD check --install=check:MsBackendRawFileReader.install-out.txt --library=/Library/Frameworks/R.framework/Resources/library --no-vignettes --timings MsBackendRawFileReader_1.17.0.tar.gz
StartedAt: 2025-11-18 21:18:48 -0500 (Tue, 18 Nov 2025)
EndedAt: 2025-11-18 21:21:59 -0500 (Tue, 18 Nov 2025)
EllapsedTime: 191.4 seconds
RetCode: 0
Status:   OK  
CheckDir: MsBackendRawFileReader.Rcheck
Warnings: 0

Command output

##############################################################################
##############################################################################
###
### Running command:
###
###   /Library/Frameworks/R.framework/Resources/bin/R CMD check --install=check:MsBackendRawFileReader.install-out.txt --library=/Library/Frameworks/R.framework/Resources/library --no-vignettes --timings MsBackendRawFileReader_1.17.0.tar.gz
###
##############################################################################
##############################################################################


* using log directory ‘/Users/biocbuild/bbs-3.23-bioc/meat/MsBackendRawFileReader.Rcheck’
* using R Under development (unstable) (2025-11-04 r88984)
* using platform: aarch64-apple-darwin20
* R was compiled by
    Apple clang version 16.0.0 (clang-1600.0.26.6)
    GNU Fortran (GCC) 14.2.0
* running under: macOS Ventura 13.7.8
* using session charset: UTF-8
* using option ‘--no-vignettes’
* checking for file ‘MsBackendRawFileReader/DESCRIPTION’ ... OK
* checking extension type ... Package
* this is package ‘MsBackendRawFileReader’ version ‘1.17.0’
* package encoding: UTF-8
* checking package namespace information ... OK
* checking package dependencies ... OK
* checking if this is a source package ... OK
* checking if there is a namespace ... OK
* checking for hidden files and directories ... OK
* checking for portable file names ... OK
* checking for sufficient/correct file permissions ... OK
* checking whether package ‘MsBackendRawFileReader’ can be installed ... OK
* checking installed package size ... OK
* checking package directory ... OK
* checking ‘build’ directory ... OK
* checking DESCRIPTION meta-information ... OK
* checking top-level files ... OK
* checking for left-over files ... OK
* checking index information ... OK
* checking package subdirectories ... OK
* checking code files for non-ASCII characters ... OK
* checking R files for syntax errors ... OK
* checking whether the package can be loaded ... OK
* checking whether the package can be loaded with stated dependencies ... OK
* checking whether the package can be unloaded cleanly ... OK
* checking whether the namespace can be loaded with stated dependencies ... OK
* checking whether the namespace can be unloaded cleanly ... OK
* checking whether startup messages can be suppressed ... OK
* checking dependencies in R code ... OK
* checking S3 generic/method consistency ... OK
* checking replacement functions ... OK
* checking foreign function calls ... OK
* checking R code for possible problems ... OK
* checking Rd files ... OK
* checking Rd metadata ... OK
* checking Rd cross-references ... OK
* checking for missing documentation entries ... OK
* checking for code/documentation mismatches ... OK
* checking Rd \usage sections ... OK
* checking Rd contents ... OK
* checking for unstated dependencies in examples ... OK
* checking files in ‘vignettes’ ... OK
* checking examples ... OK
Examples with CPU (user + system) or elapsed time > 5s
                               user system elapsed
ioBenchmark                  37.461  9.226  15.722
MsBackendRawFileReader       15.701  5.359  23.352
MsBackendRawFileReader-class  5.329  1.846   8.195
hidden_aliases                4.760  1.648   7.969
* checking for unstated dependencies in ‘tests’ ... OK
* checking tests ...
  Running ‘testthat.R’
 OK
* checking for unstated dependencies in vignettes ... OK
* checking package vignettes ... OK
* checking running R code from vignettes ... SKIPPED
* checking re-building of vignette outputs ... SKIPPED
* checking PDF version of manual ... OK
* DONE

Status: OK


Installation output

MsBackendRawFileReader.Rcheck/00install.out

##############################################################################
##############################################################################
###
### Running command:
###
###   /Library/Frameworks/R.framework/Resources/bin/R CMD INSTALL MsBackendRawFileReader
###
##############################################################################
##############################################################################


* installing to library ‘/Library/Frameworks/R.framework/Versions/4.6-arm64/Resources/library’
* installing *source* package ‘MsBackendRawFileReader’ ...
** this is package ‘MsBackendRawFileReader’ version ‘1.17.0’
** using staged installation
** R
** inst
** byte-compile and prepare package for lazy loading
** help
*** installing help indices
** building package indices
** installing vignettes
** testing if installed package can be loaded from temporary location
** testing if installed package can be loaded from final location
** testing if installed package keeps a record of temporary installation path
* DONE (MsBackendRawFileReader)

Tests output

MsBackendRawFileReader.Rcheck/tests/testthat.Rout


R Under development (unstable) (2025-11-04 r88984) -- "Unsuffered Consequences"
Copyright (C) 2025 The R Foundation for Statistical Computing
Platform: aarch64-apple-darwin20

R is free software and comes with ABSOLUTELY NO WARRANTY.
You are welcome to redistribute it under certain conditions.
Type 'license()' or 'licence()' for distribution details.

R is a collaborative project with many contributors.
Type 'contributors()' for more information and
'citation()' on how to cite R or R packages in publications.

Type 'demo()' for some demos, 'help()' for on-line help, or
'help.start()' for an HTML browser interface to help.
Type 'q()' to quit R.

> library("testthat")
> library("MsBackendRawFileReader")
Loading required package: Spectra
Loading required package: S4Vectors
Loading required package: stats4
Loading required package: BiocGenerics
Loading required package: generics

Attaching package: 'generics'

The following objects are masked from 'package:base':

    as.difftime, as.factor, as.ordered, intersect, is.element, setdiff,
    setequal, union


Attaching package: 'BiocGenerics'

The following objects are masked from 'package:stats':

    IQR, mad, sd, var, xtabs

The following objects are masked from 'package:base':

    Filter, Find, Map, Position, Reduce, anyDuplicated, aperm, append,
    as.data.frame, basename, cbind, colnames, dirname, do.call,
    duplicated, eval, evalq, get, grep, grepl, is.unsorted, lapply,
    mapply, match, mget, order, paste, pmax, pmax.int, pmin, pmin.int,
    rank, rbind, rownames, sapply, saveRDS, table, tapply, unique,
    unsplit, which.max, which.min


Attaching package: 'S4Vectors'

The following object is masked from 'package:utils':

    findMatches

The following objects are masked from 'package:base':

    I, expand.grid, unname

Loading required package: BiocParallel
> library("Spectra")
> 
> 
> sample_raw_file <- file.path(system.file(package = "rawrr"),
+                                 'extdata', 'sample.raw')
> 
> sample_mzXML_file <- file.path(path.package(package = 'MsBackendRawFileReader'),
+                                 'extdata', 'sample.mzXML')
> 
> 
> sample_raw <-  backendInitialize(MsBackendRawFileReader::MsBackendRawFileReader(), files = sample_raw_file)
> 
> 
> #sample_mzr <-  backendInitialize(MsBackendMzR(), files = sample_mzXML_file)
> 
> 
> mgf_file <- file.path(system.file(package = "MsBackendRawFileReader"),
+                              'extdata', '3159619b11ed_4590_9594.mgf')
> 
> 
> rv <- lapply(1:2, function(x){
+   file.copy(from = sample_raw_file, to = tempfile(fileext='.raw'))})
> 
> 
> register(SnowParam(workers = 1, type = "SOCK") , default = TRUE); 
> sample_raw_2 <- backendInitialize(MsBackendRawFileReader(),
+     files = file.path(tempdir(),
+          list.files(path = tempdir(), pattern = 'raw$')))
> 
> 
> test_check("MsBackendRawFileReader")
[ FAIL 0 | WARN 1 | SKIP 2 | PASS 21 ]

══ Skipped tests (2) ═══════════════════════════════════════════════════════════
• isFALSE(file.exists(sample_mzXML_file)) is TRUE (1):
  'test_MsBackendMzR_MsBackendRawFileReader.R:1:1'
• isFALSE(require(MsBackendRawMgf)) is TRUE (1): 'test_top_n_mgf.R:1:1'

[ FAIL 0 | WARN 1 | SKIP 2 | PASS 21 ]
> 
> 
> be <- Spectra::backendInitialize(MsBackendRawFileReader::MsBackendRawFileReader(),
+                                  files = c(sample_raw_file))
> 
> ## Run the MsBackend spectra variable test suite
> 
> test_suite <- system.file("test_backends", "test_MsBackend",
+                           package = "Spectra")
> 
> #res <- test_file(paste0(test_suite, "/test_spectra_variables.R"),
> #                 reporter = check_reporter(), stop_on_failure = TRUE)
> 
> 
> ## Run the whole suite.
> res <- test_dir(test_suite, stop_on_failure = TRUE)
✔ | F W  S  OK | Context

⠏ |          0 | peaks_variables                                                
⠙ |          2 | peaks_variables                                                
⠸ |          4 | peaks_variables                                                
✔ |          4 | peaks_variables [7.0s]

⠏ |          0 | spectra_subsetting                                             
⠋ |          1 | spectra_subsetting                                             
⠼ |         35 | spectra_subsetting                                             
⠸ |         74 | spectra_subsetting                                             
⠼ |        115 | spectra_subsetting                                             
⠸ |        154 | spectra_subsetting                                             
⠹ |        193 | spectra_subsetting                                             
⠇ |        229 | spectra_subsetting                                             
⠼ |        265 | spectra_subsetting                                             
⠸ |        304 | spectra_subsetting                                             
⠙ |        342 | spectra_subsetting                                             
⠸ |        374 | spectra_subsetting                                             
⠏ |        410 | spectra_subsetting                                             
⠧ |        448 | spectra_subsetting                                             
⠦ |        487 | spectra_subsetting                                             
⠏ |        520 | spectra_subsetting                                             
⠴ |        556 | spectra_subsetting                                             
⠼ |        595 | spectra_subsetting                                             
⠧ |        628 | spectra_subsetting                                             
⠼ |        665 | spectra_subsetting                                             
⠏ |        700 | spectra_subsetting                                             
⠹ |        733 | spectra_subsetting                                             
⠙ |        772 | spectra_subsetting                                             
⠸ |        814 | spectra_subsetting                                             
⠏ |        850 | spectra_subsetting                                             
⠴ |        886 | spectra_subsetting                                             
⠙ |        922 | spectra_subsetting                                             
⠋ |        961 | spectra_subsetting                                             
⠦ |        997 | spectra_subsetting                                             
⠴ |        1036 | spectra_subsetting                                            
⠧ |        1078 | spectra_subsetting                                            
⠦ |        1117 | spectra_subsetting                                            
⠴ |        1156 | spectra_subsetting                                            
⠼ |        1195 | spectra_subsetting                                            
⠸ |        1234 | spectra_subsetting                                            
⠴ |        1276 | spectra_subsetting                                            
⠧ |        1318 | spectra_subsetting                                            
⠸ |        1354 | spectra_subsetting                                            
⠏ |        1390 | spectra_subsetting                                            
⠴ |        1426 | spectra_subsetting                                            
⠧ |        1468 | spectra_subsetting                                            
⠧ |        1508 | spectra_subsetting                                            
⠴ |        1546 | spectra_subsetting                                            
⠙ |        1582 | spectra_subsetting                                            
⠴ |        1616 | spectra_subsetting                                            
⠴ |        1646 | spectra_subsetting                                            
⠋ |        1681 | spectra_subsetting                                            
⠏ |        1720 | spectra_subsetting                                            
⠏ |        1730 | spectra_subsetting                                            
⠴ |        1736 | spectra_subsetting                                            
⠙ |        1742 | spectra_subsetting                                            
⠧ |        1748 | spectra_subsetting                                            
⠸ |        1754 | spectra_subsetting                                            
⠋ |        1761 | spectra_subsetting                                            
⠦ |        1767 | spectra_subsetting                                            
⠹ |        1773 | spectra_subsetting                                            
⠇ |        1779 | spectra_subsetting                                            
⠼ |        1785 | spectra_subsetting                                            
⠏ |        1790 | spectra_subsetting                                            
⠴ |        1796 | spectra_subsetting                                            
⠙ |        1802 | spectra_subsetting                                            
⠧ |        1808 | spectra_subsetting                                            
⠹ |        1813 | spectra_subsetting                                            
⠇ |        1819 | spectra_subsetting                                            
⠼ |        1825 | spectra_subsetting                                            
⠋ |        1831 | spectra_subsetting                                            
⠦ |        1837 | spectra_subsetting                                            
⠸ |        1844 | spectra_subsetting                                            
⠏ |        1850 | spectra_subsetting                                            
⠹ |        1853 | spectra_subsetting                                            
⠏ |        1860 | spectra_subsetting                                            
⠧ |        1868 | spectra_subsetting                                            
⠼ |        1875 | spectra_subsetting                                            
⠙ |        1882 | spectra_subsetting                                            
⠇ |        1889 | spectra_subsetting                                            
⠴ |        1896 | spectra_subsetting                                            
⠹ |        1903 | spectra_subsetting                                            
⠏ |        1910 | spectra_subsetting                                            
⠦ |        1917 | spectra_subsetting                                            
⠸ |        1924 | spectra_subsetting                                            
⠙ |        1932 | spectra_subsetting                                            
⠇ |        1939 | spectra_subsetting                                            
⠼ |        1945 | spectra_subsetting                                            
⠙ |        1952 | spectra_subsetting                                            
⠧ |        1958 | spectra_subsetting                                            
⠼ |        1965 | spectra_subsetting                                            
⠙ |        1972 | spectra_subsetting                                            
⠇ |        1979 | spectra_subsetting                                            
⠴ |        1986 | spectra_subsetting                                            
⠹ |        1993 | spectra_subsetting                                            
⠏ |        2000 | spectra_subsetting                                            
⠦ |        2007 | spectra_subsetting                                            
⠸ |        2014 | spectra_subsetting                                            
⠋ |        2021 | spectra_subsetting                                            
⠧ |        2028 | spectra_subsetting                                            
⠸ |        2034 | spectra_subsetting                                            
⠋ |        2041 | spectra_subsetting                                            
⠦ |        2047 | spectra_subsetting                                            
⠸ |        2054 | spectra_subsetting                                            
⠋ |        2061 | spectra_subsetting                                            
⠧ |        2068 | spectra_subsetting                                            
⠸ |        2074 | spectra_subsetting                                            
⠋ |        2081 | spectra_subsetting                                            
⠧ |        2088 | spectra_subsetting                                            
⠼ |        2095 | spectra_subsetting                                            
⠙ |        2102 | spectra_subsetting                                            
⠇ |        2109 | spectra_subsetting                                            
⠴ |        2116 | spectra_subsetting                                            
⠹ |        2123 | spectra_subsetting                                            
⠏ |        2130 | spectra_subsetting                                            
⠧ |        2138 | spectra_subsetting                                            
⠼ |        2145 | spectra_subsetting                                            
⠋ |        2151 | spectra_subsetting                                            
⠧ |        2158 | spectra_subsetting                                            
⠼ |        2165 | spectra_subsetting                                            
⠋ |        2171 | spectra_subsetting                                            
⠦ |        2177 | spectra_subsetting                                            
⠸ |        2184 | spectra_subsetting                                            
⠋ |        2191 | spectra_subsetting                                            
⠧ |        2198 | spectra_subsetting                                            
⠼ |        2205 | spectra_subsetting                                            
⠙ |        2212 | spectra_subsetting                                            
⠇ |        2219 | spectra_subsetting                                            
⠼ |        2225 | spectra_subsetting                                            
⠋ |        2231 | spectra_subsetting                                            
⠦ |        2237 | spectra_subsetting                                            
⠹ |        2243 | spectra_subsetting                                            
⠏ |        2250 | spectra_subsetting                                            
⠦ |        2257 | spectra_subsetting                                            
⠸ |        2264 | spectra_subsetting                                            
⠋ |        2271 | spectra_subsetting                                            
⠦ |        2277 | spectra_subsetting                                            
⠸ |        2284 | spectra_subsetting                                            
⠋ |        2291 | spectra_subsetting                                            
⠧ |        2298 | spectra_subsetting                                            
⠙ |        2312 | spectra_subsetting                                            
⠇ |        2329 | spectra_subsetting                                            
✔ |        2342 | spectra_subsetting [14.8s]

⠏ |          0 | spectra_variables                                              
⠙ |         12 | spectra_variables                                              
⠸ |         14 | spectra_variables                                              
⠴ |         16 | spectra_variables                                              
⠦ |         27 | spectra_variables                                              
⠇ |         29 | spectra_variables                                              
⠋ |         31 | spectra_variables                                              
⠹ |         43 | spectra_variables                                              
✔ |      1  62 | spectra_variables [24.5s]

══ Results ═════════════════════════════════════════════════════════════════════
Duration: 46.3 s

── Skipped tests (1) ───────────────────────────────────────────────────────────
• empty test (1): 'test_spectra_variables.R:262:1'

[ FAIL 0 | WARN 0 | SKIP 1 | PASS 2408 ]
> 
> proc.time()
   user  system elapsed 
 76.994  18.516 103.379 

Example timings

MsBackendRawFileReader.Rcheck/MsBackendRawFileReader-Ex.timings

nameusersystemelapsed
MsBackendRawFileReader-class5.3291.8468.195
MsBackendRawFileReader15.701 5.35923.352
hidden_aliases4.7601.6487.969
ioBenchmark37.461 9.22615.722