Back to Multiple platform build/check report for BioC 3.23:   simplified   long
ABCDEFGHIJKL[M]NOPQRSTUVWXYZ

This page was generated on 2025-11-19 10:13 -0500 (Wed, 19 Nov 2025).

HostnameOSArch (*)R versionInstalled pkgs
nebbiolo1Linux (Ubuntu 24.04.3 LTS)x86_64R Under development (unstable) (2025-10-20 r88955) -- "Unsuffered Consequences" 4827
lconwaymacOS 12.7.6 Montereyx86_64R Under development (unstable) (2025-10-21 r88958) -- "Unsuffered Consequences" 4600
kjohnson3macOS 13.7.7 Venturaarm64R Under development (unstable) (2025-11-04 r88984) -- "Unsuffered Consequences" 4564
Click on any hostname to see more info about the system (e.g. compilers)      (*) as reported by 'uname -p', except on Windows and Mac OS X

Package 1401/2325HostnameOS / ArchINSTALLBUILDCHECKBUILD BIN
MultiRNAflow 1.9.0  (landing page)
Rodolphe Loubaton
Snapshot Date: 2025-11-18 13:40 -0500 (Tue, 18 Nov 2025)
git_url: https://git.bioconductor.org/packages/MultiRNAflow
git_branch: devel
git_last_commit: 3c2e28d
git_last_commit_date: 2025-10-29 11:24:54 -0500 (Wed, 29 Oct 2025)
nebbiolo1Linux (Ubuntu 24.04.3 LTS) / x86_64  OK    OK    OK  UNNEEDED, same version is already published
lconwaymacOS 12.7.6 Monterey / x86_64  OK    OK    OK    OK  NO, package depends on 'DESeq2' which is only available as a source package that needs compilation
kjohnson3macOS 13.7.7 Ventura / arm64  OK    OK    OK    OK  NO, package depends on 'DESeq2' which is only available as a source package that needs compilation


CHECK results for MultiRNAflow on lconway

To the developers/maintainers of the MultiRNAflow package:
- Allow up to 24 hours (and sometimes 48 hours) for your latest push to git@git.bioconductor.org:packages/MultiRNAflow.git to reflect on this report. See Troubleshooting Build Report for more information.
- Use the following Renviron settings to reproduce errors and warnings.
- If 'R CMD check' started to fail recently on the Linux builder(s) over a missing dependency, add the missing dependency to 'Suggests:' in your DESCRIPTION file. See Renviron.bioc for more information.

raw results


Summary

Package: MultiRNAflow
Version: 1.9.0
Command: /Library/Frameworks/R.framework/Resources/bin/R CMD check --install=check:MultiRNAflow.install-out.txt --library=/Library/Frameworks/R.framework/Resources/library --no-vignettes --timings MultiRNAflow_1.9.0.tar.gz
StartedAt: 2025-11-18 22:39:41 -0500 (Tue, 18 Nov 2025)
EndedAt: 2025-11-18 22:53:04 -0500 (Tue, 18 Nov 2025)
EllapsedTime: 803.1 seconds
RetCode: 0
Status:   OK  
CheckDir: MultiRNAflow.Rcheck
Warnings: 0

Command output

##############################################################################
##############################################################################
###
### Running command:
###
###   /Library/Frameworks/R.framework/Resources/bin/R CMD check --install=check:MultiRNAflow.install-out.txt --library=/Library/Frameworks/R.framework/Resources/library --no-vignettes --timings MultiRNAflow_1.9.0.tar.gz
###
##############################################################################
##############################################################################


* using log directory ‘/Users/biocbuild/bbs-3.23-bioc/meat/MultiRNAflow.Rcheck’
* using R Under development (unstable) (2025-10-21 r88958)
* using platform: x86_64-apple-darwin20
* R was compiled by
    Apple clang version 14.0.0 (clang-1400.0.29.202)
    GNU Fortran (GCC) 14.2.0
* running under: macOS Ventura 13.7.8
* using session charset: UTF-8
* using option ‘--no-vignettes’
* checking for file ‘MultiRNAflow/DESCRIPTION’ ... OK
* this is package ‘MultiRNAflow’ version ‘1.9.0’
* package encoding: UTF-8
* checking package namespace information ... OK
* checking package dependencies ... OK
* checking if this is a source package ... OK
* checking if there is a namespace ... OK
* checking for hidden files and directories ... OK
* checking for portable file names ... OK
* checking for sufficient/correct file permissions ... OK
* checking whether package ‘MultiRNAflow’ can be installed ... OK
* checking installed package size ... OK
* checking package directory ... OK
* checking ‘build’ directory ... OK
* checking DESCRIPTION meta-information ... OK
* checking top-level files ... OK
* checking for left-over files ... OK
* checking index information ... OK
* checking package subdirectories ... OK
* checking code files for non-ASCII characters ... OK
* checking R files for syntax errors ... OK
* checking whether the package can be loaded ... OK
* checking whether the package can be loaded with stated dependencies ... OK
* checking whether the package can be unloaded cleanly ... OK
* checking whether the namespace can be loaded with stated dependencies ... OK
* checking whether the namespace can be unloaded cleanly ... OK
* checking dependencies in R code ... OK
* checking S3 generic/method consistency ... OK
* checking replacement functions ... OK
* checking foreign function calls ... OK
* checking R code for possible problems ... OK
* checking Rd files ... OK
* checking Rd metadata ... OK
* checking Rd cross-references ... OK
* checking for missing documentation entries ... OK
* checking for code/documentation mismatches ... OK
* checking Rd \usage sections ... OK
* checking Rd contents ... OK
* checking for unstated dependencies in examples ... OK
* checking contents of ‘data’ directory ... OK
* checking data for non-ASCII characters ... OK
* checking data for ASCII and uncompressed saves ... OK
* checking sizes of PDF files under ‘inst/doc’ ... OK
* checking files in ‘vignettes’ ... OK
* checking examples ... OK
Examples with CPU (user + system) or elapsed time > 5s
                         user system elapsed
DEanalysisTimeAndGroup 15.565  3.247  19.043
DEplotHeatmaps         13.121  3.685  16.973
PCAanalysis            13.816  1.292  15.229
DEanalysisTime          8.027  1.702   9.790
PCAgraphics             6.889  0.674   7.610
DEresultGroupPerTime    5.541  1.723   7.361
GSEApreprocessing       5.112  1.482   6.674
DEplotVolcanoMA         4.714  1.249   6.004
DEanalysisGlobal        4.638  1.280   5.957
DEanalysisGroup         4.097  1.189   5.321
HCPCanalysis            4.300  0.743   5.099
* checking for unstated dependencies in ‘tests’ ... OK
* checking tests ...
  Running ‘testthat.R’
 OK
* checking for unstated dependencies in vignettes ... OK
* checking package vignettes ... OK
* checking running R code from vignettes ... SKIPPED
* checking re-building of vignette outputs ... SKIPPED
* checking PDF version of manual ... OK
* DONE

Status: OK


Installation output

MultiRNAflow.Rcheck/00install.out

##############################################################################
##############################################################################
###
### Running command:
###
###   /Library/Frameworks/R.framework/Resources/bin/R CMD INSTALL MultiRNAflow
###
##############################################################################
##############################################################################


* installing to library ‘/Library/Frameworks/R.framework/Versions/4.6-x86_64/Resources/library’
* installing *source* package ‘MultiRNAflow’ ...
** this is package ‘MultiRNAflow’ version ‘1.9.0’
** using staged installation
** R
** data
** inst
** byte-compile and prepare package for lazy loading
** help
*** installing help indices
** building package indices
** installing vignettes
** testing if installed package can be loaded from temporary location
** testing if installed package can be loaded from final location
** testing if installed package keeps a record of temporary installation path
* DONE (MultiRNAflow)

Tests output

MultiRNAflow.Rcheck/tests/testthat.Rout


R Under development (unstable) (2025-10-21 r88958) -- "Unsuffered Consequences"
Copyright (C) 2025 The R Foundation for Statistical Computing
Platform: x86_64-apple-darwin20

R is free software and comes with ABSOLUTELY NO WARRANTY.
You are welcome to redistribute it under certain conditions.
Type 'license()' or 'licence()' for distribution details.

R is a collaborative project with many contributors.
Type 'contributors()' for more information and
'citation()' on how to cite R or R packages in publications.

Type 'demo()' for some demos, 'help()' for on-line help, or
'help.start()' for an HTML browser interface to help.
Type 'q()' to quit R.

> # This file is part of the standard setup for testthat.
> # It is recommended that you do not modify it.
> #
> # Where should you do additional test configuration?
> # Learn more about the roles of various files in:
> # * https://r-pkgs.org/tests.html
> # * https://testthat.r-lib.org/reference/test_package.html#special-files
> 
> library(testthat)
> library(MultiRNAflow)
Loading required package: Mfuzz
Loading required package: Biobase
Loading required package: BiocGenerics
Loading required package: generics

Attaching package: 'generics'

The following objects are masked from 'package:base':

    as.difftime, as.factor, as.ordered, intersect, is.element, setdiff,
    setequal, union


Attaching package: 'BiocGenerics'

The following objects are masked from 'package:stats':

    IQR, mad, sd, var, xtabs

The following objects are masked from 'package:base':

    Filter, Find, Map, Position, Reduce, anyDuplicated, aperm, append,
    as.data.frame, basename, cbind, colnames, dirname, do.call,
    duplicated, eval, evalq, get, grep, grepl, is.unsorted, lapply,
    mapply, match, mget, order, paste, pmax, pmax.int, pmin, pmin.int,
    rank, rbind, rownames, sapply, saveRDS, table, tapply, unique,
    unsplit, which.max, which.min

Welcome to Bioconductor

    Vignettes contain introductory material; view with
    'browseVignettes()'. To cite Bioconductor, see
    'citation("Biobase")', and for packages 'citation("pkgname")'.

Loading required package: e1071

Attaching package: 'e1071'

The following object is masked from 'package:generics':

    interpolate


Attaching package: 'DynDoc'

The following object is masked from 'package:BiocGenerics':

    path

> 
> test_check("MultiRNAflow")
[1] "3 genes deleted."
converting counts to integer mode
converting counts to integer mode
converting counts to integer mode
converting counts to integer mode
converting counts to integer mode
converting counts to integer mode
[1] "3 genes deleted."
[1] "Preprocessing"
[1] "Differential expression step with DESeq2::DESeq()"
estimating size factors
estimating dispersions
gene-wise dispersion estimates
mean-dispersion relationship
final dispersion estimates
fitting model and testing
[1] "Case 1 analysis : Biological conditions only"
[1] "Preprocessing"
[1] "Differential expression step with DESeq2::DESeq()"
estimating size factors
estimating dispersions
gene-wise dispersion estimates
mean-dispersion relationship
final dispersion estimates
fitting model and testing
[1] "Case 2 analysis : Time only"
estimating size factors
estimating dispersions
gene-wise dispersion estimates
mean-dispersion relationship
final dispersion estimates
fitting model and testing
estimating size factors
estimating dispersions
gene-wise dispersion estimates
mean-dispersion relationship
final dispersion estimates
fitting model and testing
[1] "DE time analysis for each biological condition."
[1] "DE group analysis for each time measurement."
[1] "Combined time and group results."
[1] "DE time analysis for each biological condition."
[1] "DE group analysis for each time measurement."
[1] "Combined time and group results."
estimating size factors
estimating dispersions
gene-wise dispersion estimates
mean-dispersion relationship
final dispersion estimates
fitting model and testing
estimating size factors
estimating dispersions
gene-wise dispersion estimates
mean-dispersion relationship
final dispersion estimates
fitting model and testing
converting counts to integer mode
converting counts to integer mode
0 genes excluded.
0 genes excluded.
0 genes excluded.
0 genes excluded.
0 genes excluded.
0 genes excluded.
0 genes excluded.
0 genes excluded.
0 genes excluded.
0 genes excluded.
converting counts to integer mode
converting counts to integer mode
converting counts to integer mode
converting counts to integer mode
[ FAIL 0 | WARN 3 | SKIP 0 | PASS 324 ]

[ FAIL 0 | WARN 3 | SKIP 0 | PASS 324 ]
> 
> proc.time()
   user  system elapsed 
261.524  52.012 316.141 

Example timings

MultiRNAflow.Rcheck/MultiRNAflow-Ex.timings

nameusersystemelapsed
CharacterNumbers0.0000.0010.002
ColnamesToFactors0.0150.0040.020
DATAnormalization2.5090.4662.995
DATAplotBoxplotSamples1.3410.3831.732
DATAplotExpression1Gene1.2540.2601.531
DATAplotExpressionGenes2.1820.4372.642
DATAprepSE0.3650.1110.479
DEanalysisGlobal4.6381.2805.957
DEanalysisGroup4.0971.1895.321
DEanalysisSubData0.9600.2821.245
DEanalysisTime8.0271.7029.790
DEanalysisTimeAndGroup15.565 3.24719.043
DEplotAlluvial1.0430.1271.183
DEplotBarplot0.6310.0690.711
DEplotBarplotFacetGrid1.5090.1781.711
DEplotBarplotTime0.6640.0700.750
DEplotHeatmaps13.121 3.68516.973
DEplotVennBarplotGroup1.6670.1801.859
DEplotVennBarplotTime1.8120.1962.023
DEplotVolcanoMA4.7141.2496.004
DEresultGroup3.6301.1484.823
DEresultGroupPerTime5.5411.7237.361
GSEAQuickAnalysis0.3530.1160.478
GSEApreprocessing5.1121.4826.674
HCPCanalysis4.3000.7435.099
MFUZZanalysis2.9430.5293.499
MFUZZclustersNumber1.4430.3651.826
PCAanalysis13.816 1.29215.229
PCAgraphics6.8890.6747.610
PCApreprocessing0.9430.2811.230
PCArealization0.9710.3061.290
RawCountsSimulation0.0540.0350.089
RawCounts_Antoszewski2022_MOUSEsub5000.0040.0030.007
RawCounts_Leong2014_FISSIONsub500wt0.0050.0040.008
RawCounts_Schleiss2021_CLLsub5000.0100.0040.014
RawCounts_Weger2021_MOUSEsub5000.0160.0040.019
Results_DEanalysis_sub5000.1140.0070.121
Transcript_HomoSapiens_Database0.0940.0060.099