Back to Multiple platform build/check report for BioC 3.23:   simplified   long
ABCDEFGHIJKLMNOPQ[R]STUVWXYZ

This page was generated on 2025-11-27 11:39 -0500 (Thu, 27 Nov 2025).

HostnameOSArch (*)R versionInstalled pkgs
nebbiolo1Linux (Ubuntu 24.04.3 LTS)x86_64R Under development (unstable) (2025-10-20 r88955) -- "Unsuffered Consequences" 4865
lconwaymacOS 12.7.6 Montereyx86_64R Under development (unstable) (2025-10-21 r88958) -- "Unsuffered Consequences" 4614
kjohnson3macOS 13.7.7 Venturaarm64R Under development (unstable) (2025-11-04 r88984) -- "Unsuffered Consequences" 4571
Click on any hostname to see more info about the system (e.g. compilers)      (*) as reported by 'uname -p', except on Windows and Mac OS X

Package 1718/2328HostnameOS / ArchINSTALLBUILDCHECKBUILD BIN
RCy3 2.31.0  (landing page)
Alex Pico
Snapshot Date: 2025-11-26 13:40 -0500 (Wed, 26 Nov 2025)
git_url: https://git.bioconductor.org/packages/RCy3
git_branch: devel
git_last_commit: f7dcce5
git_last_commit_date: 2025-10-29 10:28:27 -0500 (Wed, 29 Oct 2025)
nebbiolo1Linux (Ubuntu 24.04.3 LTS) / x86_64  OK    OK    OK  UNNEEDED, same version is already published
lconwaymacOS 12.7.6 Monterey / x86_64  OK    OK    OK    OK  UNNEEDED, same version is already published
kjohnson3macOS 13.7.7 Ventura / arm64  OK    OK    OK    OK  UNNEEDED, same version is already published


CHECK results for RCy3 on lconway

To the developers/maintainers of the RCy3 package:
- Allow up to 24 hours (and sometimes 48 hours) for your latest push to git@git.bioconductor.org:packages/RCy3.git to reflect on this report. See Troubleshooting Build Report for more information.
- Use the following Renviron settings to reproduce errors and warnings.
- If 'R CMD check' started to fail recently on the Linux builder(s) over a missing dependency, add the missing dependency to 'Suggests:' in your DESCRIPTION file. See Renviron.bioc for more information.

raw results


Summary

Package: RCy3
Version: 2.31.0
Command: /Library/Frameworks/R.framework/Resources/bin/R CMD check --install=check:RCy3.install-out.txt --library=/Library/Frameworks/R.framework/Resources/library --no-vignettes --timings RCy3_2.31.0.tar.gz
StartedAt: 2025-11-26 23:31:32 -0500 (Wed, 26 Nov 2025)
EndedAt: 2025-11-26 23:33:16 -0500 (Wed, 26 Nov 2025)
EllapsedTime: 104.4 seconds
RetCode: 0
Status:   OK  
CheckDir: RCy3.Rcheck
Warnings: 0

Command output

##############################################################################
##############################################################################
###
### Running command:
###
###   /Library/Frameworks/R.framework/Resources/bin/R CMD check --install=check:RCy3.install-out.txt --library=/Library/Frameworks/R.framework/Resources/library --no-vignettes --timings RCy3_2.31.0.tar.gz
###
##############################################################################
##############################################################################


* using log directory ‘/Users/biocbuild/bbs-3.23-bioc/meat/RCy3.Rcheck’
* using R Under development (unstable) (2025-10-21 r88958)
* using platform: x86_64-apple-darwin20
* R was compiled by
    Apple clang version 14.0.0 (clang-1400.0.29.202)
    GNU Fortran (GCC) 14.2.0
* running under: macOS Ventura 13.7.8
* using session charset: UTF-8
* using option ‘--no-vignettes’
* checking for file ‘RCy3/DESCRIPTION’ ... OK
* checking extension type ... Package
* this is package ‘RCy3’ version ‘2.31.0’
* package encoding: UTF-8
* checking package namespace information ... OK
* checking package dependencies ... OK
* checking if this is a source package ... OK
* checking if there is a namespace ... OK
* checking for hidden files and directories ... NOTE
Found the following hidden files and directories:
  .travis.yml
These were most likely included in error. See section ‘Package
structure’ in the ‘Writing R Extensions’ manual.
* checking for portable file names ... OK
* checking for sufficient/correct file permissions ... OK
* checking whether package ‘RCy3’ can be installed ... OK
* checking installed package size ... OK
* checking package directory ... OK
* checking ‘build’ directory ... OK
* checking DESCRIPTION meta-information ... NOTE
License stub is invalid DCF.
* checking top-level files ... OK
* checking for left-over files ... OK
* checking index information ... OK
* checking package subdirectories ... OK
* checking code files for non-ASCII characters ... OK
* checking R files for syntax errors ... OK
* checking whether the package can be loaded ... OK
* checking whether the package can be loaded with stated dependencies ... OK
* checking whether the package can be unloaded cleanly ... OK
* checking whether the namespace can be loaded with stated dependencies ... OK
* checking whether the namespace can be unloaded cleanly ... OK
* checking dependencies in R code ... OK
* checking S3 generic/method consistency ... OK
* checking replacement functions ... OK
* checking foreign function calls ... OK
* checking R code for possible problems ... NOTE
.checkHexColor: no visible global function definition for ‘colors’
.edgeNameToEdgeSUID: no visible binding for global variable ‘SUID’
.nodeNameToNodeSUID: no visible binding for global variable ‘SUID’
createNetworkFromDataFrames: no visible binding for global variable
  ‘SUID’
Undefined global functions or variables:
  SUID colors
Consider adding
  importFrom("grDevices", "colors")
to your NAMESPACE file.
* checking Rd files ... NOTE
checkRd: (-1) importFileFromUrl.Rd:24: Lost braces; missing escapes or markup?
    24 | dict: {'filePath': <new file's absolute path in Cytoscape workstation>, 'fileByteCount': number of bytes read}
       |       ^
checkRd: (-1) sandboxGetFileInfo.Rd:17: Lost braces; missing escapes or markup?
    17 | dict: {'filePath': <full path on Cytoscape workstation>, 'modifiedTime': <last changed time, '' if file doesn't exist>, 'isFile': <True if file, False if directory>}
       |       ^
checkRd: (-1) sandboxRemove.Rd:15: Lost braces; missing escapes or markup?
    15 | dict: {'sandboxPath': <directory on Cytoscape workstation>, 'existed': <True if sandbox existed>}
       |       ^
checkRd: (-1) sandboxRemoveFile.Rd:17: Lost braces; missing escapes or markup?
    17 | dict: {'filePath': <file's absolute path in Cytoscape workstation>, 'existed': True if file existed before being deleted}
       |       ^
checkRd: (-1) sandboxUrlTo.Rd:27: Lost braces; missing escapes or markup?
    27 | dict: {'filePath': <new file's absolute path in Cytoscape workstation>, 'fileByteCount': number of bytes read}
       |       ^
* checking Rd metadata ... OK
* checking Rd cross-references ... OK
* checking for missing documentation entries ... OK
* checking for code/documentation mismatches ... OK
* checking Rd \usage sections ... OK
* checking Rd contents ... OK
* checking for unstated dependencies in examples ... OK
* checking files in ‘vignettes’ ... OK
* checking examples ... OK
* checking for unstated dependencies in ‘tests’ ... OK
* checking tests ...
  Running ‘runTests.R’
 OK
* checking for unstated dependencies in vignettes ... OK
* checking package vignettes ... OK
* checking running R code from vignettes ... SKIPPED
* checking re-building of vignette outputs ... SKIPPED
* checking PDF version of manual ... OK
* DONE

Status: 4 NOTEs
See
  ‘/Users/biocbuild/bbs-3.23-bioc/meat/RCy3.Rcheck/00check.log’
for details.


Installation output

RCy3.Rcheck/00install.out

##############################################################################
##############################################################################
###
### Running command:
###
###   /Library/Frameworks/R.framework/Resources/bin/R CMD INSTALL RCy3
###
##############################################################################
##############################################################################


* installing to library ‘/Library/Frameworks/R.framework/Versions/4.6-x86_64/Resources/library’
* installing *source* package ‘RCy3’ ...
** this is package ‘RCy3’ version ‘2.31.0’
** using staged installation
** R
** inst
** byte-compile and prepare package for lazy loading
** help
*** installing help indices
** building package indices
** installing vignettes
** testing if installed package can be loaded from temporary location
** testing if installed package can be loaded from final location
** testing if installed package keeps a record of temporary installation path
* DONE (RCy3)

Tests output

RCy3.Rcheck/tests/runTests.Rout


R Under development (unstable) (2025-10-21 r88958) -- "Unsuffered Consequences"
Copyright (C) 2025 The R Foundation for Statistical Computing
Platform: x86_64-apple-darwin20

R is free software and comes with ABSOLUTELY NO WARRANTY.
You are welcome to redistribute it under certain conditions.
Type 'license()' or 'licence()' for distribution details.

R is a collaborative project with many contributors.
Type 'contributors()' for more information and
'citation()' on how to cite R or R packages in publications.

Type 'demo()' for some demos, 'help()' for on-line help, or
'help.start()' for an HTML browser interface to help.
Type 'q()' to quit R.

> # tests disabled as the Bioconductor build system no longer supports interactive sessions
> #require(RCy3) || stop("unable to load RCy3")
> #BiocGenerics:::testPackage('RCy3')
> 
> proc.time()
   user  system elapsed 
  0.202   0.084   0.299 

Example timings

RCy3.Rcheck/RCy3-Ex.timings

nameusersystemelapsed
AddToGroup0.0000.0000.001
RemoveFromGroup000
UpdateAnnotationBoundedText000
addAnnotationBoundedText000
addAnnotationImage0.0000.0010.000
addAnnotationShape000
addAnnotationText000
addCyEdges000
addCyNodes000
analyzeNetwork000
applyFilter000
bundleEdges000
checkNotebookIsRunning000
checkRunningRemote000
clearEdgeBends000
clearEdgePropertyBypass000
clearNetworkCenterBypass000
clearNetworkPropertyBypass000
clearNetworkZoomBypass000
clearNodeOpacityBypass000
clearNodePropertyBypass000
clearSelection000
cloneNetwork000
closeSession000
collapseGroup000
commandEcho000
commandOpenDialog000
commandPause000
commandQuit000
commandRunFile000
commandSleep000
commandsAPI000
commandsGET000
commandsHelp000
commandsPOST000
commandsRun000
copyVisualStyle000
createColumnFilter000
createCompositeFilter000
createCytoscapejsFromNetwork000
createDegreeFilter000
createGraphFromNetwork000
createGroup0.0000.0000.001
createGroupByColumn000
createIgraphFromNetwork000
createNetworkFromCytoscapejs000
createNetworkFromDataFrames0.0010.0000.000
createNetworkFromGraph000
createNetworkFromIgraph000
createSubnetwork000
createView000
createVisualStyle000
cybrowserClose0.0000.0010.000
cybrowserDialog000
cybrowserHide0.0000.0010.000
cybrowserList0.0010.0000.000
cybrowserSend0.0000.0010.000
cybrowserShow0.0000.0000.001
cybrowserVersion000
cyrestAPI000
cyrestDELETE000
cyrestGET000
cyrestPOST000
cyrestPUT000
cytoscapeApiVersions000
cytoscapeFreeMemory000
cytoscapeMemoryStatus0.0010.0000.000
cytoscapeNumberOfCores000
cytoscapePing000
cytoscapeVersionInfo000
deleteAllNetworks0.0010.0000.000
deleteAllVisualStyle000
deleteAnnotation000
deleteDuplicateEdges000
deleteGroup000
deleteNetwork000
deleteSelectedEdges000
deleteSelectedNodes000
deleteSelfLoops000
deleteStyleMapping000
deleteTableColumn000
deleteVisualStyle000
diffusionAdvanced000
diffusionBasic0.0000.0000.001
disableApp0.0000.0010.000
doInitializeSandbox000
doRequestRemote0.0000.0010.000
doSetSandbox000
dockPanel000
dot-exportShowImage000
dot-getDefaultSandbox0.0010.0000.000
dot-getRequester0.0000.0010.001
enableApp000
expandGroup000
exportFilters0.0000.0000.001
exportImage0.0000.0010.000
exportJPG0.0010.0000.000
exportNetwork000
exportNetworkToNDEx000
exportPDF0.0000.0010.000
exportPNG000
exportPS000
exportSVG000
exportVisualStyles0.0010.0000.000
findRemoteCytoscape000
fitContent000
floatPanel000
getAbsSandboxPath000
getAllEdges000
getAllNodes000
getAllStyleMappings0.0010.0000.001
getAnnotationList000
getAppInformation000
getAppStatus000
getAppUpdates000
getArrowShapes0.0000.0010.000
getAvailableApps000
getBackgroundColorDefault000
getBrowserClientChannel000
getBrowserClientJs000
getCollectionList0.0000.0000.001
getCollectionName000
getCollectionNetworks000
getCollectionSuid000
getCurrentSandbox0.0000.0010.000
getCurrentSandboxName000
getCurrentSandboxPath000
getCurrentStyle0.0010.0000.000
getDefaultSandbox000
getDefaultSandboxPath0.0010.0000.000
getDisabledApps000
getEdgeColor000
getEdgeCount0.0000.0000.001
getEdgeInfo000
getEdgeLineStyle000
getEdgeLineWidth000
getEdgeProperty000
getEdgeSelectionColorDefault000
getEdgeTargetArrowShape000
getFilterList000
getFirstNeighbors000
getGroupInfo000
getInstalledApps0.0000.0010.000
getJupyterBridgeURL000
getLayoutNameMapping000
getLayoutNames000
getLayoutPropertyNames000
getLayoutPropertyType000
getLayoutPropertyValue000
getLineStyles000
getNetworkCenter000
getNetworkCount000
getNetworkList000
getNetworkNDExId000
getNetworkName0.0000.0010.000
getNetworkProperty0.0000.0000.001
getNetworkSuid000
getNetworkViewSuid000
getNetworkViews0.0000.0010.001
getNetworkZoom000
getNodeColor000
getNodeCount000
getNodeHeight000
getNodeLabelPosition000
getNodeLabelPositionDefault000
getNodePosition000
getNodeProperty000
getNodeSelectionColorDefault000
getNodeShapes000
getNodeSize000
getNodeWidth000
getNotebookIsRunning0.0000.0000.001
getSandboxReinitialize000
getSelectedEdgeCount000
getSelectedEdges000
getSelectedNodeCount000
getSelectedNodes0.0000.0000.001
getStyleDependencies000
getStyleMapping000
getTableColumnNames000
getTableColumnTypes000
getTableColumns000
getTableValue0.0000.0000.001
getUninstalledApps000
getVisualPropertyDefault000
getVisualPropertyNames000
getVisualStyleJSON000
getVisualStyleNames000
groupAnnotation000
hideAllPanels000
hideEdges0.0000.0000.001
hideNodes000
hidePanel000
hideSelectedEdges0.0000.0010.000
hideSelectedNodes000
importFileFromUrl000
importFilters0.0000.0010.000
importNetworkFromFile000
importNetworkFromNDEx000
importVisualStyles000
installApp0.0000.0000.001
invertEdgeSelection0.0000.0000.001
invertNodeSelection000
layoutCopycat000
layoutNetwork000
listGroups000
lockNodeDimensions000
makeSimpleGraph0.0650.0010.066
makeSimpleIgraph0.0730.0070.081
mapTableColumn000
mapVisualProperty0.0000.0010.001
matchArrowColorToEdge000
mergeNetworks0.0000.0010.000
notebookExportShowImage0.0000.0000.001
notebookShowImage0.0000.0000.001
openAppStore0.0000.0000.001
openSession000
paletteColorBrewerAccent0.0040.0000.006
paletteColorBrewerBlues000
paletteColorBrewerBrBG0.0010.0000.000
paletteColorBrewerBuGn0.0000.0010.001
paletteColorBrewerBuPu000
paletteColorBrewerDark2000
paletteColorBrewerGnBu0.0010.0000.000
paletteColorBrewerGreens000
paletteColorBrewerGreys0.0010.0000.000
paletteColorBrewerOrRd000
paletteColorBrewerOranges000
paletteColorBrewerPRGn000
paletteColorBrewerPaired0.0010.0000.000
paletteColorBrewerPastel1000
paletteColorBrewerPastel20.0010.0000.001
paletteColorBrewerPiYG0.0000.0000.001
paletteColorBrewerPuBu000
paletteColorBrewerPuBuGn000
paletteColorBrewerPuOr0.0010.0000.000
paletteColorBrewerPuRd000
paletteColorBrewerPurples000
paletteColorBrewerRdBu000
paletteColorBrewerRdPu000
paletteColorBrewerRdYlBu000
paletteColorBrewerReds000
paletteColorBrewerSet10.0000.0000.001
paletteColorBrewerSet20.0010.0000.000
paletteColorBrewerSet30.0000.0010.000
paletteColorBrewerYlGn000
paletteColorBrewerYlGnBu000
paletteColorBrewerYlOrBr000
paletteColorBrewerYlOrRd000
paletteColorRandom000
paletteColorVirdis0.0010.0010.000
removeNodeCustomGraphics000
renameNetwork000
renameTableColumn000
resetDefaultSandbox000
rotateLayout000
runningRemoteCheck000
sandboxGetFileInfo000
sandboxGetFrom000
sandboxInitializer000
sandboxRemove000
sandboxRemoveFile0.0000.0000.001
sandboxSendTo0.0010.0000.000
sandboxSet000
sandboxUrlTo000
saveSession000
scaleLayout0.0000.0010.000
selectAll0.0000.0000.001
selectAllEdges000
selectAllNodes000
selectEdges000
selectEdgesAdjacentToNodes000
selectEdgesAdjacentToSelectedNodes000
selectEdgesConnectingSelectedNodes000
selectFirstNeighbors000
selectNodes000
selectNodesConnectedBySelectedEdges0.0010.0000.001
setBackgroundColorDefault0.0000.0000.001
setCatchupFilterSecs000
setCatchupNetworkSecs0.0010.0000.001
setCollectionName0.0000.0000.001
setCurrentNetwork000
setCurrentSandbox0.0010.0000.000
setCurrentView0.0000.0010.000
setDefaultSandbox000
setDefaultSandboxPath000
setEdgeColorBypass0.0010.0000.000
setEdgeColorDefault000
setEdgeColorMapping000
setEdgeFontFaceBypass000
setEdgeFontFaceDefault000
setEdgeFontFaceMapping000
setEdgeFontSizeBypass000
setEdgeFontSizeDefault000
setEdgeFontSizeMapping0.0000.0000.001
setEdgeLabelBypass000
setEdgeLabelColorBypass000
setEdgeLabelColorDefault000
setEdgeLabelColorMapping000
setEdgeLabelDefault0.0000.0000.001
setEdgeLabelMapping0.0000.0000.001
setEdgeLabelOpacityBypass0.0000.0000.001
setEdgeLabelOpacityDefault000
setEdgeLabelOpacityMapping000
setEdgeLineStyleBypass000
setEdgeLineStyleDefault000
setEdgeLineStyleMapping000
setEdgeLineWidthBypass0.0000.0010.001
setEdgeLineWidthDefault0.0010.0000.000
setEdgeLineWidthMapping0.0000.0010.001
setEdgeOpacityBypass000
setEdgeOpacityDefault000
setEdgeOpacityMapping000
setEdgePropertyBypass0.0000.0010.000
setEdgeSelectionColorDefault000
setEdgeSourceArrowColorBypass0.0000.0010.000
setEdgeSourceArrowColorDefault000
setEdgeSourceArrowColorMapping0.0000.0010.000
setEdgeSourceArrowMapping000
setEdgeSourceArrowShapeBypass000
setEdgeSourceArrowShapeDefault000
setEdgeSourceArrowShapeMapping000
setEdgeTargetArrowColorBypass0.0000.0000.001
setEdgeTargetArrowColorDefault000
setEdgeTargetArrowColorMapping000
setEdgeTargetArrowMapping0.0000.0000.001
setEdgeTargetArrowShapeBypass000
setEdgeTargetArrowShapeDefault000
setEdgeTargetArrowShapeMapping000
setEdgeTooltipBypass000
setEdgeTooltipDefault0.0010.0000.000
setEdgeTooltipMapping000
setLayoutProperties000
setModelPropagationSecs0.0000.0010.000
setNetworkCenterBypass000
setNetworkPropertyBypass000
setNetworkZoomBypass0.0000.0000.001
setNodeBorderColorBypass000
setNodeBorderColorDefault000
setNodeBorderColorMapping000
setNodeBorderOpacityBypass000
setNodeBorderOpacityDefault000
setNodeBorderOpacityMapping000
setNodeBorderWidthBypass000
setNodeBorderWidthDefault000
setNodeBorderWidthMapping0.0010.0000.000
setNodeColorBypass000
setNodeColorDefault000
setNodeColorMapping0.0000.0000.001
setNodeComboOpacityMapping0.0000.0000.001
setNodeCustomBarChart000
setNodeCustomBoxChart0.0010.0000.000
setNodeCustomHeatMapChart000
setNodeCustomLineChart0.0000.0000.001
setNodeCustomLinearGradient000
setNodeCustomPieChart000
setNodeCustomPosition000
setNodeCustomRadialGradient000
setNodeCustomRingChart000
setNodeFillOpacityBypass000
setNodeFillOpacityDefault000
setNodeFillOpacityMapping0.0000.0000.001
setNodeFontFaceBypass000
setNodeFontFaceDefault000
setNodeFontFaceMapping000
setNodeFontSizeBypass000
setNodeFontSizeDefault0.0000.0000.001
setNodeFontSizeMapping0.0010.0000.000
setNodeHeightBypass000
setNodeHeightDefault0.0010.0000.000
setNodeHeightMapping000
setNodeLabelBypass000
setNodeLabelColorBypass000
setNodeLabelColorDefault0.0000.0000.001
setNodeLabelColorMapping000
setNodeLabelDefault000
setNodeLabelMapping0.0010.0000.000
setNodeLabelOpacityBypass000
setNodeLabelOpacityDefault000
setNodeLabelOpacityMapping000
setNodeLabelPositionBypass000
setNodeLabelPositionDefault000
setNodeOpacityBypass000
setNodePositionBypass0.0010.0000.000
setNodePropertyBypass0.0000.0000.001
setNodeSelectionColorDefault0.0000.0010.000
setNodeShapeBypass000
setNodeShapeDefault000
setNodeShapeMapping000
setNodeSizeBypass0.0000.0000.001
setNodeSizeDefault000
setNodeSizeMapping000
setNodeTooltipBypass000
setNodeTooltipDefault000
setNodeTooltipMapping000
setNodeWidthBypass0.0000.0010.000
setNodeWidthDefault000
setNodeWidthMapping0.0000.0000.001
setNotebookIsRunning0.0000.0000.001
setSandboxReinitialize000
setStyleDependencies000
setVisualPropertyDefault000
setVisualStyle000
syncNodeCustomGraphicsSize0.0000.0010.000
toggleGraphicsDetails000
ungroupAnnotation0.0000.0010.000
unhideAll000
unhideEdges0.0000.0010.000
unhideNodes000
uninstallApp0.0000.0010.000
updateAnnotationImage000
updateAnnotationShape0.0000.0010.001
updateAnnotationText0.0000.0000.001
updateApp000
updateGroupAnnotation0.0000.0000.001
updateNetworkInNDEx0.0010.0000.000
updateStyleDefaults000
updateStyleMapping0.0010.0000.000