Back to Multiple platform build/check report for BioC 3.23:   simplified   long
ABCDEFGHIJKLMNOPQ[R]STUVWXYZ

This page was generated on 2025-11-19 10:12 -0500 (Wed, 19 Nov 2025).

HostnameOSArch (*)R versionInstalled pkgs
nebbiolo1Linux (Ubuntu 24.04.3 LTS)x86_64R Under development (unstable) (2025-10-20 r88955) -- "Unsuffered Consequences" 4827
lconwaymacOS 12.7.6 Montereyx86_64R Under development (unstable) (2025-10-21 r88958) -- "Unsuffered Consequences" 4600
kjohnson3macOS 13.7.7 Venturaarm64R Under development (unstable) (2025-11-04 r88984) -- "Unsuffered Consequences" 4564
Click on any hostname to see more info about the system (e.g. compilers)      (*) as reported by 'uname -p', except on Windows and Mac OS X

Package 1746/2325HostnameOS / ArchINSTALLBUILDCHECKBUILD BIN
RESOLVE 1.13.0  (landing page)
Luca De Sano
Snapshot Date: 2025-11-18 13:40 -0500 (Tue, 18 Nov 2025)
git_url: https://git.bioconductor.org/packages/RESOLVE
git_branch: devel
git_last_commit: 60de66e
git_last_commit_date: 2025-10-29 11:19:27 -0500 (Wed, 29 Oct 2025)
nebbiolo1Linux (Ubuntu 24.04.3 LTS) / x86_64  OK    OK    OK  NO, package depends on 'MutationalPatterns' which is not available
lconwaymacOS 12.7.6 Monterey / x86_64  OK    OK    OK    OK  NO, package depends on 'GenomicRanges' which is only available as a source package that needs compilation
kjohnson3macOS 13.7.7 Ventura / arm64  OK    OK    OK    OK  NO, package depends on 'GenomicRanges' which is only available as a source package that needs compilation


CHECK results for RESOLVE on nebbiolo1

To the developers/maintainers of the RESOLVE package:
- Allow up to 24 hours (and sometimes 48 hours) for your latest push to git@git.bioconductor.org:packages/RESOLVE.git to reflect on this report. See Troubleshooting Build Report for more information.
- Use the following Renviron settings to reproduce errors and warnings.
- If 'R CMD check' started to fail recently on the Linux builder(s) over a missing dependency, add the missing dependency to 'Suggests:' in your DESCRIPTION file. See Renviron.bioc for more information.

raw results


Summary

Package: RESOLVE
Version: 1.13.0
Command: /home/biocbuild/bbs-3.23-bioc/R/bin/R CMD check --install=check:RESOLVE.install-out.txt --library=/home/biocbuild/bbs-3.23-bioc/R/site-library --timings RESOLVE_1.13.0.tar.gz
StartedAt: 2025-11-19 03:59:27 -0500 (Wed, 19 Nov 2025)
EndedAt: 2025-11-19 04:14:29 -0500 (Wed, 19 Nov 2025)
EllapsedTime: 901.7 seconds
RetCode: 0
Status:   OK  
CheckDir: RESOLVE.Rcheck
Warnings: 0

Command output

##############################################################################
##############################################################################
###
### Running command:
###
###   /home/biocbuild/bbs-3.23-bioc/R/bin/R CMD check --install=check:RESOLVE.install-out.txt --library=/home/biocbuild/bbs-3.23-bioc/R/site-library --timings RESOLVE_1.13.0.tar.gz
###
##############################################################################
##############################################################################


* using log directory ‘/home/biocbuild/bbs-3.23-bioc/meat/RESOLVE.Rcheck’
* using R Under development (unstable) (2025-10-20 r88955)
* using platform: x86_64-pc-linux-gnu
* R was compiled by
    gcc (Ubuntu 13.3.0-6ubuntu2~24.04) 13.3.0
    GNU Fortran (Ubuntu 13.3.0-6ubuntu2~24.04) 13.3.0
* running under: Ubuntu 24.04.3 LTS
* using session charset: UTF-8
* checking for file ‘RESOLVE/DESCRIPTION’ ... OK
* this is package ‘RESOLVE’ version ‘1.13.0’
* package encoding: UTF-8
* checking package namespace information ... OK
* checking package dependencies ... OK
* checking if this is a source package ... OK
* checking if there is a namespace ... OK
* checking for hidden files and directories ... OK
* checking for portable file names ... OK
* checking for sufficient/correct file permissions ... OK
* checking whether package ‘RESOLVE’ can be installed ... OK
* checking installed package size ... OK
* checking package directory ... OK
* checking ‘build’ directory ... OK
* checking DESCRIPTION meta-information ... OK
* checking top-level files ... OK
* checking for left-over files ... OK
* checking index information ... OK
* checking package subdirectories ... OK
* checking code files for non-ASCII characters ... OK
* checking R files for syntax errors ... OK
* checking whether the package can be loaded ... OK
* checking whether the package can be loaded with stated dependencies ... OK
* checking whether the package can be unloaded cleanly ... OK
* checking whether the namespace can be loaded with stated dependencies ... OK
* checking whether the namespace can be unloaded cleanly ... OK
* checking loading without being on the library search path ... OK
* checking dependencies in R code ... OK
* checking S3 generic/method consistency ... OK
* checking replacement functions ... OK
* checking foreign function calls ... OK
* checking R code for possible problems ... OK
* checking Rd files ... OK
* checking Rd metadata ... OK
* checking Rd cross-references ... OK
* checking for missing documentation entries ... OK
* checking for code/documentation mismatches ... OK
* checking Rd \usage sections ... OK
* checking Rd contents ... OK
* checking for unstated dependencies in examples ... OK
* checking contents of ‘data’ directory ... OK
* checking data for non-ASCII characters ... OK
* checking data for ASCII and uncompressed saves ... OK
* checking files in ‘vignettes’ ... OK
* checking examples ... OK
Examples with CPU (user + system) or elapsed time > 5s
                           user system elapsed
signaturesSignificance  131.299  0.457 131.757
signaturesCV            104.029  0.461 104.496
signaturesDecomposition  74.440  0.281  74.728
signaturesAssignment     42.284  0.315  42.610
getMNVCounts             13.836  0.259  14.095
signaturesClustering      9.962  0.129  10.092
getIDCounts               5.527  0.379   6.090
groupsIDPlot              5.695  0.182   5.878
* checking for unstated dependencies in ‘tests’ ... OK
* checking tests ...
  Running ‘testthat.R’
 OK
* checking for unstated dependencies in vignettes ... OK
* checking package vignettes ... OK
* checking re-building of vignette outputs ... OK
* checking PDF version of manual ... OK
* DONE

Status: OK


Installation output

RESOLVE.Rcheck/00install.out

##############################################################################
##############################################################################
###
### Running command:
###
###   /home/biocbuild/bbs-3.23-bioc/R/bin/R CMD INSTALL RESOLVE
###
##############################################################################
##############################################################################


* installing to library ‘/home/biocbuild/bbs-3.23-bioc/R/site-library’
* installing *source* package ‘RESOLVE’ ...
** this is package ‘RESOLVE’ version ‘1.13.0’
** using staged installation
** R
** data
** inst
** byte-compile and prepare package for lazy loading
** help
*** installing help indices
** building package indices
** installing vignettes
** testing if installed package can be loaded from temporary location
** testing if installed package can be loaded from final location
** testing if installed package keeps a record of temporary installation path
* DONE (RESOLVE)

Tests output

RESOLVE.Rcheck/tests/testthat.Rout


R Under development (unstable) (2025-10-20 r88955) -- "Unsuffered Consequences"
Copyright (C) 2025 The R Foundation for Statistical Computing
Platform: x86_64-pc-linux-gnu

R is free software and comes with ABSOLUTELY NO WARRANTY.
You are welcome to redistribute it under certain conditions.
Type 'license()' or 'licence()' for distribution details.

R is a collaborative project with many contributors.
Type 'contributors()' for more information and
'citation()' on how to cite R or R packages in publications.

Type 'demo()' for some demos, 'help()' for on-line help, or
'help.start()' for an HTML browser interface to help.
Type 'q()' to quit R.

> Sys.setenv("R_TESTS" = "")
> 
> library("testthat")
> library("RESOLVE")
> 
> test_check("RESOLVE")
[ FAIL 0 | WARN 200 | SKIP 0 | PASS 6 ]

[ FAIL 0 | WARN 200 | SKIP 0 | PASS 6 ]
> 
> proc.time()
   user  system elapsed 
189.112   2.889 192.007 

Example timings

RESOLVE.Rcheck/RESOLVE-Ex.timings

nameusersystemelapsed
associationAlterations0.7360.0100.746
associationPrognosis0.1480.0000.149
associationSignatures1.1960.0021.198
getCNCounts0.0110.0010.013
getIDCounts5.5270.3796.090
getMNVCounts13.836 0.25914.095
getSBSCounts1.1370.5243.575
groupsCNPlot3.3240.0183.341
groupsCXPlot2.0360.0452.082
groupsIDPlot5.6950.1825.878
groupsMNVPlot3.9620.0404.002
groupsSBSPlot3.5950.0243.619
patientsCNPlot1.7360.0041.740
patientsCXPlot0.8290.0000.829
patientsIDPlot2.7240.0212.745
patientsMNVPlot1.7850.0001.785
patientsSBSPlot1.1530.0031.155
signaturesAssignment42.284 0.31542.610
signaturesCNPlot2.6750.0222.697
signaturesCV104.029 0.461104.496
signaturesCXPlot1.2960.0181.314
signaturesClustering 9.962 0.12910.092
signaturesDecomposition74.440 0.28174.728
signaturesIDPlot3.8980.0273.925
signaturesMNVPlot2.6500.0042.653
signaturesSBSPlot1.7330.0011.735
signaturesSignificance131.299 0.457131.757